Back to Multiple platform build/check report for BioC 3.14
ABCDEFGHIJKLMNOPQR[S]TUVWXYZ

This page was generated on 2022-01-14 13:05:49 -0500 (Fri, 14 Jan 2022).

HostnameOSArch (*)R versionInstalled pkgs
nebbiolo2Linux (Ubuntu 20.04.4 LTS)x86_644.1.2 (2021-11-01) -- "Bird Hippie" 4327
tokay2Windows Server 2012 R2 Standardx644.1.2 (2021-11-01) -- "Bird Hippie" 4076
machv2macOS 10.14.6 Mojavex86_644.1.2 (2021-11-01) -- "Bird Hippie" 4137
Click on any hostname to see more info about the system (e.g. compilers)      (*) as reported by 'uname -p', except on Windows and Mac OS X

CHECK results for splineTimeR on nebbiolo2


To the developers/maintainers of the splineTimeR package:
- Please allow up to 24 hours (and sometimes 48 hours) for your latest push to git@git.bioconductor.org:packages/splineTimeR.git to
reflect on this report. See How and When does the builder pull? When will my changes propagate? here for more information.
- Make sure to use the following settings in order to reproduce any error or warning you see on this page.

raw results

Package 1864/2083HostnameOS / ArchINSTALLBUILDCHECKBUILD BIN
splineTimeR 1.22.0  (landing page)
Herbert Braselmann , Martin Selmansberger
Snapshot Date: 2022-01-13 01:55:04 -0500 (Thu, 13 Jan 2022)
git_url: https://git.bioconductor.org/packages/splineTimeR
git_branch: RELEASE_3_14
git_last_commit: 5bd9ea9
git_last_commit_date: 2021-10-26 12:24:25 -0500 (Tue, 26 Oct 2021)
nebbiolo2Linux (Ubuntu 20.04.4 LTS) / x86_64  OK    OK    OK  UNNEEDED, same version is already published
tokay2Windows Server 2012 R2 Standard / x64  OK    OK    OK    OK  UNNEEDED, same version is already published
machv2macOS 10.14.6 Mojave / x86_64  OK    OK    OK    OK  UNNEEDED, same version is already published

Summary

Package: splineTimeR
Version: 1.22.0
Command: /home/biocbuild/bbs-3.14-bioc/R/bin/R CMD check --install=check:splineTimeR.install-out.txt --library=/home/biocbuild/bbs-3.14-bioc/R/library --no-vignettes --timings splineTimeR_1.22.0.tar.gz
StartedAt: 2022-01-13 09:45:37 -0500 (Thu, 13 Jan 2022)
EndedAt: 2022-01-13 09:47:53 -0500 (Thu, 13 Jan 2022)
EllapsedTime: 135.9 seconds
RetCode: 0
Status:   OK  
CheckDir: splineTimeR.Rcheck
Warnings: 0

Command output

##############################################################################
##############################################################################
###
### Running command:
###
###   /home/biocbuild/bbs-3.14-bioc/R/bin/R CMD check --install=check:splineTimeR.install-out.txt --library=/home/biocbuild/bbs-3.14-bioc/R/library --no-vignettes --timings splineTimeR_1.22.0.tar.gz
###
##############################################################################
##############################################################################


* using log directory ‘/home/biocbuild/bbs-3.14-bioc/meat/splineTimeR.Rcheck’
* using R version 4.1.2 (2021-11-01)
* using platform: x86_64-pc-linux-gnu (64-bit)
* using session charset: UTF-8
* using option ‘--no-vignettes’
* checking for file ‘splineTimeR/DESCRIPTION’ ... OK
* checking extension type ... Package
* this is package ‘splineTimeR’ version ‘1.22.0’
* checking package namespace information ... OK
* checking package dependencies ... NOTE
Depends: includes the non-default packages:
  'Biobase', 'igraph', 'limma', 'GSEABase', 'gtools', 'splines',
  'GeneNet', 'longitudinal', 'FIs'
Adding so many packages to the search path is excessive and importing
selectively is preferable.
* checking if this is a source package ... OK
* checking if there is a namespace ... OK
* checking for hidden files and directories ... OK
* checking for portable file names ... OK
* checking for sufficient/correct file permissions ... OK
* checking whether package ‘splineTimeR’ can be installed ... OK
* checking installed package size ... OK
* checking package directory ... OK
* checking ‘build’ directory ... OK
* checking DESCRIPTION meta-information ... OK
* checking top-level files ... OK
* checking for left-over files ... OK
* checking index information ... OK
* checking package subdirectories ... OK
* checking R files for non-ASCII characters ... OK
* checking R files for syntax errors ... OK
* checking whether the package can be loaded ... OK
* checking whether the package can be loaded with stated dependencies ... OK
* checking whether the package can be unloaded cleanly ... OK
* checking whether the namespace can be loaded with stated dependencies ... OK
* checking whether the namespace can be unloaded cleanly ... OK
* checking dependencies in R code ... OK
* checking S3 generic/method consistency ... OK
* checking replacement functions ... OK
* checking foreign function calls ... OK
* checking R code for possible problems ... NOTE
networkProperties: no visible global function definition for ‘is’
networkProperties: no visible global function definition for ‘data’
networkProperties: no visible binding for global variable ‘FIs’
networkProperties: no visible global function definition for ‘pdf’
networkProperties: no visible global function definition for ‘par’
networkProperties: no visible global function definition for ‘ecdf’
networkProperties: no visible global function definition for ‘hist’
networkProperties: no visible global function definition for ‘dev.off’
networkProperties: no visible global function definition for ‘lm’
networkProperties: no visible global function definition for ‘abline’
networkProperties: no visible global function definition for ‘legend’
networkProperties: no visible global function definition for ‘axis’
pathEnrich: no visible global function definition for ‘is’
pathEnrich: no visible global function definition for ‘p.adjust’
pathEnrich: no visible global function definition for ‘write.table’
splineDiffExprs: no visible global function definition for ‘is’
splineDiffExprs: no visible global function definition for
  ‘model.matrix’
splineNetRecon: no visible global function definition for ‘is’
splinePlot: no visible global function definition for ‘is’
splinePlot: no visible global function definition for ‘model.matrix’
splinePlot: no visible global function definition for ‘predict’
splinePlot: no visible global function definition for ‘pdf’
splinePlot: no visible global function definition for ‘points’
splinePlot: no visible global function definition for ‘legend’
splinePlot: no visible global function definition for ‘lines’
splinePlot: no visible global function definition for ‘dev.off’
Undefined global functions or variables:
  FIs abline axis data dev.off ecdf hist is legend lines lm
  model.matrix p.adjust par pdf points predict write.table
Consider adding
  importFrom("grDevices", "dev.off", "pdf")
  importFrom("graphics", "abline", "axis", "hist", "legend", "lines",
             "par", "points")
  importFrom("methods", "is")
  importFrom("stats", "ecdf", "lm", "model.matrix", "p.adjust",
             "predict")
  importFrom("utils", "data", "write.table")
to your NAMESPACE file (and ensure that your DESCRIPTION Imports field
contains 'methods').
* checking Rd files ... OK
* checking Rd metadata ... OK
* checking Rd cross-references ... OK
* checking for missing documentation entries ... OK
* checking for code/documentation mismatches ... OK
* checking Rd \usage sections ... OK
* checking Rd contents ... OK
* checking for unstated dependencies in examples ... OK
* checking contents of ‘data’ directory ... OK
* checking data for non-ASCII characters ... OK
* checking data for ASCII and uncompressed saves ... OK
* checking files in ‘vignettes’ ... OK
* checking examples ... OK
Examples with CPU (user + system) or elapsed time > 5s
                    user system elapsed
networkProperties 18.284  0.624  18.909
splineNetRecon    14.232  0.240  14.471
* checking for unstated dependencies in vignettes ... OK
* checking package vignettes in ‘inst/doc’ ... OK
* checking running R code from vignettes ... SKIPPED
* checking re-building of vignette outputs ... SKIPPED
* checking PDF version of manual ... OK
* DONE

Status: 2 NOTEs
See
  ‘/home/biocbuild/bbs-3.14-bioc/meat/splineTimeR.Rcheck/00check.log’
for details.



Installation output

splineTimeR.Rcheck/00install.out

##############################################################################
##############################################################################
###
### Running command:
###
###   /home/biocbuild/bbs-3.14-bioc/R/bin/R CMD INSTALL splineTimeR
###
##############################################################################
##############################################################################


* installing to library ‘/home/biocbuild/bbs-3.14-bioc/R/library’
* installing *source* package ‘splineTimeR’ ...
** using staged installation
** R
** data
** inst
** byte-compile and prepare package for lazy loading
** help
*** installing help indices
** building package indices
** installing vignettes
** testing if installed package can be loaded from temporary location
** testing if installed package can be loaded from final location
** testing if installed package keeps a record of temporary installation path
* DONE (splineTimeR)

Tests output


Example timings

splineTimeR.Rcheck/splineTimeR-Ex.timings

nameusersystemelapsed
TCsimData0.0120.0040.017
networkProperties18.284 0.62418.909
pathEnrich0.2970.0040.301
splineDiffExprs0.0390.0000.039
splineNetRecon14.232 0.24014.471
splinePlot0.0650.0000.065