Back to Multiple platform build/check report for BioC 3.14
ABCDEFGHIJKLMNOPQR[S]TUVWXYZ

This page was generated on 2022-01-14 13:07:11 -0500 (Fri, 14 Jan 2022).

HostnameOSArch (*)R versionInstalled pkgs
nebbiolo2Linux (Ubuntu 20.04.4 LTS)x86_644.1.2 (2021-11-01) -- "Bird Hippie" 4327
tokay2Windows Server 2012 R2 Standardx644.1.2 (2021-11-01) -- "Bird Hippie" 4076
machv2macOS 10.14.6 Mojavex86_644.1.2 (2021-11-01) -- "Bird Hippie" 4137
Click on any hostname to see more info about the system (e.g. compilers)      (*) as reported by 'uname -p', except on Windows and Mac OS X

CHECK results for siggenes on tokay2


To the developers/maintainers of the siggenes package:
- Please allow up to 24 hours (and sometimes 48 hours) for your latest push to git@git.bioconductor.org:packages/siggenes.git to
reflect on this report. See How and When does the builder pull? When will my changes propagate? here for more information.
- Make sure to use the following settings in order to reproduce any error or warning you see on this page.

raw results

Package 1789/2083HostnameOS / ArchINSTALLBUILDCHECKBUILD BIN
siggenes 1.68.0  (landing page)
Holger Schwender
Snapshot Date: 2022-01-13 01:55:04 -0500 (Thu, 13 Jan 2022)
git_url: https://git.bioconductor.org/packages/siggenes
git_branch: RELEASE_3_14
git_last_commit: a29bf02
git_last_commit_date: 2021-10-26 11:46:06 -0500 (Tue, 26 Oct 2021)
nebbiolo2Linux (Ubuntu 20.04.4 LTS) / x86_64  OK    OK    OK  UNNEEDED, same version is already published
tokay2Windows Server 2012 R2 Standard / x64  OK    OK    OK    OK  UNNEEDED, same version is already published
machv2macOS 10.14.6 Mojave / x86_64  OK    OK    OK    OK  UNNEEDED, same version is already published

Summary

Package: siggenes
Version: 1.68.0
Command: C:\Users\biocbuild\bbs-3.14-bioc\R\bin\R.exe CMD check --force-multiarch --install=check:siggenes.install-out.txt --library=C:\Users\biocbuild\bbs-3.14-bioc\R\library --no-vignettes --timings siggenes_1.68.0.tar.gz
StartedAt: 2022-01-14 02:19:44 -0500 (Fri, 14 Jan 2022)
EndedAt: 2022-01-14 02:21:26 -0500 (Fri, 14 Jan 2022)
EllapsedTime: 101.7 seconds
RetCode: 0
Status:   OK  
CheckDir: siggenes.Rcheck
Warnings: 0

Command output

##############################################################################
##############################################################################
###
### Running command:
###
###   C:\Users\biocbuild\bbs-3.14-bioc\R\bin\R.exe CMD check --force-multiarch --install=check:siggenes.install-out.txt --library=C:\Users\biocbuild\bbs-3.14-bioc\R\library --no-vignettes --timings siggenes_1.68.0.tar.gz
###
##############################################################################
##############################################################################


* using log directory 'C:/Users/biocbuild/bbs-3.14-bioc/meat/siggenes.Rcheck'
* using R version 4.1.2 (2021-11-01)
* using platform: x86_64-w64-mingw32 (64-bit)
* using session charset: ISO8859-1
* using option '--no-vignettes'
* checking for file 'siggenes/DESCRIPTION' ... OK
* this is package 'siggenes' version '1.68.0'
* checking package namespace information ... OK
* checking package dependencies ... OK
* checking if this is a source package ... OK
* checking if there is a namespace ... OK
* checking for hidden files and directories ... OK
* checking for portable file names ... OK
* checking whether package 'siggenes' can be installed ... OK
* checking installed package size ... OK
* checking package directory ... OK
* checking 'build' directory ... OK
* checking DESCRIPTION meta-information ... OK
* checking top-level files ... OK
* checking for left-over files ... OK
* checking index information ... OK
* checking package subdirectories ... OK
* checking R files for non-ASCII characters ... OK
* checking R files for syntax errors ... OK
* loading checks for arch 'i386'
** checking whether the package can be loaded ... OK
** checking whether the package can be loaded with stated dependencies ... OK
** checking whether the package can be unloaded cleanly ... OK
** checking whether the namespace can be loaded with stated dependencies ... OK
** checking whether the namespace can be unloaded cleanly ... OK
* loading checks for arch 'x64'
** checking whether the package can be loaded ... OK
** checking whether the package can be loaded with stated dependencies ... OK
** checking whether the package can be unloaded cleanly ... OK
** checking whether the namespace can be loaded with stated dependencies ... OK
** checking whether the namespace can be unloaded cleanly ... OK
* checking dependencies in R code ... NOTE
Unexported object imported by a ':::' call: 'annotate:::getTDRows'
  See the note in ?`:::` about the use of this operator.
* checking S3 generic/method consistency ... OK
* checking replacement functions ... OK
* checking foreign function calls ... NOTE
Foreign function call to a different package:
  .C("get_stat_num_denum", ..., PACKAGE = "multtest")
See chapter 'System and foreign language interfaces' in the 'Writing R
Extensions' manual.
* checking R code for possible problems ... NOTE
.onAttach: no visible global function definition for 'winMenuAddItem'
Undefined global functions or variables:
  winMenuAddItem
Consider adding
  importFrom("utils", "winMenuAddItem")
to your NAMESPACE file.
* checking Rd files ... OK
* checking Rd metadata ... OK
* checking Rd cross-references ... OK
* checking for missing documentation entries ... OK
* checking for code/documentation mismatches ... OK
* checking Rd \usage sections ... OK
* checking Rd contents ... OK
* checking for unstated dependencies in examples ... OK
* checking installed files from 'inst/doc' ... OK
* checking files in 'vignettes' ... OK
* checking examples ...
** running examples for arch 'i386' ... OK
** running examples for arch 'x64' ... OK
* checking for unstated dependencies in vignettes ... OK
* checking package vignettes in 'inst/doc' ... OK
* checking running R code from vignettes ... SKIPPED
* checking re-building of vignette outputs ... SKIPPED
* checking PDF version of manual ... OK
* DONE

Status: 3 NOTEs
See
  'C:/Users/biocbuild/bbs-3.14-bioc/meat/siggenes.Rcheck/00check.log'
for details.



Installation output

siggenes.Rcheck/00install.out

##############################################################################
##############################################################################
###
### Running command:
###
###   C:\cygwin\bin\curl.exe -O http://155.52.207.166/BBS/3.14/bioc/src/contrib/siggenes_1.68.0.tar.gz && rm -rf siggenes.buildbin-libdir && mkdir siggenes.buildbin-libdir && C:\Users\biocbuild\bbs-3.14-bioc\R\bin\R.exe CMD INSTALL --merge-multiarch --build --library=siggenes.buildbin-libdir siggenes_1.68.0.tar.gz && C:\Users\biocbuild\bbs-3.14-bioc\R\bin\R.exe CMD INSTALL siggenes_1.68.0.zip && rm siggenes_1.68.0.tar.gz siggenes_1.68.0.zip
###
##############################################################################
##############################################################################


  % Total    % Received % Xferd  Average Speed   Time    Time     Time  Current
                                 Dload  Upload   Total   Spent    Left  Speed

  0     0    0     0    0     0      0      0 --:--:-- --:--:-- --:--:--     0
100  857k  100  857k    0     0  2075k      0 --:--:-- --:--:-- --:--:-- 2080k

install for i386

* installing *source* package 'siggenes' ...
** using staged installation
** R
** inst
** byte-compile and prepare package for lazy loading
** help
*** installing help indices
  converting help for package 'siggenes'
    finding HTML links ... done
    EBAM-class                              html  
    FindA0-class                            html  
    SAM-class                               html  
    chisq.ebam                              html  
    chisq.stat                              html  
    d.stat                                  html  
    delta.plot                              html  
    denspr                                  html  
    ebam                                    html  
REDIRECT:topic	 Previous alias or file overwritten by alias: C:/Users/biocbuild/bbs-3.14-bioc/meat/siggenes.buildbin-libdir/00LOCK-siggenes/00new/siggenes/help/ebam.html
    ebamControl                             html  
    find.a0                                 html  
    findDelta                               html  
    fudge2                                  html  
    fuzzy.ebam                              html  
    help.ebam                               html  
    help.finda0                             html  
    help.sam                                html  
    limma2sam                               html  
    link.genes                              html  
    link.siggenes                           html  
    list.siggenes                           html  
    md.plot                                 html  
    nclass.wand                             html  
    pi0.est                                 html  
    plotArguments                           html  
    plotFindArguments                       html  
    qvalue.cal                              html  
    rowWilcoxon                             html  
    sam                                     html  
REDIRECT:topic	 Previous alias or file overwritten by alias: C:/Users/biocbuild/bbs-3.14-bioc/meat/siggenes.buildbin-libdir/00LOCK-siggenes/00new/siggenes/help/sam.html
    sam.plot2                               html  
    samControl                              html  
    siggenes-internal                       html  
    siggenes2excel                          html  
    siggenes2html                           html  
    sumSAM-class                            html  
    trend.ebam                              html  
    trend.stat                              html  
    wilc.ebam                               html  
    wilc.stat                               html  
    z.ebam                                  html  
** building package indices
** installing vignettes
   'siggenes.Rnw' 
** testing if installed package can be loaded from temporary location
** testing if installed package can be loaded from final location
** testing if installed package keeps a record of temporary installation path

install for x64

* installing *source* package 'siggenes' ...
** testing if installed package can be loaded
* MD5 sums
packaged installation of 'siggenes' as siggenes_1.68.0.zip
* DONE (siggenes)
* installing to library 'C:/Users/biocbuild/bbs-3.14-bioc/R/library'
package 'siggenes' successfully unpacked and MD5 sums checked

Tests output


Example timings

siggenes.Rcheck/examples_i386/siggenes-Ex.timings

nameusersystemelapsed
EBAM-class000
SAM-class000
chisq.ebam000
chisq.stat000
delta.plot000
denspr000
ebam000
find.a0000
help.ebam000
help.finda0000
help.sam000
list.siggenes000
md.plot000
pi0.est000
qvalue.cal000
sam000
sam.plot2000
trend.ebam000
trend.stat000

siggenes.Rcheck/examples_x64/siggenes-Ex.timings

nameusersystemelapsed
EBAM-class000
SAM-class000
chisq.ebam000
chisq.stat000
delta.plot000
denspr000
ebam000
find.a0000
help.ebam000
help.finda0000
help.sam000
list.siggenes000
md.plot000
pi0.est000
qvalue.cal000
sam000
sam.plot2000
trend.ebam000
trend.stat000