Back to Multiple platform build/check report for BioC 3.14
ABCDEFGHIJKLMNOPQR[S]TUVWXYZ

This page was generated on 2022-01-14 13:07:11 -0500 (Fri, 14 Jan 2022).

HostnameOSArch (*)R versionInstalled pkgs
nebbiolo2Linux (Ubuntu 20.04.4 LTS)x86_644.1.2 (2021-11-01) -- "Bird Hippie" 4327
tokay2Windows Server 2012 R2 Standardx644.1.2 (2021-11-01) -- "Bird Hippie" 4076
machv2macOS 10.14.6 Mojavex86_644.1.2 (2021-11-01) -- "Bird Hippie" 4137
Click on any hostname to see more info about the system (e.g. compilers)      (*) as reported by 'uname -p', except on Windows and Mac OS X

BUILD BIN results for siggenes on tokay2


To the developers/maintainers of the siggenes package:
- Please allow up to 24 hours (and sometimes 48 hours) for your latest push to git@git.bioconductor.org:packages/siggenes.git to
reflect on this report. See How and When does the builder pull? When will my changes propagate? here for more information.
- Make sure to use the following settings in order to reproduce any error or warning you see on this page.

raw results

Package 1789/2083HostnameOS / ArchINSTALLBUILDCHECKBUILD BIN
siggenes 1.68.0  (landing page)
Holger Schwender
Snapshot Date: 2022-01-13 01:55:04 -0500 (Thu, 13 Jan 2022)
git_url: https://git.bioconductor.org/packages/siggenes
git_branch: RELEASE_3_14
git_last_commit: a29bf02
git_last_commit_date: 2021-10-26 11:46:06 -0500 (Tue, 26 Oct 2021)
nebbiolo2Linux (Ubuntu 20.04.4 LTS) / x86_64  OK    OK    OK  UNNEEDED, same version is already published
tokay2Windows Server 2012 R2 Standard / x64  OK    OK    OK    OK  UNNEEDED, same version is already published
machv2macOS 10.14.6 Mojave / x86_64  OK    OK    OK    OK  UNNEEDED, same version is already published

Summary

Package: siggenes
Version: 1.68.0
Command: rm -rf siggenes.buildbin-libdir && mkdir siggenes.buildbin-libdir && C:\Users\biocbuild\bbs-3.14-bioc\R\bin\R.exe CMD INSTALL --merge-multiarch --build --library=siggenes.buildbin-libdir siggenes_1.68.0.tar.gz
StartedAt: 2022-01-14 06:38:37 -0500 (Fri, 14 Jan 2022)
EndedAt: 2022-01-14 06:39:06 -0500 (Fri, 14 Jan 2022)
EllapsedTime: 28.5 seconds
RetCode: 0
Status:   OK  
PackageFile: siggenes_1.68.0.zip
PackageFileSize: 1.177 MiB

Command output

##############################################################################
##############################################################################
###
### Running command:
###
###   rm -rf siggenes.buildbin-libdir && mkdir siggenes.buildbin-libdir && C:\Users\biocbuild\bbs-3.14-bioc\R\bin\R.exe CMD INSTALL --merge-multiarch --build --library=siggenes.buildbin-libdir siggenes_1.68.0.tar.gz
###
##############################################################################
##############################################################################



install for i386

* installing *source* package 'siggenes' ...
** using staged installation
** R
** inst
** byte-compile and prepare package for lazy loading
** help
*** installing help indices
  converting help for package 'siggenes'
    finding HTML links ... done
    EBAM-class                              html  
    FindA0-class                            html  
    SAM-class                               html  
    chisq.ebam                              html  
    chisq.stat                              html  
    d.stat                                  html  
    delta.plot                              html  
    denspr                                  html  
    ebam                                    html  
REDIRECT:topic	 Previous alias or file overwritten by alias: C:/Users/biocbuild/bbs-3.14-bioc/meat/siggenes.buildbin-libdir/00LOCK-siggenes/00new/siggenes/help/ebam.html
    ebamControl                             html  
    find.a0                                 html  
    findDelta                               html  
    fudge2                                  html  
    fuzzy.ebam                              html  
    help.ebam                               html  
    help.finda0                             html  
    help.sam                                html  
    limma2sam                               html  
    link.genes                              html  
    link.siggenes                           html  
    list.siggenes                           html  
    md.plot                                 html  
    nclass.wand                             html  
    pi0.est                                 html  
    plotArguments                           html  
    plotFindArguments                       html  
    qvalue.cal                              html  
    rowWilcoxon                             html  
    sam                                     html  
REDIRECT:topic	 Previous alias or file overwritten by alias: C:/Users/biocbuild/bbs-3.14-bioc/meat/siggenes.buildbin-libdir/00LOCK-siggenes/00new/siggenes/help/sam.html
    sam.plot2                               html  
    samControl                              html  
    siggenes-internal                       html  
    siggenes2excel                          html  
    siggenes2html                           html  
    sumSAM-class                            html  
    trend.ebam                              html  
    trend.stat                              html  
    wilc.ebam                               html  
    wilc.stat                               html  
    z.ebam                                  html  
** building package indices
** installing vignettes
** testing if installed package can be loaded from temporary location
** testing if installed package can be loaded from final location
** testing if installed package keeps a record of temporary installation path

install for x64

* installing *source* package 'siggenes' ...
** testing if installed package can be loaded
* MD5 sums
packaged installation of 'siggenes' as siggenes_1.68.0.zip
* DONE (siggenes)