Back to Multiple platform build/check report for BioC 3.14
ABCDEFGHIJKL[M]NOPQRSTUVWXYZ

This page was generated on 2022-01-26 13:06:55 -0500 (Wed, 26 Jan 2022).

HostnameOSArch (*)R versionInstalled pkgs
nebbiolo2Linux (Ubuntu 20.04.4 LTS)x86_644.1.2 (2021-11-01) -- "Bird Hippie" 4329
tokay2Windows Server 2012 R2 Standardx644.1.2 (2021-11-01) -- "Bird Hippie" 4080
machv2macOS 10.14.6 Mojavex86_644.1.2 (2021-11-01) -- "Bird Hippie" 4141
Click on any hostname to see more info about the system (e.g. compilers)      (*) as reported by 'uname -p', except on Windows and Mac OS X

CHECK results for miRSM on tokay2


To the developers/maintainers of the miRSM package:
- Please allow up to 24 hours (and sometimes 48 hours) for your latest push to git@git.bioconductor.org:packages/miRSM.git to
reflect on this report. See How and When does the builder pull? When will my changes propagate? here for more information.
- Make sure to use the following settings in order to reproduce any error or warning you see on this page.

raw results

Package 1170/2083HostnameOS / ArchINSTALLBUILDCHECKBUILD BIN
miRSM 1.12.0  (landing page)
Junpeng Zhang
Snapshot Date: 2022-01-25 01:55:07 -0500 (Tue, 25 Jan 2022)
git_url: https://git.bioconductor.org/packages/miRSM
git_branch: RELEASE_3_14
git_last_commit: c8fb2c3
git_last_commit_date: 2021-10-26 12:46:29 -0500 (Tue, 26 Oct 2021)
nebbiolo2Linux (Ubuntu 20.04.4 LTS) / x86_64  OK    OK    OK  UNNEEDED, same version is already published
tokay2Windows Server 2012 R2 Standard / x64  OK    OK    OK    OK  UNNEEDED, same version is already published
machv2macOS 10.14.6 Mojave / x86_64  OK    OK    OK    OK  UNNEEDED, same version is already published

Summary

Package: miRSM
Version: 1.12.0
Command: C:\Users\biocbuild\bbs-3.14-bioc\R\bin\R.exe --arch x64 CMD check --no-multiarch --install=check:miRSM.install-out.txt --library=C:\Users\biocbuild\bbs-3.14-bioc\R\library --no-vignettes --timings miRSM_1.12.0.tar.gz
StartedAt: 2022-01-25 23:06:34 -0500 (Tue, 25 Jan 2022)
EndedAt: 2022-01-25 23:12:27 -0500 (Tue, 25 Jan 2022)
EllapsedTime: 353.8 seconds
RetCode: 0
Status:   OK  
CheckDir: miRSM.Rcheck
Warnings: 0

Command output

##############################################################################
##############################################################################
###
### Running command:
###
###   C:\Users\biocbuild\bbs-3.14-bioc\R\bin\R.exe --arch x64 CMD check --no-multiarch --install=check:miRSM.install-out.txt --library=C:\Users\biocbuild\bbs-3.14-bioc\R\library --no-vignettes --timings miRSM_1.12.0.tar.gz
###
##############################################################################
##############################################################################


* using log directory 'C:/Users/biocbuild/bbs-3.14-bioc/meat/miRSM.Rcheck'
* using R version 4.1.2 (2021-11-01)
* using platform: x86_64-w64-mingw32 (64-bit)
* using session charset: ISO8859-1
* using option '--no-vignettes'
* checking for file 'miRSM/DESCRIPTION' ... OK
* checking extension type ... Package
* this is package 'miRSM' version '1.12.0'
* package encoding: UTF-8
* checking package namespace information ... OK
* checking package dependencies ... OK
* checking if this is a source package ... OK
* checking if there is a namespace ... OK
* checking for hidden files and directories ... NOTE
Found the following hidden files and directories:
  .BBSoptions
These were most likely included in error. See section 'Package
structure' in the 'Writing R Extensions' manual.
* checking for portable file names ... OK
* checking whether package 'miRSM' can be installed ... OK
* checking installed package size ... OK
* checking package directory ... OK
* checking 'build' directory ... OK
* checking DESCRIPTION meta-information ... OK
* checking top-level files ... OK
* checking for left-over files ... OK
* checking index information ... OK
* checking package subdirectories ... OK
* checking R files for non-ASCII characters ... OK
* checking R files for syntax errors ... OK
* checking whether the package can be loaded ... OK
* checking whether the package can be loaded with stated dependencies ... OK
* checking whether the package can be unloaded cleanly ... OK
* checking whether the namespace can be loaded with stated dependencies ... OK
* checking whether the namespace can be unloaded cleanly ... OK
* checking dependencies in R code ... NOTE
Namespace in Imports field not imported from: 'org.Hs.eg.db'
  All declared Imports should be used.
* checking S3 generic/method consistency ... OK
* checking replacement functions ... OK
* checking foreign function calls ... OK
* checking R code for possible problems ... OK
* checking Rd files ... OK
* checking Rd metadata ... OK
* checking Rd cross-references ... OK
* checking for missing documentation entries ... OK
* checking for code/documentation mismatches ... OK
* checking Rd \usage sections ... OK
* checking Rd contents ... OK
* checking for unstated dependencies in examples ... OK
* checking contents of 'data' directory ... OK
* checking data for non-ASCII characters ... OK
* checking data for ASCII and uncompressed saves ... OK
* checking line endings in C/C++/Fortran sources/headers ... OK
* checking compiled code ... NOTE
Note: information on .o files for x64 is not available
File 'C:/Users/biocbuild/bbs-3.14-bioc/R/library/miRSM/libs/x64/miRSM.dll':
  Found 'abort', possibly from 'abort' (C), 'runtime' (Fortran)

Compiled code should not call entry points which might terminate R nor
write to stdout/stderr instead of to the console, nor use Fortran I/O
nor system RNGs. The detected symbols are linked into the code but
might come from libraries and not actually be called.

See 'Writing portable packages' in the 'Writing R Extensions' manual.
* checking files in 'vignettes' ... OK
* checking examples ... OK
Examples with CPU (user + system) or elapsed time > 5s
           user system elapsed
module_CEA 4.96   0.08    5.03
* checking for unstated dependencies in 'tests' ... OK
* checking tests ...
  Running 'test_miRSM.R'
 OK
* checking for unstated dependencies in vignettes ... OK
* checking package vignettes in 'inst/doc' ... OK
* checking running R code from vignettes ... SKIPPED
* checking re-building of vignette outputs ... SKIPPED
* checking PDF version of manual ... OK
* DONE

Status: 3 NOTEs
See
  'C:/Users/biocbuild/bbs-3.14-bioc/meat/miRSM.Rcheck/00check.log'
for details.



Installation output

miRSM.Rcheck/00install.out

##############################################################################
##############################################################################
###
### Running command:
###
###   C:\Users\biocbuild\bbs-3.14-bioc\R\bin\R.exe --arch x64 CMD INSTALL --no-multiarch miRSM
###
##############################################################################
##############################################################################


* installing to library 'C:/Users/biocbuild/bbs-3.14-bioc/R/library'
* installing *source* package 'miRSM' ...
** using staged installation
** libs
"C:/rtools40/mingw64/bin/"gcc  -I"C:/Users/biocbuild/bbs-3.14-bioc/R/include" -DNDEBUG     -I"C:/extsoft/include"     -O2 -Wall  -std=gnu99 -mfpmath=sse -msse2 -mstackrealign  -c complex.c -o complex.o
"C:/rtools40/mingw64/bin/"gcc  -I"C:/Users/biocbuild/bbs-3.14-bioc/R/include" -DNDEBUG     -I"C:/extsoft/include"     -O2 -Wall  -std=gnu99 -mfpmath=sse -msse2 -mstackrealign  -c registerDynamicSymbol.c -o registerDynamicSymbol.o
C:/rtools40/mingw64/bin/gcc -shared -s -static-libgcc -o miRSM.dll tmp.def complex.o registerDynamicSymbol.o -LC:/extsoft/lib/x64 -LC:/extsoft/lib -LC:/Users/biocbuild/bbs-3.14-bioc/R/bin/x64 -lR
installing to C:/Users/biocbuild/bbs-3.14-bioc/R/library/00LOCK-miRSM/00new/miRSM/libs/x64
** R
** data
** inst
** byte-compile and prepare package for lazy loading
** help
*** installing help indices
  converting help for package 'miRSM'
    finding HTML links ... done
    BRCA_genes                              html  
    ceRExp                                  html  
    cor_binary                              html  
    mRExp                                   html  
    miRExp                                  html  
    miRSM                                   html  
    miRTarget                               html  
    module_CEA                              html  
    module_Coexpress                        html  
    module_FA                               html  
    module_GFA                              html  
    module_NMF                              html  
    module_ProNet                           html  
    module_Validate                         html  
    module_WGCNA                            html  
    module_biclust                          html  
    module_clust                            html  
    module_igraph                           html  
    module_miRdistribute                    html  
    module_miRsponge                        html  
    module_miRtarget                        html  
    share_miRs                              html  
** building package indices
** installing vignettes
** testing if installed package can be loaded from temporary location
** testing if installed package can be loaded from final location
** testing if installed package keeps a record of temporary installation path
* DONE (miRSM)
Making 'packages.html' ... done

Tests output

miRSM.Rcheck/tests/test_miRSM.Rout


R version 4.1.2 (2021-11-01) -- "Bird Hippie"
Copyright (C) 2021 The R Foundation for Statistical Computing
Platform: x86_64-w64-mingw32/x64 (64-bit)

R is free software and comes with ABSOLUTELY NO WARRANTY.
You are welcome to redistribute it under certain conditions.
Type 'license()' or 'licence()' for distribution details.

R is a collaborative project with many contributors.
Type 'contributors()' for more information and
'citation()' on how to cite R or R packages in publications.

Type 'demo()' for some demos, 'help()' for on-line help, or
'help.start()' for an HTML browser interface to help.
Type 'q()' to quit R.

> library(testthat)
> library(GSEABase)
Loading required package: BiocGenerics

Attaching package: 'BiocGenerics'

The following objects are masked from 'package:stats':

    IQR, mad, sd, var, xtabs

The following objects are masked from 'package:base':

    Filter, Find, Map, Position, Reduce, anyDuplicated, append,
    as.data.frame, basename, cbind, colnames, dirname, do.call,
    duplicated, eval, evalq, get, grep, grepl, intersect, is.unsorted,
    lapply, mapply, match, mget, order, paste, pmax, pmax.int, pmin,
    pmin.int, rank, rbind, rownames, sapply, setdiff, sort, table,
    tapply, union, unique, unsplit, which.max, which.min

Loading required package: Biobase
Welcome to Bioconductor

    Vignettes contain introductory material; view with
    'browseVignettes()'. To cite Bioconductor, see
    'citation("Biobase")', and for packages 'citation("pkgname")'.

Loading required package: annotate
Loading required package: AnnotationDbi
Loading required package: stats4
Loading required package: IRanges
Loading required package: S4Vectors

Attaching package: 'S4Vectors'

The following objects are masked from 'package:base':

    I, expand.grid, unname


Attaching package: 'IRanges'

The following object is masked from 'package:grDevices':

    windows

Loading required package: XML
Loading required package: graph

Attaching package: 'graph'

The following object is masked from 'package:XML':

    addNode

> library(miRSM)

+----------------------------+                                          
|............................|                                          
|............................|                                          
|..............########......|  #######    #    ######    ###      #    
|..............########......|  #         # #   #     #    #      # #   
|.....####.....########......|  #        #   #  #     #    #     #   #  
|.....####.....########......|  #####   #     # ######     #    #     # 
|.....####...................|  #       ####### #     #    #    ####### 
|.....####...........###.....|  #       #     # #     #    #    #     # 
|....................###.....|  #       #     # ######    ###   #     # 
|....................###.....|                                          
|............................|                                          
+----------------------------+                                          

Citation: S. Hochreiter et al.,
FABIA: Factor Analysis for Bicluster Acquisition,
Bioinformatics 26(12):1520-1527, 2010.
BibTex: enter 'toBibtex(citation("fabia"))'

Homepage: http://www.bioinf.jku.at/software/fabia/fabia.html

FABIA Package Version 2.40.0


> 
> # Load datasets
> data(BRCASampleData)
> 
> # Identify gene co-expression modules using igraph method
> modulegenes_igraph <- module_igraph(ceRExp[, seq_len(10)], 
+     mRExp[, seq_len(10)])
> 
> 
> test_that("Test miRSM", {
+     expect_equal(geneIds(module_igraph(ceRExp[, seq_len(10)], 
+         mRExp[, seq_len(10)])), geneIds(modulegenes_igraph))
+ })
Test passed 
> 
> proc.time()
   user  system elapsed 
  14.46    0.98   15.35 

Example timings

miRSM.Rcheck/miRSM-Ex.timings

nameusersystemelapsed
cor_binary0.250.030.28
miRSM0.340.020.50
module_CEA4.960.085.03
module_Coexpress3.530.043.58
module_FA000
module_GFA3.410.083.48
module_NMF2.780.032.82
module_ProNet0.170.020.18
module_Validate2.590.052.64
module_WGCNA2.140.002.14
module_biclust0.50.00.5
module_clust0.160.000.16
module_igraph0.130.010.14
module_miRdistribute2.810.052.86
module_miRsponge2.600.082.67
module_miRtarget2.650.042.70
share_miRs2.550.082.63