Back to Multiple platform build/check report for BioC 3.14
ABCDEFGHIJKL[M]NOPQRSTUVWXYZ

This page was generated on 2022-01-19 13:08:22 -0500 (Wed, 19 Jan 2022).

HostnameOSArch (*)R versionInstalled pkgs
nebbiolo2Linux (Ubuntu 20.04.4 LTS)x86_644.1.2 (2021-11-01) -- "Bird Hippie" 4328
tokay2Windows Server 2012 R2 Standardx644.1.2 (2021-11-01) -- "Bird Hippie" 4077
machv2macOS 10.14.6 Mojavex86_644.1.2 (2021-11-01) -- "Bird Hippie" 4138
Click on any hostname to see more info about the system (e.g. compilers)      (*) as reported by 'uname -p', except on Windows and Mac OS X

CHECK results for miRSM on machv2


To the developers/maintainers of the miRSM package:
- Please allow up to 24 hours (and sometimes 48 hours) for your latest push to git@git.bioconductor.org:packages/miRSM.git to
reflect on this report. See How and When does the builder pull? When will my changes propagate? here for more information.
- Make sure to use the following settings in order to reproduce any error or warning you see on this page.

raw results

Package 1170/2083HostnameOS / ArchINSTALLBUILDCHECKBUILD BIN
miRSM 1.12.0  (landing page)
Junpeng Zhang
Snapshot Date: 2022-01-18 01:55:07 -0500 (Tue, 18 Jan 2022)
git_url: https://git.bioconductor.org/packages/miRSM
git_branch: RELEASE_3_14
git_last_commit: c8fb2c3
git_last_commit_date: 2021-10-26 12:46:29 -0500 (Tue, 26 Oct 2021)
nebbiolo2Linux (Ubuntu 20.04.4 LTS) / x86_64  OK    OK    OK  UNNEEDED, same version is already published
tokay2Windows Server 2012 R2 Standard / x64  OK    OK    OK    OK  UNNEEDED, same version is already published
machv2macOS 10.14.6 Mojave / x86_64  OK    OK    OK    OK  UNNEEDED, same version is already published

Summary

Package: miRSM
Version: 1.12.0
Command: /Library/Frameworks/R.framework/Resources/bin/R CMD check --install=check:miRSM.install-out.txt --library=/Library/Frameworks/R.framework/Resources/library --no-vignettes --timings miRSM_1.12.0.tar.gz
StartedAt: 2022-01-18 15:16:10 -0500 (Tue, 18 Jan 2022)
EndedAt: 2022-01-18 15:23:01 -0500 (Tue, 18 Jan 2022)
EllapsedTime: 411.0 seconds
RetCode: 0
Status:   OK  
CheckDir: miRSM.Rcheck
Warnings: 0

Command output

##############################################################################
##############################################################################
###
### Running command:
###
###   /Library/Frameworks/R.framework/Resources/bin/R CMD check --install=check:miRSM.install-out.txt --library=/Library/Frameworks/R.framework/Resources/library --no-vignettes --timings miRSM_1.12.0.tar.gz
###
##############################################################################
##############################################################################


* using log directory ‘/Users/biocbuild/bbs-3.14-bioc/meat/miRSM.Rcheck’
* using R version 4.1.2 (2021-11-01)
* using platform: x86_64-apple-darwin17.0 (64-bit)
* using session charset: UTF-8
* using option ‘--no-vignettes’
* checking for file ‘miRSM/DESCRIPTION’ ... OK
* checking extension type ... Package
* this is package ‘miRSM’ version ‘1.12.0’
* package encoding: UTF-8
* checking package namespace information ... OK
* checking package dependencies ... OK
* checking if this is a source package ... OK
* checking if there is a namespace ... OK
* checking for hidden files and directories ... NOTE
Found the following hidden files and directories:
  .BBSoptions
These were most likely included in error. See section ‘Package
structure’ in the ‘Writing R Extensions’ manual.
* checking for portable file names ... OK
* checking for sufficient/correct file permissions ... OK
* checking whether package ‘miRSM’ can be installed ... OK
* checking installed package size ... OK
* checking package directory ... OK
* checking ‘build’ directory ... OK
* checking DESCRIPTION meta-information ... OK
* checking top-level files ... OK
* checking for left-over files ... OK
* checking index information ... OK
* checking package subdirectories ... OK
* checking R files for non-ASCII characters ... OK
* checking R files for syntax errors ... OK
* checking whether the package can be loaded ... OK
* checking whether the package can be loaded with stated dependencies ... OK
* checking whether the package can be unloaded cleanly ... OK
* checking whether the namespace can be loaded with stated dependencies ... OK
* checking whether the namespace can be unloaded cleanly ... OK
* checking dependencies in R code ... NOTE
Namespace in Imports field not imported from: ‘org.Hs.eg.db’
  All declared Imports should be used.
* checking S3 generic/method consistency ... OK
* checking replacement functions ... OK
* checking foreign function calls ... OK
* checking R code for possible problems ... OK
* checking Rd files ... OK
* checking Rd metadata ... OK
* checking Rd cross-references ... OK
* checking for missing documentation entries ... OK
* checking for code/documentation mismatches ... OK
* checking Rd \usage sections ... OK
* checking Rd contents ... OK
* checking for unstated dependencies in examples ... OK
* checking contents of ‘data’ directory ... OK
* checking data for non-ASCII characters ... OK
* checking data for ASCII and uncompressed saves ... OK
* checking line endings in C/C++/Fortran sources/headers ... OK
* checking compiled code ... NOTE
Note: information on .o files is not available
* checking files in ‘vignettes’ ... OK
* checking examples ... OK
* checking for unstated dependencies in ‘tests’ ... OK
* checking tests ...
  Running ‘test_miRSM.R’
 OK
* checking for unstated dependencies in vignettes ... OK
* checking package vignettes in ‘inst/doc’ ... OK
* checking running R code from vignettes ... SKIPPED
* checking re-building of vignette outputs ... SKIPPED
* checking PDF version of manual ... OK
* DONE

Status: 3 NOTEs
See
  ‘/Users/biocbuild/bbs-3.14-bioc/meat/miRSM.Rcheck/00check.log’
for details.



Installation output

miRSM.Rcheck/00install.out

##############################################################################
##############################################################################
###
### Running command:
###
###   /Library/Frameworks/R.framework/Resources/bin/R CMD INSTALL miRSM
###
##############################################################################
##############################################################################


* installing to library ‘/Library/Frameworks/R.framework/Versions/4.1/Resources/library’
* installing *source* package ‘miRSM’ ...
** using staged installation
** libs
clang -mmacosx-version-min=10.13 -I"/Library/Frameworks/R.framework/Resources/include" -DNDEBUG   -I/usr/local/include   -fPIC  -Wall -g -O2  -c complex.c -o complex.o
clang -mmacosx-version-min=10.13 -I"/Library/Frameworks/R.framework/Resources/include" -DNDEBUG   -I/usr/local/include   -fPIC  -Wall -g -O2  -c registerDynamicSymbol.c -o registerDynamicSymbol.o
clang -mmacosx-version-min=10.13 -dynamiclib -Wl,-headerpad_max_install_names -undefined dynamic_lookup -single_module -multiply_defined suppress -L/Library/Frameworks/R.framework/Resources/lib -L/usr/local/lib -o miRSM.so complex.o registerDynamicSymbol.o -F/Library/Frameworks/R.framework/.. -framework R -Wl,-framework -Wl,CoreFoundation
installing to /Library/Frameworks/R.framework/Versions/4.1/Resources/library/00LOCK-miRSM/00new/miRSM/libs
** R
** data
** inst
** byte-compile and prepare package for lazy loading
** help
*** installing help indices
** building package indices
** installing vignettes
** testing if installed package can be loaded from temporary location
** checking absolute paths in shared objects and dynamic libraries
** testing if installed package can be loaded from final location
** testing if installed package keeps a record of temporary installation path
* DONE (miRSM)

Tests output

miRSM.Rcheck/tests/test_miRSM.Rout


R version 4.1.2 (2021-11-01) -- "Bird Hippie"
Copyright (C) 2021 The R Foundation for Statistical Computing
Platform: x86_64-apple-darwin17.0 (64-bit)

R is free software and comes with ABSOLUTELY NO WARRANTY.
You are welcome to redistribute it under certain conditions.
Type 'license()' or 'licence()' for distribution details.

R is a collaborative project with many contributors.
Type 'contributors()' for more information and
'citation()' on how to cite R or R packages in publications.

Type 'demo()' for some demos, 'help()' for on-line help, or
'help.start()' for an HTML browser interface to help.
Type 'q()' to quit R.

> library(testthat)
> library(GSEABase)
Loading required package: BiocGenerics

Attaching package: 'BiocGenerics'

The following objects are masked from 'package:stats':

    IQR, mad, sd, var, xtabs

The following objects are masked from 'package:base':

    Filter, Find, Map, Position, Reduce, anyDuplicated, append,
    as.data.frame, basename, cbind, colnames, dirname, do.call,
    duplicated, eval, evalq, get, grep, grepl, intersect, is.unsorted,
    lapply, mapply, match, mget, order, paste, pmax, pmax.int, pmin,
    pmin.int, rank, rbind, rownames, sapply, setdiff, sort, table,
    tapply, union, unique, unsplit, which.max, which.min

Loading required package: Biobase
Welcome to Bioconductor

    Vignettes contain introductory material; view with
    'browseVignettes()'. To cite Bioconductor, see
    'citation("Biobase")', and for packages 'citation("pkgname")'.

Loading required package: annotate
Loading required package: AnnotationDbi
Loading required package: stats4
Loading required package: IRanges
Loading required package: S4Vectors

Attaching package: 'S4Vectors'

The following objects are masked from 'package:base':

    I, expand.grid, unname

Loading required package: XML
Loading required package: graph

Attaching package: 'graph'

The following object is masked from 'package:XML':

    addNode

> library(miRSM)

+----------------------------+                                          
|............................|                                          
|............................|                                          
|..............########......|  #######    #    ######    ###      #    
|..............########......|  #         # #   #     #    #      # #   
|.....####.....########......|  #        #   #  #     #    #     #   #  
|.....####.....########......|  #####   #     # ######     #    #     # 
|.....####...................|  #       ####### #     #    #    ####### 
|.....####...........###.....|  #       #     # #     #    #    #     # 
|....................###.....|  #       #     # ######    ###   #     # 
|....................###.....|                                          
|............................|                                          
+----------------------------+                                          

Citation: S. Hochreiter et al.,
FABIA: Factor Analysis for Bicluster Acquisition,
Bioinformatics 26(12):1520-1527, 2010.
BibTex: enter 'toBibtex(citation("fabia"))'

Homepage: http://www.bioinf.jku.at/software/fabia/fabia.html

FABIA Package Version 2.40.0


> 
> # Load datasets
> data(BRCASampleData)
> 
> # Identify gene co-expression modules using igraph method
> modulegenes_igraph <- module_igraph(ceRExp[, seq_len(10)], 
+     mRExp[, seq_len(10)])
> 
> 
> test_that("Test miRSM", {
+     expect_equal(geneIds(module_igraph(ceRExp[, seq_len(10)], 
+         mRExp[, seq_len(10)])), geneIds(modulegenes_igraph))
+ })
Test passed 🌈
> 
> proc.time()
   user  system elapsed 
 19.433   1.032  20.441 

Example timings

miRSM.Rcheck/miRSM-Ex.timings

nameusersystemelapsed
cor_binary0.2260.0100.236
miRSM0.3060.0040.309
module_CEA3.9940.0594.052
module_Coexpress3.1720.0913.262
module_FA0.0000.0010.000
module_GFA3.7840.1793.962
module_NMF3.1780.0973.279
module_ProNet0.1940.0030.197
module_Validate2.4480.0582.509
module_WGCNA1.6330.0151.648
module_biclust0.4600.0030.464
module_clust0.1680.0020.174
module_igraph0.1490.0020.151
module_miRdistribute2.5010.0622.562
module_miRsponge2.5060.0592.565
module_miRtarget2.4590.0402.500
share_miRs2.4970.0552.552