Back to Multiple platform build/check report for BioC 3.14
ABCDEFGHIJKLMNOPQR[S]TUVWXYZ

This page was generated on 2022-01-21 13:07:09 -0500 (Fri, 21 Jan 2022).

HostnameOSArch (*)R versionInstalled pkgs
nebbiolo2Linux (Ubuntu 20.04.4 LTS)x86_644.1.2 (2021-11-01) -- "Bird Hippie" 4329
tokay2Windows Server 2012 R2 Standardx644.1.2 (2021-11-01) -- "Bird Hippie" 4079
machv2macOS 10.14.6 Mojavex86_644.1.2 (2021-11-01) -- "Bird Hippie" 4140
Click on any hostname to see more info about the system (e.g. compilers)      (*) as reported by 'uname -p', except on Windows and Mac OS X

INSTALL results for SpatialDecon on tokay2


To the developers/maintainers of the SpatialDecon package:
- Please allow up to 24 hours (and sometimes 48 hours) for your latest push to git@git.bioconductor.org:packages/SpatialDecon.git to
reflect on this report. See How and When does the builder pull? When will my changes propagate? here for more information.
- Make sure to use the following settings in order to reproduce any error or warning you see on this page.

raw results

Package 1846/2083HostnameOS / ArchINSTALLBUILDCHECKBUILD BIN
SpatialDecon 1.4.3  (landing page)
Nicole Ortogero
Snapshot Date: 2022-01-20 01:55:04 -0500 (Thu, 20 Jan 2022)
git_url: https://git.bioconductor.org/packages/SpatialDecon
git_branch: RELEASE_3_14
git_last_commit: 72c2c83
git_last_commit_date: 2021-11-02 16:28:16 -0500 (Tue, 02 Nov 2021)
nebbiolo2Linux (Ubuntu 20.04.4 LTS) / x86_64  OK    OK    OK  UNNEEDED, same version is already published
tokay2Windows Server 2012 R2 Standard / x64  OK    OK    OK    OK  UNNEEDED, same version is already published
machv2macOS 10.14.6 Mojave / x86_64  OK    OK    OK    OK  UNNEEDED, same version is already published

Summary

Package: SpatialDecon
Version: 1.4.3
Command: C:\cygwin\bin\curl.exe -O http://155.52.207.166/BBS/3.14/bioc/src/contrib/SpatialDecon_1.4.3.tar.gz && rm -rf SpatialDecon.buildbin-libdir && mkdir SpatialDecon.buildbin-libdir && C:\Users\biocbuild\bbs-3.14-bioc\R\bin\R.exe CMD INSTALL --merge-multiarch --build --library=SpatialDecon.buildbin-libdir SpatialDecon_1.4.3.tar.gz && C:\Users\biocbuild\bbs-3.14-bioc\R\bin\R.exe CMD INSTALL SpatialDecon_1.4.3.zip && rm SpatialDecon_1.4.3.tar.gz SpatialDecon_1.4.3.zip
StartedAt: 2022-01-20 07:41:32 -0500 (Thu, 20 Jan 2022)
EndedAt: 2022-01-20 07:43:10 -0500 (Thu, 20 Jan 2022)
EllapsedTime: 98.2 seconds
RetCode: 0
Status:   OK  

Command output

##############################################################################
##############################################################################
###
### Running command:
###
###   C:\cygwin\bin\curl.exe -O http://155.52.207.166/BBS/3.14/bioc/src/contrib/SpatialDecon_1.4.3.tar.gz && rm -rf SpatialDecon.buildbin-libdir && mkdir SpatialDecon.buildbin-libdir && C:\Users\biocbuild\bbs-3.14-bioc\R\bin\R.exe CMD INSTALL --merge-multiarch --build --library=SpatialDecon.buildbin-libdir SpatialDecon_1.4.3.tar.gz && C:\Users\biocbuild\bbs-3.14-bioc\R\bin\R.exe CMD INSTALL SpatialDecon_1.4.3.zip && rm SpatialDecon_1.4.3.tar.gz SpatialDecon_1.4.3.zip
###
##############################################################################
##############################################################################


  % Total    % Received % Xferd  Average Speed   Time    Time     Time  Current
                                 Dload  Upload   Total   Spent    Left  Speed

  0     0    0     0    0     0      0      0 --:--:-- --:--:-- --:--:--     0
 58 3957k   58 2324k    0     0  2812k      0  0:00:01 --:--:--  0:00:01 2813k
100 3957k  100 3957k    0     0  3303k      0  0:00:01  0:00:01 --:--:-- 3305k

install for i386

* installing *source* package 'SpatialDecon' ...
** using staged installation
** R
** data
*** moving datasets to lazyload DB
** byte-compile and prepare package for lazy loading
** help
*** installing help indices
  converting help for package 'SpatialDecon'
    finding HTML links ... done
    SpatialDecon-package                    html  
    TIL_barplot                             html  
    cellcols                                html  
    collapseCellTypes                       html  
    create_profile_matrix                   html  
    derive_GeoMx_background                 html  
    download_profile_matrix                 html  
    florets                                 html  
    mean.resid.sd                           html  
    mergeTumorIntoX                         html  
    mini_geomx_dataset                      html  
    mini_singleCell_dataset                 html  
    nsclc                                   html  
    reverseDecon                            html  
    runCollapseCellTypes-NanoStringGeoMxSet-method
                                            html  
    runCollapseCellTypes                    html  
    runErrorModel                           html  
    runMergeTumorIntoX-NanoStringGeoMxSet-method
                                            html  
    runMergeTumorIntoX                      html  
    runReverseDecon-NanoStringGeoMxSet-method
                                            html  
    runReverseDecon                         html  
    runspatialdecon-NanoStringGeoMxSet-method
                                            html  
    runspatialdecon-Seurat-method           html  
    runspatialdecon                         html  
    safeTME                                 html  
    safeTME.matches                         html  
    spatialdecon                            html  
** building package indices
** installing vignettes
** testing if installed package can be loaded from temporary location
** testing if installed package can be loaded from final location
** testing if installed package keeps a record of temporary installation path

install for x64

* installing *source* package 'SpatialDecon' ...
** testing if installed package can be loaded
* MD5 sums
packaged installation of 'SpatialDecon' as SpatialDecon_1.4.3.zip
* DONE (SpatialDecon)
* installing to library 'C:/Users/biocbuild/bbs-3.14-bioc/R/library'
package 'SpatialDecon' successfully unpacked and MD5 sums checked