Back to Multiple platform build/check report for BioC 3.14
ABCDEFGHIJKLMNOPQR[S]TUVWXYZ

This page was generated on 2022-01-17 13:05:43 -0500 (Mon, 17 Jan 2022).

HostnameOSArch (*)R versionInstalled pkgs
nebbiolo2Linux (Ubuntu 20.04.4 LTS)x86_644.1.2 (2021-11-01) -- "Bird Hippie" 4328
tokay2Windows Server 2012 R2 Standardx644.1.2 (2021-11-01) -- "Bird Hippie" 4077
machv2macOS 10.14.6 Mojavex86_644.1.2 (2021-11-01) -- "Bird Hippie" 4138
Click on any hostname to see more info about the system (e.g. compilers)      (*) as reported by 'uname -p', except on Windows and Mac OS X

CHECK results for SpatialDecon on nebbiolo2


To the developers/maintainers of the SpatialDecon package:
- Please allow up to 24 hours (and sometimes 48 hours) for your latest push to git@git.bioconductor.org:packages/SpatialDecon.git to
reflect on this report. See How and When does the builder pull? When will my changes propagate? here for more information.
- Make sure to use the following settings in order to reproduce any error or warning you see on this page.

raw results

Package 1846/2083HostnameOS / ArchINSTALLBUILDCHECKBUILD BIN
SpatialDecon 1.4.3  (landing page)
Nicole Ortogero
Snapshot Date: 2022-01-16 01:55:05 -0500 (Sun, 16 Jan 2022)
git_url: https://git.bioconductor.org/packages/SpatialDecon
git_branch: RELEASE_3_14
git_last_commit: 72c2c83
git_last_commit_date: 2021-11-02 16:28:16 -0500 (Tue, 02 Nov 2021)
nebbiolo2Linux (Ubuntu 20.04.4 LTS) / x86_64  OK    OK    OK  UNNEEDED, same version is already published
tokay2Windows Server 2012 R2 Standard / x64  OK    OK    OK    OK  UNNEEDED, same version is already published
machv2macOS 10.14.6 Mojave / x86_64  OK    OK    OK    OK  UNNEEDED, same version is already published

Summary

Package: SpatialDecon
Version: 1.4.3
Command: /home/biocbuild/bbs-3.14-bioc/R/bin/R CMD check --install=check:SpatialDecon.install-out.txt --library=/home/biocbuild/bbs-3.14-bioc/R/library --no-vignettes --timings SpatialDecon_1.4.3.tar.gz
StartedAt: 2022-01-16 09:55:01 -0500 (Sun, 16 Jan 2022)
EndedAt: 2022-01-16 10:06:52 -0500 (Sun, 16 Jan 2022)
EllapsedTime: 710.7 seconds
RetCode: 0
Status:   OK  
CheckDir: SpatialDecon.Rcheck
Warnings: 0

Command output

##############################################################################
##############################################################################
###
### Running command:
###
###   /home/biocbuild/bbs-3.14-bioc/R/bin/R CMD check --install=check:SpatialDecon.install-out.txt --library=/home/biocbuild/bbs-3.14-bioc/R/library --no-vignettes --timings SpatialDecon_1.4.3.tar.gz
###
##############################################################################
##############################################################################


* using log directory ‘/home/biocbuild/bbs-3.14-bioc/meat/SpatialDecon.Rcheck’
* using R version 4.1.2 (2021-11-01)
* using platform: x86_64-pc-linux-gnu (64-bit)
* using session charset: UTF-8
* using option ‘--no-vignettes’
* checking for file ‘SpatialDecon/DESCRIPTION’ ... OK
* this is package ‘SpatialDecon’ version ‘1.4.3’
* package encoding: UTF-8
* checking package namespace information ... OK
* checking package dependencies ... OK
* checking if this is a source package ... OK
* checking if there is a namespace ... OK
* checking for hidden files and directories ... OK
* checking for portable file names ... OK
* checking for sufficient/correct file permissions ... OK
* checking whether package ‘SpatialDecon’ can be installed ... OK
* checking installed package size ... OK
* checking package directory ... OK
* checking ‘build’ directory ... OK
* checking DESCRIPTION meta-information ... OK
* checking top-level files ... OK
* checking for left-over files ... OK
* checking index information ... OK
* checking package subdirectories ... OK
* checking R files for non-ASCII characters ... OK
* checking R files for syntax errors ... OK
* checking whether the package can be loaded ... OK
* checking whether the package can be loaded with stated dependencies ... OK
* checking whether the package can be unloaded cleanly ... OK
* checking whether the namespace can be loaded with stated dependencies ... OK
* checking whether the namespace can be unloaded cleanly ... OK
* checking dependencies in R code ... OK
* checking S3 generic/method consistency ... OK
* checking replacement functions ... OK
* checking foreign function calls ... OK
* checking R code for possible problems ... NOTE
download_profile_matrix: no visible binding for global variable
  ‘profile_matrix’
Undefined global functions or variables:
  profile_matrix
* checking Rd files ... OK
* checking Rd metadata ... OK
* checking Rd cross-references ... OK
* checking for missing documentation entries ... OK
* checking for code/documentation mismatches ... OK
* checking Rd \usage sections ... OK
* checking Rd contents ... OK
* checking for unstated dependencies in examples ... OK
* checking contents of ‘data’ directory ... OK
* checking data for non-ASCII characters ... OK
* checking LazyData ... OK
* checking data for ASCII and uncompressed saves ... OK
* checking files in ‘vignettes’ ... OK
* checking examples ... OK
Examples with CPU (user + system) or elapsed time > 5s
                                                 user system elapsed
runCollapseCellTypes                           71.296  1.184  72.481
runCollapseCellTypes-NanoStringGeoMxSet-method 71.151  0.584  71.734
runReverseDecon                                70.353  0.040  70.393
runReverseDecon-NanoStringGeoMxSet-method      69.147  0.060  69.207
runspatialdecon                                39.608  1.328  41.428
runspatialdecon-Seurat-method                  25.591  1.140  27.427
runspatialdecon-NanoStringGeoMxSet-method      18.866  0.016  18.884
runMergeTumorIntoX-NanoStringGeoMxSet-method   14.047  0.008  14.055
runErrorModel                                  13.779  0.128  13.908
runMergeTumorIntoX                             13.755  0.012  13.766
reverseDecon                                    6.356  0.120   6.476
* checking for unstated dependencies in ‘tests’ ... OK
* checking tests ...
  Running ‘testthat.R’
 OK
* checking for unstated dependencies in vignettes ... OK
* checking package vignettes in ‘inst/doc’ ... OK
* checking running R code from vignettes ... SKIPPED
* checking re-building of vignette outputs ... SKIPPED
* checking PDF version of manual ... OK
* DONE

Status: 1 NOTE
See
  ‘/home/biocbuild/bbs-3.14-bioc/meat/SpatialDecon.Rcheck/00check.log’
for details.



Installation output

SpatialDecon.Rcheck/00install.out

##############################################################################
##############################################################################
###
### Running command:
###
###   /home/biocbuild/bbs-3.14-bioc/R/bin/R CMD INSTALL SpatialDecon
###
##############################################################################
##############################################################################


* installing to library ‘/home/biocbuild/bbs-3.14-bioc/R/library’
* installing *source* package ‘SpatialDecon’ ...
** using staged installation
** R
** data
*** moving datasets to lazyload DB
** byte-compile and prepare package for lazy loading
** help
*** installing help indices
** building package indices
** installing vignettes
** testing if installed package can be loaded from temporary location
** testing if installed package can be loaded from final location
** testing if installed package keeps a record of temporary installation path
* DONE (SpatialDecon)

Tests output

SpatialDecon.Rcheck/tests/testthat.Rout


R version 4.1.2 (2021-11-01) -- "Bird Hippie"
Copyright (C) 2021 The R Foundation for Statistical Computing
Platform: x86_64-pc-linux-gnu (64-bit)

R is free software and comes with ABSOLUTELY NO WARRANTY.
You are welcome to redistribute it under certain conditions.
Type 'license()' or 'licence()' for distribution details.

R is a collaborative project with many contributors.
Type 'contributors()' for more information and
'citation()' on how to cite R or R packages in publications.

Type 'demo()' for some demos, 'help()' for on-line help, or
'help.start()' for an HTML browser interface to help.
Type 'q()' to quit R.

> library(testthat)
> library(SpatialDecon)
> 
> test_check("SpatialDecon")
[1] "Creating Atlas"
[1] "1 / 4 : B"
[1] "2 / 4 : C"
[1] "3 / 4 : A"
[1] "4 / 4 : D"
[ FAIL 0 | WARN 0 | SKIP 0 | PASS 85 ]
> 
> proc.time()
   user  system elapsed 
152.738   1.535 155.126 

Example timings

SpatialDecon.Rcheck/SpatialDecon-Ex.timings

nameusersystemelapsed
SpatialDecon-package4.4320.0364.469
TIL_barplot1.2350.0041.239
collapseCellTypes1.2000.0041.204
create_profile_matrix0.7250.0520.777
derive_GeoMx_background0.0030.0000.004
download_profile_matrix0.3140.1451.373
florets1.6080.0041.612
mergeTumorIntoX0.010.000.01
reverseDecon6.3560.1206.476
runCollapseCellTypes-NanoStringGeoMxSet-method71.151 0.58471.734
runCollapseCellTypes71.296 1.18472.481
runErrorModel13.779 0.12813.908
runMergeTumorIntoX-NanoStringGeoMxSet-method14.047 0.00814.055
runMergeTumorIntoX13.755 0.01213.766
runReverseDecon-NanoStringGeoMxSet-method69.147 0.06069.207
runReverseDecon70.353 0.04070.393
runspatialdecon-NanoStringGeoMxSet-method18.866 0.01618.884
runspatialdecon-Seurat-method25.591 1.14027.427
runspatialdecon39.608 1.32841.428
spatialdecon3.3700.0323.402