Back to Multiple platform build/check report for BioC 3.14
ABCDEFGHIJKLMNOPQR[S]TUVWXYZ

This page was generated on 2022-01-19 13:07:24 -0500 (Wed, 19 Jan 2022).

HostnameOSArch (*)R versionInstalled pkgs
nebbiolo2Linux (Ubuntu 20.04.4 LTS)x86_644.1.2 (2021-11-01) -- "Bird Hippie" 4328
tokay2Windows Server 2012 R2 Standardx644.1.2 (2021-11-01) -- "Bird Hippie" 4077
machv2macOS 10.14.6 Mojavex86_644.1.2 (2021-11-01) -- "Bird Hippie" 4138
Click on any hostname to see more info about the system (e.g. compilers)      (*) as reported by 'uname -p', except on Windows and Mac OS X

BUILD BIN results for SingleCellSignalR on tokay2


To the developers/maintainers of the SingleCellSignalR package:
- Please allow up to 24 hours (and sometimes 48 hours) for your latest push to git@git.bioconductor.org:packages/SingleCellSignalR.git to
reflect on this report. See How and When does the builder pull? When will my changes propagate? here for more information.
- Make sure to use the following settings in order to reproduce any error or warning you see on this page.

raw results

Package 1806/2083HostnameOS / ArchINSTALLBUILDCHECKBUILD BIN
SingleCellSignalR 1.6.0  (landing page)
Jacques Colinge
Snapshot Date: 2022-01-18 01:55:07 -0500 (Tue, 18 Jan 2022)
git_url: https://git.bioconductor.org/packages/SingleCellSignalR
git_branch: RELEASE_3_14
git_last_commit: dd12f95
git_last_commit_date: 2021-10-26 12:59:34 -0500 (Tue, 26 Oct 2021)
nebbiolo2Linux (Ubuntu 20.04.4 LTS) / x86_64  OK    OK    WARNINGS  UNNEEDED, same version is already published
tokay2Windows Server 2012 R2 Standard / x64  OK    OK    WARNINGS    OK  UNNEEDED, same version is already published
machv2macOS 10.14.6 Mojave / x86_64  OK    OK    WARNINGS    OK  UNNEEDED, same version is already published

Summary

Package: SingleCellSignalR
Version: 1.6.0
Command: rm -rf SingleCellSignalR.buildbin-libdir && mkdir SingleCellSignalR.buildbin-libdir && C:\Users\biocbuild\bbs-3.14-bioc\R\bin\R.exe CMD INSTALL --merge-multiarch --build --library=SingleCellSignalR.buildbin-libdir SingleCellSignalR_1.6.0.tar.gz
StartedAt: 2022-01-19 06:48:33 -0500 (Wed, 19 Jan 2022)
EndedAt: 2022-01-19 06:49:36 -0500 (Wed, 19 Jan 2022)
EllapsedTime: 62.8 seconds
RetCode: 0
Status:   OK  
PackageFile: SingleCellSignalR_1.6.0.zip
PackageFileSize: 5.905 MiB

Command output

##############################################################################
##############################################################################
###
### Running command:
###
###   rm -rf SingleCellSignalR.buildbin-libdir && mkdir SingleCellSignalR.buildbin-libdir && C:\Users\biocbuild\bbs-3.14-bioc\R\bin\R.exe CMD INSTALL --merge-multiarch --build --library=SingleCellSignalR.buildbin-libdir SingleCellSignalR_1.6.0.tar.gz
###
##############################################################################
##############################################################################



install for i386

* installing *source* package 'SingleCellSignalR' ...
** using staged installation
** R
** data
*** moving datasets to lazyload DB
** inst
** byte-compile and prepare package for lazy loading
** help
*** installing help indices
  converting help for package 'SingleCellSignalR'
    finding HTML links ... done
    LRdb                                    html  
    LRscore                                 html  
    PwC_ReactomeKEGG                        html  
    cell_classifier                         html  
    cell_signaling                          html  
    cluster_analysis                        html  
    clustering                              html  
    data_prepare                            html  
    example_dataset                         html  
    expression_plot                         html  
    expression_plot_2                       html  
    inter_network                           html  
    intra_network                           html  
    markers                                 html  
    markers_default                         html  
    mm2Hs                                   html  
    mv_interactions                         html  
    simplify_interactions                   html  
    visualize_interactions                  html  
** building package indices
** installing vignettes
** testing if installed package can be loaded from temporary location
** testing if installed package can be loaded from final location
** testing if installed package keeps a record of temporary installation path

install for x64

* installing *source* package 'SingleCellSignalR' ...
** testing if installed package can be loaded
* MD5 sums
packaged installation of 'SingleCellSignalR' as SingleCellSignalR_1.6.0.zip
* DONE (SingleCellSignalR)