Back to Multiple platform build/check report for BioC 3.14
ABCDEFGHIJKLMNOPQR[S]TUVWXYZ

This page was generated on 2022-01-21 13:07:07 -0500 (Fri, 21 Jan 2022).

HostnameOSArch (*)R versionInstalled pkgs
nebbiolo2Linux (Ubuntu 20.04.4 LTS)x86_644.1.2 (2021-11-01) -- "Bird Hippie" 4329
tokay2Windows Server 2012 R2 Standardx644.1.2 (2021-11-01) -- "Bird Hippie" 4079
machv2macOS 10.14.6 Mojavex86_644.1.2 (2021-11-01) -- "Bird Hippie" 4140
Click on any hostname to see more info about the system (e.g. compilers)      (*) as reported by 'uname -p', except on Windows and Mac OS X

BUILD results for SimBindProfiles on tokay2


To the developers/maintainers of the SimBindProfiles package:
- Please allow up to 24 hours (and sometimes 48 hours) for your latest push to git@git.bioconductor.org:packages/SimBindProfiles.git to
reflect on this report. See How and When does the builder pull? When will my changes propagate? here for more information.
- Make sure to use the following settings in order to reproduce any error or warning you see on this page.

raw results

Package 1798/2083HostnameOS / ArchINSTALLBUILDCHECKBUILD BIN
SimBindProfiles 1.32.0  (landing page)
Bettina Fischer
Snapshot Date: 2022-01-20 01:55:04 -0500 (Thu, 20 Jan 2022)
git_url: https://git.bioconductor.org/packages/SimBindProfiles
git_branch: RELEASE_3_14
git_last_commit: 8b823ef
git_last_commit_date: 2021-10-26 12:10:03 -0500 (Tue, 26 Oct 2021)
nebbiolo2Linux (Ubuntu 20.04.4 LTS) / x86_64  OK    OK    OK  UNNEEDED, same version is already published
tokay2Windows Server 2012 R2 Standard / x64  OK    OK    OK    OK  UNNEEDED, same version is already published
machv2macOS 10.14.6 Mojave / x86_64  OK    OK    OK    OK  UNNEEDED, same version is already published

Summary

Package: SimBindProfiles
Version: 1.32.0
Command: chmod a+r SimBindProfiles -R && C:\Users\biocbuild\bbs-3.14-bioc\R\bin\R.exe CMD build --keep-empty-dirs --no-resave-data SimBindProfiles
StartedAt: 2022-01-20 14:36:55 -0500 (Thu, 20 Jan 2022)
EndedAt: 2022-01-20 14:37:50 -0500 (Thu, 20 Jan 2022)
EllapsedTime: 55.7 seconds
RetCode: 0
Status:   OK  
PackageFile: SimBindProfiles_1.32.0.tar.gz
PackageFileSize: 1.743 MiB

Command output

##############################################################################
##############################################################################
###
### Running command:
###
###   chmod a+r SimBindProfiles -R && C:\Users\biocbuild\bbs-3.14-bioc\R\bin\R.exe CMD build --keep-empty-dirs --no-resave-data SimBindProfiles
###
##############################################################################
##############################################################################


* checking for file 'SimBindProfiles/DESCRIPTION' ... OK
* preparing 'SimBindProfiles':
* checking DESCRIPTION meta-information ... OK
* installing the package to build vignettes
* creating vignettes ... OK
* checking for LF line-endings in source and make files and shell scripts
* checking for empty or unneeded directories
* looking to see if a 'data/datalist' file should be added
* building 'SimBindProfiles_1.32.0.tar.gz'