Back to Multiple platform build/check report for BioC 3.14
ABCDEFGHIJKLMNOPQR[S]TUVWXYZ

This page was generated on 2022-01-14 13:07:11 -0500 (Fri, 14 Jan 2022).

HostnameOSArch (*)R versionInstalled pkgs
nebbiolo2Linux (Ubuntu 20.04.4 LTS)x86_644.1.2 (2021-11-01) -- "Bird Hippie" 4327
tokay2Windows Server 2012 R2 Standardx644.1.2 (2021-11-01) -- "Bird Hippie" 4076
machv2macOS 10.14.6 Mojavex86_644.1.2 (2021-11-01) -- "Bird Hippie" 4137
Click on any hostname to see more info about the system (e.g. compilers)      (*) as reported by 'uname -p', except on Windows and Mac OS X

CHECK results for SimBindProfiles on tokay2


To the developers/maintainers of the SimBindProfiles package:
- Please allow up to 24 hours (and sometimes 48 hours) for your latest push to git@git.bioconductor.org:packages/SimBindProfiles.git to
reflect on this report. See How and When does the builder pull? When will my changes propagate? here for more information.
- Make sure to use the following settings in order to reproduce any error or warning you see on this page.

raw results

Package 1798/2083HostnameOS / ArchINSTALLBUILDCHECKBUILD BIN
SimBindProfiles 1.32.0  (landing page)
Bettina Fischer
Snapshot Date: 2022-01-13 01:55:04 -0500 (Thu, 13 Jan 2022)
git_url: https://git.bioconductor.org/packages/SimBindProfiles
git_branch: RELEASE_3_14
git_last_commit: 8b823ef
git_last_commit_date: 2021-10-26 12:10:03 -0500 (Tue, 26 Oct 2021)
nebbiolo2Linux (Ubuntu 20.04.4 LTS) / x86_64  OK    OK    OK  UNNEEDED, same version is already published
tokay2Windows Server 2012 R2 Standard / x64  OK    OK    OK    OK  UNNEEDED, same version is already published
machv2macOS 10.14.6 Mojave / x86_64  OK    OK    OK    OK  UNNEEDED, same version is already published

Summary

Package: SimBindProfiles
Version: 1.32.0
Command: C:\Users\biocbuild\bbs-3.14-bioc\R\bin\R.exe CMD check --force-multiarch --install=check:SimBindProfiles.install-out.txt --library=C:\Users\biocbuild\bbs-3.14-bioc\R\library --no-vignettes --timings SimBindProfiles_1.32.0.tar.gz
StartedAt: 2022-01-14 02:23:29 -0500 (Fri, 14 Jan 2022)
EndedAt: 2022-01-14 02:27:10 -0500 (Fri, 14 Jan 2022)
EllapsedTime: 221.0 seconds
RetCode: 0
Status:   OK  
CheckDir: SimBindProfiles.Rcheck
Warnings: 0

Command output

##############################################################################
##############################################################################
###
### Running command:
###
###   C:\Users\biocbuild\bbs-3.14-bioc\R\bin\R.exe CMD check --force-multiarch --install=check:SimBindProfiles.install-out.txt --library=C:\Users\biocbuild\bbs-3.14-bioc\R\library --no-vignettes --timings SimBindProfiles_1.32.0.tar.gz
###
##############################################################################
##############################################################################


* using log directory 'C:/Users/biocbuild/bbs-3.14-bioc/meat/SimBindProfiles.Rcheck'
* using R version 4.1.2 (2021-11-01)
* using platform: x86_64-w64-mingw32 (64-bit)
* using session charset: ISO8859-1
* using option '--no-vignettes'
* checking for file 'SimBindProfiles/DESCRIPTION' ... OK
* this is package 'SimBindProfiles' version '1.32.0'
* checking package namespace information ... OK
* checking package dependencies ... OK
* checking if this is a source package ... OK
* checking if there is a namespace ... OK
* checking for hidden files and directories ... OK
* checking for portable file names ... OK
* checking whether package 'SimBindProfiles' can be installed ... OK
* checking installed package size ... OK
* checking package directory ... OK
* checking 'build' directory ... OK
* checking DESCRIPTION meta-information ... OK
* checking top-level files ... OK
* checking for left-over files ... OK
* checking index information ... OK
* checking package subdirectories ... OK
* checking R files for non-ASCII characters ... OK
* checking R files for syntax errors ... OK
* loading checks for arch 'i386'
** checking whether the package can be loaded ... OK
** checking whether the package can be loaded with stated dependencies ... OK
** checking whether the package can be unloaded cleanly ... OK
** checking whether the namespace can be loaded with stated dependencies ... OK
** checking whether the namespace can be unloaded cleanly ... OK
* loading checks for arch 'x64'
** checking whether the package can be loaded ... OK
** checking whether the package can be loaded with stated dependencies ... OK
** checking whether the package can be unloaded cleanly ... OK
** checking whether the namespace can be loaded with stated dependencies ... OK
** checking whether the namespace can be unloaded cleanly ... OK
* checking dependencies in R code ... OK
* checking S3 generic/method consistency ... OK
* checking replacement functions ... OK
* checking foreign function calls ... OK
* checking R code for possible problems ... NOTE
compensationRegions: no visible global function definition for
  'write.table'
eSetScatterPlot : upPan: no visible global function definition for
  'par'
eSetScatterPlot : upPan: no visible global function definition for
  'smoothScatter'
eSetScatterPlot : lowPan: no visible global function definition for
  'text'
eSetScatterPlot : lowPan: no visible global function definition for
  'par'
eSetScatterPlot : lowPan: no visible global function definition for
  'cor'
eSetScatterPlot: no visible global function definition for 'pairs'
filterRegionsPairwise: no visible global function definition for 'tail'
filterRegionsThreeway: no visible global function definition for 'tail'
findBoundCutoff: no visible global function definition for 'hist'
findBoundCutoff: no visible global function definition for 'p.adjust'
increasedBindingRegions: no visible global function definition for
  'write.table'
normalNull: no visible global function definition for 'na.omit'
normalNull: no visible global function definition for 'density'
normalNull: no visible global function definition for 'sd'
normalNull: no visible global function definition for 'pnorm'
pairwiseRegions: no visible global function definition for
  'write.table'
plotBoundProbes: no visible global function definition for 'points'
probeLengthPlot: no visible global function definition for 'tail'
readSgrFiles: no visible global function definition for 'read.delim'
threewayRegions: no visible global function definition for
  'write.table'
twoGaussiansNull.BF: no visible global function definition for
  'na.omit'
twoGaussiansNull.BF: no visible global function definition for 'dnorm'
twoGaussiansNull.BF: no visible global function definition for 'lines'
twoGaussiansNull.BF: no visible global function definition for 'legend'
twoGaussiansNull.BF: no visible global function definition for 'pnorm'
Undefined global functions or variables:
  cor density dnorm hist legend lines na.omit p.adjust pairs par pnorm
  points read.delim sd smoothScatter tail text write.table
Consider adding
  importFrom("graphics", "hist", "legend", "lines", "pairs", "par",
             "points", "smoothScatter", "text")
  importFrom("stats", "cor", "density", "dnorm", "na.omit", "p.adjust",
             "pnorm", "sd")
  importFrom("utils", "read.delim", "tail", "write.table")
to your NAMESPACE file.
* checking Rd files ... OK
* checking Rd metadata ... OK
* checking Rd cross-references ... OK
* checking for missing documentation entries ... OK
* checking for code/documentation mismatches ... OK
* checking Rd \usage sections ... OK
* checking Rd contents ... OK
* checking for unstated dependencies in examples ... OK
* checking contents of 'data' directory ... OK
* checking data for non-ASCII characters ... OK
* checking data for ASCII and uncompressed saves ... OK
* checking line endings in Makefiles ... OK
* checking for GNU extensions in Makefiles ... OK
* checking include directives in Makefiles ... OK
* checking files in 'vignettes' ... OK
* checking examples ...
** running examples for arch 'i386' ... OK
** running examples for arch 'x64' ... OK
* checking for unstated dependencies in vignettes ... OK
* checking package vignettes in 'inst/doc' ... OK
* checking running R code from vignettes ... SKIPPED
* checking re-building of vignette outputs ... SKIPPED
* checking PDF version of manual ... OK
* DONE

Status: 1 NOTE
See
  'C:/Users/biocbuild/bbs-3.14-bioc/meat/SimBindProfiles.Rcheck/00check.log'
for details.



Installation output

SimBindProfiles.Rcheck/00install.out

##############################################################################
##############################################################################
###
### Running command:
###
###   C:\cygwin\bin\curl.exe -O http://155.52.207.166/BBS/3.14/bioc/src/contrib/SimBindProfiles_1.32.0.tar.gz && rm -rf SimBindProfiles.buildbin-libdir && mkdir SimBindProfiles.buildbin-libdir && C:\Users\biocbuild\bbs-3.14-bioc\R\bin\R.exe CMD INSTALL --merge-multiarch --build --library=SimBindProfiles.buildbin-libdir SimBindProfiles_1.32.0.tar.gz && C:\Users\biocbuild\bbs-3.14-bioc\R\bin\R.exe CMD INSTALL SimBindProfiles_1.32.0.zip && rm SimBindProfiles_1.32.0.tar.gz SimBindProfiles_1.32.0.zip
###
##############################################################################
##############################################################################


  % Total    % Received % Xferd  Average Speed   Time    Time     Time  Current
                                 Dload  Upload   Total   Spent    Left  Speed

  0     0    0     0    0     0      0      0 --:--:-- --:--:-- --:--:--     0
  2 1501k    2 44575    0     0   410k      0  0:00:03 --:--:--  0:00:03  410k
100 1501k  100 1501k    0     0  3861k      0 --:--:-- --:--:-- --:--:-- 3858k

install for i386

* installing *source* package 'SimBindProfiles' ...
** using staged installation
** R
** data
** inst
** byte-compile and prepare package for lazy loading
** help
*** installing help indices
  converting help for package 'SimBindProfiles'
    finding HTML links ... done
    SGR                                     html  
    SimBindProfiles-package                 html  
    compensationRegions                     html  
    eSetScatterPlot                         html  
    findBoundCutoff                         html  
    increasedBindingRegions                 html  
    pairwiseRegions                         html  
    plotBoundProbes                         html  
    probeAnnoFromESet                       html  
    probeLengthPlot                         html  
    readSgrFiles                            html  
    threewayRegions                         html  
** building package indices
** installing vignettes
** testing if installed package can be loaded from temporary location
** testing if installed package can be loaded from final location
** testing if installed package keeps a record of temporary installation path

install for x64

* installing *source* package 'SimBindProfiles' ...
** testing if installed package can be loaded
* MD5 sums
packaged installation of 'SimBindProfiles' as SimBindProfiles_1.32.0.zip
* DONE (SimBindProfiles)
* installing to library 'C:/Users/biocbuild/bbs-3.14-bioc/R/library'
package 'SimBindProfiles' successfully unpacked and MD5 sums checked

Tests output


Example timings

SimBindProfiles.Rcheck/examples_i386/SimBindProfiles-Ex.timings

nameusersystemelapsed
SGR0.450.020.47
compensationRegions1.050.061.11
eSetScatterPlot1.390.091.49
findBoundCutoff4.070.214.28
increasedBindingRegions0.960.010.97
pairwiseRegions0.780.030.81
plotBoundProbes1.360.021.38
probeAnnoFromESet0.650.050.70
probeLengthPlot1.070.151.22
readSgrFiles0.150.000.23
threewayRegions1.210.001.21

SimBindProfiles.Rcheck/examples_x64/SimBindProfiles-Ex.timings

nameusersystemelapsed
SGR0.340.000.35
compensationRegions1.110.021.13
eSetScatterPlot1.300.111.41
findBoundCutoff3.760.063.83
increasedBindingRegions1.040.031.06
pairwiseRegions0.760.020.78
plotBoundProbes1.360.051.41
probeAnnoFromESet0.630.000.62
probeLengthPlot1.060.071.14
readSgrFiles0.110.000.11
threewayRegions0.900.050.95