Back to Multiple platform build/check report for BioC 3.14
ABCDEFGHIJKLMNOPQR[S]TUVWXYZ

This page was generated on 2022-01-14 13:07:15 -0500 (Fri, 14 Jan 2022).

HostnameOSArch (*)R versionInstalled pkgs
nebbiolo2Linux (Ubuntu 20.04.4 LTS)x86_644.1.2 (2021-11-01) -- "Bird Hippie" 4327
tokay2Windows Server 2012 R2 Standardx644.1.2 (2021-11-01) -- "Bird Hippie" 4076
machv2macOS 10.14.6 Mojavex86_644.1.2 (2021-11-01) -- "Bird Hippie" 4137
Click on any hostname to see more info about the system (e.g. compilers)      (*) as reported by 'uname -p', except on Windows and Mac OS X

BUILD BIN results for STROMA4 on tokay2


To the developers/maintainers of the STROMA4 package:
- Please allow up to 24 hours (and sometimes 48 hours) for your latest push to git@git.bioconductor.org:packages/STROMA4.git to
reflect on this report. See How and When does the builder pull? When will my changes propagate? here for more information.
- Make sure to use the following settings in order to reproduce any error or warning you see on this page.

raw results

Package 1893/2083HostnameOS / ArchINSTALLBUILDCHECKBUILD BIN
STROMA4 1.18.0  (landing page)
Sadiq Saleh
Snapshot Date: 2022-01-13 01:55:04 -0500 (Thu, 13 Jan 2022)
git_url: https://git.bioconductor.org/packages/STROMA4
git_branch: RELEASE_3_14
git_last_commit: c4891a5
git_last_commit_date: 2021-10-26 12:34:07 -0500 (Tue, 26 Oct 2021)
nebbiolo2Linux (Ubuntu 20.04.4 LTS) / x86_64  OK    OK    OK  UNNEEDED, same version is already published
tokay2Windows Server 2012 R2 Standard / x64  OK    OK    OK    OK  UNNEEDED, same version is already published
machv2macOS 10.14.6 Mojave / x86_64  OK    OK    OK    OK  UNNEEDED, same version is already published

Summary

Package: STROMA4
Version: 1.18.0
Command: rm -rf STROMA4.buildbin-libdir && mkdir STROMA4.buildbin-libdir && C:\Users\biocbuild\bbs-3.14-bioc\R\bin\R.exe CMD INSTALL --merge-multiarch --build --library=STROMA4.buildbin-libdir STROMA4_1.18.0.tar.gz
StartedAt: 2022-01-14 06:42:55 -0500 (Fri, 14 Jan 2022)
EndedAt: 2022-01-14 06:43:04 -0500 (Fri, 14 Jan 2022)
EllapsedTime: 8.6 seconds
RetCode: 0
Status:   OK  
PackageFile: STROMA4_1.18.0.zip
PackageFileSize: 208.7 KiB

Command output

##############################################################################
##############################################################################
###
### Running command:
###
###   rm -rf STROMA4.buildbin-libdir && mkdir STROMA4.buildbin-libdir && C:\Users\biocbuild\bbs-3.14-bioc\R\bin\R.exe CMD INSTALL --merge-multiarch --build --library=STROMA4.buildbin-libdir STROMA4_1.18.0.tar.gz
###
##############################################################################
##############################################################################



install for i386

* installing *source* package 'STROMA4' ...
** using staged installation
** R
** data
*** moving datasets to lazyload DB
** inst
** byte-compile and prepare package for lazy loading
** help
*** installing help indices
  converting help for package 'STROMA4'
    finding HTML links ... done
    B.stroma.property                       html  
    BL1.property                            html  
    BL2.property                            html  
    D.stroma.property                       html  
    E.stroma.property                       html  
    IM.property                             html  
    LAR.property                            html  
    M.property                              html  
    MSL.property                            html  
    T.stroma.property                       html  
    assign.properties                       html  
** building package indices
** installing vignettes
** testing if installed package can be loaded from temporary location
** testing if installed package can be loaded from final location
** testing if installed package keeps a record of temporary installation path

install for x64

* installing *source* package 'STROMA4' ...
** testing if installed package can be loaded
* MD5 sums
packaged installation of 'STROMA4' as STROMA4_1.18.0.zip
* DONE (STROMA4)