Back to Multiple platform build/check report for BioC 3.14
ABCDEFGHIJKLMNOPQ[R]STUVWXYZ

This page was generated on 2022-01-26 13:07:17 -0500 (Wed, 26 Jan 2022).

HostnameOSArch (*)R versionInstalled pkgs
nebbiolo2Linux (Ubuntu 20.04.4 LTS)x86_644.1.2 (2021-11-01) -- "Bird Hippie" 4329
tokay2Windows Server 2012 R2 Standardx644.1.2 (2021-11-01) -- "Bird Hippie" 4080
machv2macOS 10.14.6 Mojavex86_644.1.2 (2021-11-01) -- "Bird Hippie" 4141
Click on any hostname to see more info about the system (e.g. compilers)      (*) as reported by 'uname -p', except on Windows and Mac OS X

CHECK results for RVS on tokay2


To the developers/maintainers of the RVS package:
- Please allow up to 24 hours (and sometimes 48 hours) for your latest push to git@git.bioconductor.org:packages/RVS.git to
reflect on this report. See How and When does the builder pull? When will my changes propagate? here for more information.
- Make sure to use the following settings in order to reproduce any error or warning you see on this page.

raw results

Package 1683/2083HostnameOS / ArchINSTALLBUILDCHECKBUILD BIN
RVS 1.16.0  (landing page)
Thomas Sherman
Snapshot Date: 2022-01-25 01:55:07 -0500 (Tue, 25 Jan 2022)
git_url: https://git.bioconductor.org/packages/RVS
git_branch: RELEASE_3_14
git_last_commit: 235dff2
git_last_commit_date: 2021-10-26 12:36:59 -0500 (Tue, 26 Oct 2021)
nebbiolo2Linux (Ubuntu 20.04.4 LTS) / x86_64  OK    OK    OK  UNNEEDED, same version is already published
tokay2Windows Server 2012 R2 Standard / x64  OK    OK    OK    OK  UNNEEDED, same version is already published
machv2macOS 10.14.6 Mojave / x86_64  OK    OK    OK    OK  UNNEEDED, same version is already published

Summary

Package: RVS
Version: 1.16.0
Command: C:\Users\biocbuild\bbs-3.14-bioc\R\bin\R.exe CMD check --force-multiarch --install=check:RVS.install-out.txt --library=C:\Users\biocbuild\bbs-3.14-bioc\R\library --no-vignettes --timings RVS_1.16.0.tar.gz
StartedAt: 2022-01-26 02:05:55 -0500 (Wed, 26 Jan 2022)
EndedAt: 2022-01-26 02:11:11 -0500 (Wed, 26 Jan 2022)
EllapsedTime: 316.1 seconds
RetCode: 0
Status:   OK  
CheckDir: RVS.Rcheck
Warnings: 0

Command output

##############################################################################
##############################################################################
###
### Running command:
###
###   C:\Users\biocbuild\bbs-3.14-bioc\R\bin\R.exe CMD check --force-multiarch --install=check:RVS.install-out.txt --library=C:\Users\biocbuild\bbs-3.14-bioc\R\library --no-vignettes --timings RVS_1.16.0.tar.gz
###
##############################################################################
##############################################################################


* using log directory 'C:/Users/biocbuild/bbs-3.14-bioc/meat/RVS.Rcheck'
* using R version 4.1.2 (2021-11-01)
* using platform: x86_64-w64-mingw32 (64-bit)
* using session charset: ISO8859-1
* using option '--no-vignettes'
* checking for file 'RVS/DESCRIPTION' ... OK
* checking extension type ... Package
* this is package 'RVS' version '1.16.0'
* package encoding: UTF-8
* checking package namespace information ... OK
* checking package dependencies ... OK
* checking if this is a source package ... OK
* checking if there is a namespace ... OK
* checking for hidden files and directories ... OK
* checking for portable file names ... OK
* checking whether package 'RVS' can be installed ... OK
* checking installed package size ... OK
* checking package directory ... OK
* checking 'build' directory ... OK
* checking DESCRIPTION meta-information ... OK
* checking top-level files ... OK
* checking for left-over files ... OK
* checking index information ... OK
* checking package subdirectories ... OK
* checking R files for non-ASCII characters ... OK
* checking R files for syntax errors ... OK
* loading checks for arch 'i386'
** checking whether the package can be loaded ... OK
** checking whether the package can be loaded with stated dependencies ... OK
** checking whether the package can be unloaded cleanly ... OK
** checking whether the namespace can be loaded with stated dependencies ... OK
** checking whether the namespace can be unloaded cleanly ... OK
* loading checks for arch 'x64'
** checking whether the package can be loaded ... OK
** checking whether the package can be loaded with stated dependencies ... OK
** checking whether the package can be unloaded cleanly ... OK
** checking whether the namespace can be loaded with stated dependencies ... OK
** checking whether the namespace can be unloaded cleanly ... OK
* checking dependencies in R code ... OK
* checking S3 generic/method consistency ... OK
* checking replacement functions ... OK
* checking foreign function calls ... OK
* checking R code for possible problems ... OK
* checking Rd files ... OK
* checking Rd metadata ... OK
* checking Rd cross-references ... OK
* checking for missing documentation entries ... OK
* checking for code/documentation mismatches ... OK
* checking Rd \usage sections ... OK
* checking Rd contents ... OK
* checking for unstated dependencies in examples ... OK
* checking contents of 'data' directory ... OK
* checking data for non-ASCII characters ... OK
* checking LazyData ... OK
* checking data for ASCII and uncompressed saves ... OK
* checking files in 'vignettes' ... OK
* checking examples ...
** running examples for arch 'i386' ... OK
Examples with CPU (user + system) or elapsed time > 5s
        user system elapsed
RVgene 10.54   0.97   11.53
** running examples for arch 'x64' ... OK
Examples with CPU (user + system) or elapsed time > 5s
        user system elapsed
RVgene 11.93   0.33   12.28
* checking for unstated dependencies in 'tests' ... OK
* checking tests ...
** running tests for arch 'i386' ...
  Running 'testthat.R'
 OK
** running tests for arch 'x64' ...
  Running 'testthat.R'
 OK
* checking for unstated dependencies in vignettes ... OK
* checking package vignettes in 'inst/doc' ... OK
* checking running R code from vignettes ... SKIPPED
* checking re-building of vignette outputs ... SKIPPED
* checking PDF version of manual ... OK
* DONE

Status: OK


Installation output

RVS.Rcheck/00install.out

##############################################################################
##############################################################################
###
### Running command:
###
###   C:\cygwin\bin\curl.exe -O http://155.52.207.166/BBS/3.14/bioc/src/contrib/RVS_1.16.0.tar.gz && rm -rf RVS.buildbin-libdir && mkdir RVS.buildbin-libdir && C:\Users\biocbuild\bbs-3.14-bioc\R\bin\R.exe CMD INSTALL --merge-multiarch --build --library=RVS.buildbin-libdir RVS_1.16.0.tar.gz && C:\Users\biocbuild\bbs-3.14-bioc\R\bin\R.exe CMD INSTALL RVS_1.16.0.zip && rm RVS_1.16.0.tar.gz RVS_1.16.0.zip
###
##############################################################################
##############################################################################


  % Total    % Received % Xferd  Average Speed   Time    Time     Time  Current
                                 Dload  Upload   Total   Spent    Left  Speed

  0     0    0     0    0     0      0      0 --:--:-- --:--:-- --:--:--     0
100  756k  100  756k    0     0  1701k      0 --:--:-- --:--:-- --:--:-- 1707k

install for i386

* installing *source* package 'RVS' ...
** using staged installation
** R
** data
*** moving datasets to lazyload DB
** inst
** byte-compile and prepare package for lazy loading
** help
*** installing help indices
  converting help for package 'RVS'
    finding HTML links ... done
    ComputeKinshipPropCoef-methods          html  
    GeneDrop                                html  
    RVS                                     html  
    RVgene                                  html  
    RVsharing-methods                       html  
    SnpMatrixToCount                        html  
    ancestorDistance                        html  
    areMating                               html  
    checkArgs                               html  
    computePFU                              html  
    computePhiVec                           html  
    convertMatrix                           html  
    createNetwork                           html  
    denomProb                               html  
    enrichmentPValue                        html  
    enrichmentPValue_R_Backend              html  
    ex.ped.mat                              html  
    exactSharingProb                        html  
    extract_carriers                        html  
    fam15157.vcf                            html  
    fam28003.vcf                            html  
    founderOccurence                        html  
    get.psubset                             html  
    inferNumAlleles                         html  
    inferTheta                              html  
    isDescendant                            html  
    marginalProb                            html  
    monteCarloSharingProb                   html  
    multipleFamilyPValue                    html  
    multipleFamilyPValue_R_Backend          html  
    multipleVariantPValue                   html  
    multipleVariantPValue_R_Backend         html  
    numerProb                               html  
    oldArgs                                 html  
    oneFounderSharingProb                   html  
    oneFounderSharingProbSplitting          html  
    ped2trio                                html  
    processPedigree-methods                 html  
    relatedFoundersCorrection               html  
    runMonteCarlo                           html  
    samplePedigrees                         html  
    simulatePedigree                        html  
    snpMat                                  html  
    twoFounderSharingProb                   html  
** building package indices
** installing vignettes
** testing if installed package can be loaded from temporary location
** testing if installed package can be loaded from final location
** testing if installed package keeps a record of temporary installation path

install for x64

* installing *source* package 'RVS' ...
** testing if installed package can be loaded
* MD5 sums
packaged installation of 'RVS' as RVS_1.16.0.zip
* DONE (RVS)
* installing to library 'C:/Users/biocbuild/bbs-3.14-bioc/R/library'
package 'RVS' successfully unpacked and MD5 sums checked

Tests output

RVS.Rcheck/tests_i386/testthat.Rout


R version 4.1.2 (2021-11-01) -- "Bird Hippie"
Copyright (C) 2021 The R Foundation for Statistical Computing
Platform: i386-w64-mingw32/i386 (32-bit)

R is free software and comes with ABSOLUTELY NO WARRANTY.
You are welcome to redistribute it under certain conditions.
Type 'license()' or 'licence()' for distribution details.

R is a collaborative project with many contributors.
Type 'contributors()' for more information and
'citation()' on how to cite R or R packages in publications.

Type 'demo()' for some demos, 'help()' for on-line help, or
'help.start()' for an HTML browser interface to help.
Type 'q()' to quit R.

> library(testthat)
> library(RVS)
> 
> test_check('RVS')
Founder  2  subped size  20 
Founder  4  subped size  11 
Founder  5  subped size  16 
Founder  9  subped size  5 
Founder  13  subped size  5 
Founder  14  subped size  3 
Founder  16  subped size  5 
[1] 0.01873 0.49970 0.48150
[ FAIL 0 | WARN 0 | SKIP 2 | PASS 113 ]

== Skipped tests ===============================================================
* empty test (2)

[ FAIL 0 | WARN 0 | SKIP 2 | PASS 113 ]
> 
> proc.time()
   user  system elapsed 
  73.85    0.50   74.40 

RVS.Rcheck/tests_x64/testthat.Rout


R version 4.1.2 (2021-11-01) -- "Bird Hippie"
Copyright (C) 2021 The R Foundation for Statistical Computing
Platform: x86_64-w64-mingw32/x64 (64-bit)

R is free software and comes with ABSOLUTELY NO WARRANTY.
You are welcome to redistribute it under certain conditions.
Type 'license()' or 'licence()' for distribution details.

R is a collaborative project with many contributors.
Type 'contributors()' for more information and
'citation()' on how to cite R or R packages in publications.

Type 'demo()' for some demos, 'help()' for on-line help, or
'help.start()' for an HTML browser interface to help.
Type 'q()' to quit R.

> library(testthat)
> library(RVS)
> 
> test_check('RVS')
Founder  2  subped size  20 
Founder  4  subped size  11 
Founder  5  subped size  16 
Founder  9  subped size  5 
Founder  13  subped size  5 
Founder  14  subped size  3 
Founder  16  subped size  5 
[1] 0.01873 0.49970 0.48150
[ FAIL 0 | WARN 0 | SKIP 2 | PASS 113 ]

== Skipped tests ===============================================================
* empty test (2)

[ FAIL 0 | WARN 0 | SKIP 2 | PASS 113 ]
> 
> proc.time()
   user  system elapsed 
  82.59    0.37   83.01 

Example timings

RVS.Rcheck/examples_i386/RVS-Ex.timings

nameusersystemelapsed
ComputeKinshipPropCoef-methods0.010.000.01
GeneDrop000
RVgene10.54 0.9711.53
RVsharing-methods0.030.000.03
SnpMatrixToCount0.020.000.02
get.psubset0.550.080.62
multipleFamilyPValue0.540.000.55
ped2trio000
processPedigree-methods000

RVS.Rcheck/examples_x64/RVS-Ex.timings

nameusersystemelapsed
ComputeKinshipPropCoef-methods0.030.000.03
GeneDrop000
RVgene11.93 0.3312.28
RVsharing-methods0.040.000.05
SnpMatrixToCount000
get.psubset0.570.030.59
multipleFamilyPValue0.590.000.60
ped2trio000
processPedigree-methods000