Back to Multiple platform build/check report for BioC 3.14
ABCDEFGHIJK[L]MNOPQRSTUVWXYZ

This page was generated on 2022-01-14 13:08:03 -0500 (Fri, 14 Jan 2022).

HostnameOSArch (*)R versionInstalled pkgs
nebbiolo2Linux (Ubuntu 20.04.4 LTS)x86_644.1.2 (2021-11-01) -- "Bird Hippie" 4327
tokay2Windows Server 2012 R2 Standardx644.1.2 (2021-11-01) -- "Bird Hippie" 4076
machv2macOS 10.14.6 Mojavex86_644.1.2 (2021-11-01) -- "Bird Hippie" 4137
Click on any hostname to see more info about the system (e.g. compilers)      (*) as reported by 'uname -p', except on Windows and Mac OS X

BUILD BIN results for LOBSTAHS on machv2


To the developers/maintainers of the LOBSTAHS package:
- Please allow up to 24 hours (and sometimes 48 hours) for your latest push to git@git.bioconductor.org:packages/LOBSTAHS.git to
reflect on this report. See How and When does the builder pull? When will my changes propagate? here for more information.
- Make sure to use the following settings in order to reproduce any error or warning you see on this page.

raw results

Package 1007/2083HostnameOS / ArchINSTALLBUILDCHECKBUILD BIN
LOBSTAHS 1.20.0  (landing page)
Henry Holm
Snapshot Date: 2022-01-13 01:55:04 -0500 (Thu, 13 Jan 2022)
git_url: https://git.bioconductor.org/packages/LOBSTAHS
git_branch: RELEASE_3_14
git_last_commit: f4e6a04
git_last_commit_date: 2021-10-26 12:28:57 -0500 (Tue, 26 Oct 2021)
nebbiolo2Linux (Ubuntu 20.04.4 LTS) / x86_64  OK    OK    WARNINGS  UNNEEDED, same version is already published
tokay2Windows Server 2012 R2 Standard / x64  OK    OK    WARNINGS    OK  UNNEEDED, same version is already published
machv2macOS 10.14.6 Mojave / x86_64  OK    OK    WARNINGS    OK  UNNEEDED, same version is already published

Summary

Package: LOBSTAHS
Version: 1.20.0
Command: rm -rf LOBSTAHS.buildbin-libdir && mkdir LOBSTAHS.buildbin-libdir && /Users/biocbuild/BBS/utils/build-universal.sh LOBSTAHS_1.20.0.tar.gz /Library/Frameworks/R.framework/Resources/bin/R LOBSTAHS.buildbin-libdir
StartedAt: 2022-01-13 20:29:22 -0500 (Thu, 13 Jan 2022)
EndedAt: 2022-01-13 20:30:31 -0500 (Thu, 13 Jan 2022)
EllapsedTime: 69.1 seconds
RetCode: 0
Status:   OK  
PackageFile: LOBSTAHS_1.20.0.tgz
PackageFileSize: 1.952 MiB

Command output

##############################################################################
##############################################################################
###
### Running command:
###
###   rm -rf LOBSTAHS.buildbin-libdir && mkdir LOBSTAHS.buildbin-libdir && /Users/biocbuild/BBS/utils/build-universal.sh LOBSTAHS_1.20.0.tar.gz /Library/Frameworks/R.framework/Resources/bin/R LOBSTAHS.buildbin-libdir
###
##############################################################################
##############################################################################


>>>>>>> 
>>>>>>> INSTALLATION WITH 'R CMD INSTALL --preclean --no-multiarch --library=LOBSTAHS.buildbin-libdir LOBSTAHS_1.20.0.tar.gz'
>>>>>>> 

* installing *source* package ‘LOBSTAHS’ ...
** using staged installation
** R
** data
** inst
** byte-compile and prepare package for lazy loading
Creating a new generic function for ‘polarity<-’ in package ‘LOBSTAHS’
** help
*** installing help indices
** building package indices
** installing vignettes
** testing if installed package can be loaded from temporary location
Warning: multiple methods tables found for ‘polarity<-’
** testing if installed package can be loaded from final location
Warning: multiple methods tables found for ‘polarity<-’
** testing if installed package keeps a record of temporary installation path
* DONE (LOBSTAHS)