Back to Multiple platform build/check report for BioC 3.14
ABCDEF[G]HIJKLMNOPQRSTUVWXYZ

This page was generated on 2022-01-12 13:06:36 -0500 (Wed, 12 Jan 2022).

HostnameOSArch (*)R versionInstalled pkgs
nebbiolo2Linux (Ubuntu 20.04.4 LTS)x86_644.1.2 (2021-11-01) -- "Bird Hippie" 4327
tokay2Windows Server 2012 R2 Standardx644.1.2 (2021-11-01) -- "Bird Hippie" 4076
machv2macOS 10.14.6 Mojavex86_644.1.2 (2021-11-01) -- "Bird Hippie" 4137
Click on any hostname to see more info about the system (e.g. compilers)      (*) as reported by 'uname -p', except on Windows and Mac OS X

BUILD BIN results for GCSscore on tokay2


To the developers/maintainers of the GCSscore package:
- Please allow up to 24 hours (and sometimes 48 hours) for your latest push to git@git.bioconductor.org:packages/GCSscore.git to
reflect on this report. See How and When does the builder pull? When will my changes propagate? here for more information.
- Make sure to use the following settings in order to reproduce any error or warning you see on this page.

raw results

Package 708/2083HostnameOS / ArchINSTALLBUILDCHECKBUILD BIN
GCSscore 1.8.0  (landing page)
Guy M. Harris
Snapshot Date: 2022-01-11 01:55:07 -0500 (Tue, 11 Jan 2022)
git_url: https://git.bioconductor.org/packages/GCSscore
git_branch: RELEASE_3_14
git_last_commit: d7f279c
git_last_commit_date: 2021-10-26 12:55:52 -0500 (Tue, 26 Oct 2021)
nebbiolo2Linux (Ubuntu 20.04.4 LTS) / x86_64  OK    OK    OK  UNNEEDED, same version is already published
tokay2Windows Server 2012 R2 Standard / x64  OK    OK    OK    OK  UNNEEDED, same version is already published
machv2macOS 10.14.6 Mojave / x86_64  OK    OK    OK    OK  UNNEEDED, same version is already published

Summary

Package: GCSscore
Version: 1.8.0
Command: rm -rf GCSscore.buildbin-libdir && mkdir GCSscore.buildbin-libdir && C:\Users\biocbuild\bbs-3.14-bioc\R\bin\R.exe CMD INSTALL --merge-multiarch --build --library=GCSscore.buildbin-libdir GCSscore_1.8.0.tar.gz
StartedAt: 2022-01-12 05:53:19 -0500 (Wed, 12 Jan 2022)
EndedAt: 2022-01-12 05:54:20 -0500 (Wed, 12 Jan 2022)
EllapsedTime: 61.2 seconds
RetCode: 0
Status:   OK  
PackageFile: GCSscore_1.8.0.zip
PackageFileSize: 4.296 MiB

Command output

##############################################################################
##############################################################################
###
### Running command:
###
###   rm -rf GCSscore.buildbin-libdir && mkdir GCSscore.buildbin-libdir && C:\Users\biocbuild\bbs-3.14-bioc\R\bin\R.exe CMD INSTALL --merge-multiarch --build --library=GCSscore.buildbin-libdir GCSscore_1.8.0.tar.gz
###
##############################################################################
##############################################################################



install for i386

* installing *source* package 'GCSscore' ...
** using staged installation
** R
** inst
** byte-compile and prepare package for lazy loading
** help
*** installing help indices
  converting help for package 'GCSscore'
    finding HTML links ... done
    GCSscore                                html  
    calcSF                                  html  
    computeSscore                           html  
    get3primeIVTprobefileData               html  
    getClariomSprobefileData                html  
    getXTAprobefileData                     html  
    mismatch                                html  
    normalize                               html  
    rawScore                                html  
    zoneRQ                                  html  
** building package indices
** installing vignettes
** testing if installed package can be loaded from temporary location
** testing if installed package can be loaded from final location
** testing if installed package keeps a record of temporary installation path

install for x64

* installing *source* package 'GCSscore' ...
** testing if installed package can be loaded
* MD5 sums
packaged installation of 'GCSscore' as GCSscore_1.8.0.zip
* DONE (GCSscore)