Back to Multiple platform build/check report for BioC 3.14
ABC[D]EFGHIJKLMNOPQRSTUVWXYZ

This page was generated on 2022-01-24 13:06:08 -0500 (Mon, 24 Jan 2022).

HostnameOSArch (*)R versionInstalled pkgs
nebbiolo2Linux (Ubuntu 20.04.4 LTS)x86_644.1.2 (2021-11-01) -- "Bird Hippie" 4329
tokay2Windows Server 2012 R2 Standardx644.1.2 (2021-11-01) -- "Bird Hippie" 4080
machv2macOS 10.14.6 Mojavex86_644.1.2 (2021-11-01) -- "Bird Hippie" 4141
Click on any hostname to see more info about the system (e.g. compilers)      (*) as reported by 'uname -p', except on Windows and Mac OS X

INSTALL results for DeepPINCS on tokay2


To the developers/maintainers of the DeepPINCS package:
- Please allow up to 24 hours (and sometimes 48 hours) for your latest push to git@git.bioconductor.org:packages/DeepPINCS.git to
reflect on this report. See How and When does the builder pull? When will my changes propagate? here for more information.
- Make sure to use the following settings in order to reproduce any error or warning you see on this page.

raw results

Package 470/2083HostnameOS / ArchINSTALLBUILDCHECKBUILD BIN
DeepPINCS 1.2.1  (landing page)
Dongmin Jung
Snapshot Date: 2022-01-23 01:55:04 -0500 (Sun, 23 Jan 2022)
git_url: https://git.bioconductor.org/packages/DeepPINCS
git_branch: RELEASE_3_14
git_last_commit: 210a4cb
git_last_commit_date: 2021-12-14 19:41:15 -0500 (Tue, 14 Dec 2021)
nebbiolo2Linux (Ubuntu 20.04.4 LTS) / x86_64  OK    OK    OK  UNNEEDED, same version is already published
tokay2Windows Server 2012 R2 Standard / x64  OK    OK    OK    OK  UNNEEDED, same version is already published
machv2macOS 10.14.6 Mojave / x86_64  OK    OK    OK    OK  UNNEEDED, same version is already published

Summary

Package: DeepPINCS
Version: 1.2.1
Command: C:\Users\biocbuild\bbs-3.14-bioc\R\bin\R.exe --arch x64 CMD INSTALL --no-multiarch DeepPINCS
StartedAt: 2022-01-23 06:56:56 -0500 (Sun, 23 Jan 2022)
EndedAt: 2022-01-23 06:58:33 -0500 (Sun, 23 Jan 2022)
EllapsedTime: 97.1 seconds
RetCode: 0
Status:   OK  

Command output

##############################################################################
##############################################################################
###
### Running command:
###
###   C:\Users\biocbuild\bbs-3.14-bioc\R\bin\R.exe --arch x64 CMD INSTALL --no-multiarch DeepPINCS
###
##############################################################################
##############################################################################


* installing to library 'C:/Users/biocbuild/bbs-3.14-bioc/R/library'
* installing *source* package 'DeepPINCS' ...
** using staged installation
** R
** data
*** moving datasets to lazyload DB
** byte-compile and prepare package for lazy loading
** help
*** installing help indices
  converting help for package 'DeepPINCS'
    finding HTML links ... done
    SARS_CoV2_3CL_Protease                  html  
    antiviral_drug                          html  
    cpi_model                               html  
    encoder_in_out                          html  
    example_bioassay                        html  
    example_cci                             html  
    example_chem                            html  
    example_cpi                             html  
    example_pd                              html  
    example_ppi                             html  
    example_prot                            html  
    get_canonical_smiles                    html  
    get_fingerprint                         html  
    get_graph_structure_node_feature        html  
    get_seq_encode_pad                      html  
    metric_concordance_index                html  
    metric_f1_score                         html  
    multiple_sampling_generator             html  
    seq_check                               html  
    seq_preprocessing                       html  
** building package indices
** installing vignettes
** testing if installed package can be loaded from temporary location
** testing if installed package can be loaded from final location
** testing if installed package keeps a record of temporary installation path
* DONE (DeepPINCS)
Making 'packages.html' ... done