Back to Multiple platform build/check report for BioC 3.14
ABC[D]EFGHIJKLMNOPQRSTUVWXYZ

This page was generated on 2022-01-24 13:07:31 -0500 (Mon, 24 Jan 2022).

HostnameOSArch (*)R versionInstalled pkgs
nebbiolo2Linux (Ubuntu 20.04.4 LTS)x86_644.1.2 (2021-11-01) -- "Bird Hippie" 4329
tokay2Windows Server 2012 R2 Standardx644.1.2 (2021-11-01) -- "Bird Hippie" 4080
machv2macOS 10.14.6 Mojavex86_644.1.2 (2021-11-01) -- "Bird Hippie" 4141
Click on any hostname to see more info about the system (e.g. compilers)      (*) as reported by 'uname -p', except on Windows and Mac OS X

CHECK results for DeepPINCS on machv2


To the developers/maintainers of the DeepPINCS package:
- Please allow up to 24 hours (and sometimes 48 hours) for your latest push to git@git.bioconductor.org:packages/DeepPINCS.git to
reflect on this report. See How and When does the builder pull? When will my changes propagate? here for more information.
- Make sure to use the following settings in order to reproduce any error or warning you see on this page.

raw results

Package 470/2083HostnameOS / ArchINSTALLBUILDCHECKBUILD BIN
DeepPINCS 1.2.1  (landing page)
Dongmin Jung
Snapshot Date: 2022-01-23 01:55:04 -0500 (Sun, 23 Jan 2022)
git_url: https://git.bioconductor.org/packages/DeepPINCS
git_branch: RELEASE_3_14
git_last_commit: 210a4cb
git_last_commit_date: 2021-12-14 19:41:15 -0500 (Tue, 14 Dec 2021)
nebbiolo2Linux (Ubuntu 20.04.4 LTS) / x86_64  OK    OK    OK  UNNEEDED, same version is already published
tokay2Windows Server 2012 R2 Standard / x64  OK    OK    OK    OK  UNNEEDED, same version is already published
machv2macOS 10.14.6 Mojave / x86_64  OK    OK    OK    OK  UNNEEDED, same version is already published

Summary

Package: DeepPINCS
Version: 1.2.1
Command: /Library/Frameworks/R.framework/Resources/bin/R CMD check --install=check:DeepPINCS.install-out.txt --library=/Library/Frameworks/R.framework/Resources/library --no-vignettes --timings DeepPINCS_1.2.1.tar.gz
StartedAt: 2022-01-23 12:07:45 -0500 (Sun, 23 Jan 2022)
EndedAt: 2022-01-23 12:12:17 -0500 (Sun, 23 Jan 2022)
EllapsedTime: 271.4 seconds
RetCode: 0
Status:   OK  
CheckDir: DeepPINCS.Rcheck
Warnings: 0

Command output

##############################################################################
##############################################################################
###
### Running command:
###
###   /Library/Frameworks/R.framework/Resources/bin/R CMD check --install=check:DeepPINCS.install-out.txt --library=/Library/Frameworks/R.framework/Resources/library --no-vignettes --timings DeepPINCS_1.2.1.tar.gz
###
##############################################################################
##############################################################################


* using log directory ‘/Users/biocbuild/bbs-3.14-bioc/meat/DeepPINCS.Rcheck’
* using R version 4.1.2 (2021-11-01)
* using platform: x86_64-apple-darwin17.0 (64-bit)
* using session charset: UTF-8
* using option ‘--no-vignettes’
* checking for file ‘DeepPINCS/DESCRIPTION’ ... OK
* checking extension type ... Package
* this is package ‘DeepPINCS’ version ‘1.2.1’
* checking package namespace information ... OK
* checking package dependencies ... OK
* checking if this is a source package ... OK
* checking if there is a namespace ... OK
* checking for hidden files and directories ... NOTE
Found the following hidden files and directories:
  .BBSoptions
These were most likely included in error. See section ‘Package
structure’ in the ‘Writing R Extensions’ manual.
* checking for portable file names ... OK
* checking for sufficient/correct file permissions ... OK
* checking whether package ‘DeepPINCS’ can be installed ... OK
* checking installed package size ... OK
* checking package directory ... OK
* checking ‘build’ directory ... OK
* checking DESCRIPTION meta-information ... OK
* checking top-level files ... OK
* checking for left-over files ... OK
* checking index information ... OK
* checking package subdirectories ... OK
* checking R files for non-ASCII characters ... OK
* checking R files for syntax errors ... OK
* checking whether the package can be loaded ... OK
* checking whether the package can be loaded with stated dependencies ... OK
* checking whether the package can be unloaded cleanly ... OK
* checking whether the namespace can be loaded with stated dependencies ... OK
* checking whether the namespace can be unloaded cleanly ... OK
* checking dependencies in R code ... OK
* checking S3 generic/method consistency ... OK
* checking replacement functions ... OK
* checking foreign function calls ... OK
* checking R code for possible problems ... NOTE
fit_cpi: no visible binding for global variable ‘compound’
fit_cpi: no visible binding for global variable ‘compound_args’
fit_cpi: no visible binding for global variable ‘protein’
fit_cpi: no visible binding for global variable ‘protein_args’
fit_cpi: no visible binding for global variable ‘max_atoms’
gcn_in_out : Layer : f: no visible binding for global variable ‘object’
gcn_in_out : initialize: no visible global function definition for
  ‘super’
gcn_in_out : call: no visible binding for global variable ‘self’
gcn_in_out : get_config: no visible binding for global variable ‘self’
gcn_in_out: no visible binding for global variable ‘temp_units’
multiple_sampling_generator : <anonymous>: no visible binding for
  global variable ‘batch_start’
Undefined global functions or variables:
  batch_start compound compound_args max_atoms object protein
  protein_args self super temp_units
* checking Rd files ... OK
* checking Rd metadata ... OK
* checking Rd cross-references ... OK
* checking for missing documentation entries ... OK
* checking for code/documentation mismatches ... OK
* checking Rd \usage sections ... OK
* checking Rd contents ... OK
* checking for unstated dependencies in examples ... OK
* checking contents of ‘data’ directory ... OK
* checking data for non-ASCII characters ... OK
* checking LazyData ... OK
* checking data for ASCII and uncompressed saves ... OK
* checking files in ‘vignettes’ ... OK
* checking examples ... OK
Examples with CPU (user + system) or elapsed time > 5s
            user system elapsed
cpi_model 21.722  1.439  20.942
* checking for unstated dependencies in ‘tests’ ... OK
* checking tests ...
  Running ‘testthat.R’
 OK
* checking for unstated dependencies in vignettes ... OK
* checking package vignettes in ‘inst/doc’ ... OK
* checking running R code from vignettes ... SKIPPED
* checking re-building of vignette outputs ... SKIPPED
* checking PDF version of manual ... OK
* DONE

Status: 2 NOTEs
See
  ‘/Users/biocbuild/bbs-3.14-bioc/meat/DeepPINCS.Rcheck/00check.log’
for details.



Installation output

DeepPINCS.Rcheck/00install.out

##############################################################################
##############################################################################
###
### Running command:
###
###   /Library/Frameworks/R.framework/Resources/bin/R CMD INSTALL DeepPINCS
###
##############################################################################
##############################################################################


* installing to library ‘/Library/Frameworks/R.framework/Versions/4.1/Resources/library’
* installing *source* package ‘DeepPINCS’ ...
** using staged installation
** R
** data
*** moving datasets to lazyload DB
** byte-compile and prepare package for lazy loading
** help
*** installing help indices
** building package indices
** installing vignettes
** testing if installed package can be loaded from temporary location
** testing if installed package can be loaded from final location
** testing if installed package keeps a record of temporary installation path
* DONE (DeepPINCS)

Tests output

DeepPINCS.Rcheck/tests/testthat.Rout


R version 4.1.2 (2021-11-01) -- "Bird Hippie"
Copyright (C) 2021 The R Foundation for Statistical Computing
Platform: x86_64-apple-darwin17.0 (64-bit)

R is free software and comes with ABSOLUTELY NO WARRANTY.
You are welcome to redistribute it under certain conditions.
Type 'license()' or 'licence()' for distribution details.

R is a collaborative project with many contributors.
Type 'contributors()' for more information and
'citation()' on how to cite R or R packages in publications.

Type 'demo()' for some demos, 'help()' for on-line help, or
'help.start()' for an HTML browser interface to help.
Type 'q()' to quit R.

> library(testthat)
> library(DeepPINCS)
Loading required package: keras
> 
> test_check("DeepPINCS")
2022-01-23 12:10:33.749010: I tensorflow/compiler/xla/service/service.cc:168] XLA service 0x7fe189682590 initialized for platform Host (this does not guarantee that XLA will be used). Devices:
2022-01-23 12:10:33.749107: I tensorflow/compiler/xla/service/service.cc:176]   StreamExecutor device (0): Host, Default Version

1/7 [===>..........................] - ETA: 0s - loss: 0.6969 - accuracy: 0.1250
7/7 [==============================] - 1s 91ms/step - loss: 0.6874 - accuracy: 0.4600 - val_loss: 0.6911 - val_accuracy: 0.4800

1/7 [===>..........................] - ETA: 0s - loss: 0.6929 - accuracy: 0.5000
7/7 [==============================] - 1s 75ms/step - loss: 0.6916 - accuracy: 0.4500 - val_loss: 0.6934 - val_accuracy: 0.4600

1/7 [===>..........................] - ETA: 0s - loss: 0.7060 - accuracy: 0.5000
7/7 [==============================] - 1s 75ms/step - loss: 0.7033 - accuracy: 0.4800 - val_loss: 0.6930 - val_accuracy: 0.5200
[ FAIL 0 | WARN 11 | SKIP 0 | PASS 11 ]

[ FAIL 0 | WARN 11 | SKIP 0 | PASS 11 ]
> 
> proc.time()
   user  system elapsed 
127.517   2.259 121.859 

Example timings

DeepPINCS.Rcheck/DeepPINCS-Ex.timings

nameusersystemelapsed
cpi_model21.722 1.43920.942
encoder_in_out0.1670.0030.170
get_canonical_smiles0.0220.0010.016
get_fingerprint0.9830.0920.404
get_graph_structure_node_feature0.0930.0080.101
get_seq_encode_pad0.0490.0020.051
metric_concordance_index3.2080.0973.049
metric_f1_score4.1650.1023.045
multiple_sampling_generator0.0330.0010.034
seq_check0.0240.0000.024
seq_preprocessing0.0430.0220.058