Back to Multiple platform build/check report for BioC 3.14
AB[C]DEFGHIJKLMNOPQRSTUVWXYZ

This page was generated on 2022-01-14 13:06:13 -0500 (Fri, 14 Jan 2022).

HostnameOSArch (*)R versionInstalled pkgs
nebbiolo2Linux (Ubuntu 20.04.4 LTS)x86_644.1.2 (2021-11-01) -- "Bird Hippie" 4327
tokay2Windows Server 2012 R2 Standardx644.1.2 (2021-11-01) -- "Bird Hippie" 4076
machv2macOS 10.14.6 Mojavex86_644.1.2 (2021-11-01) -- "Bird Hippie" 4137
Click on any hostname to see more info about the system (e.g. compilers)      (*) as reported by 'uname -p', except on Windows and Mac OS X

INSTALL results for CountClust on tokay2


To the developers/maintainers of the CountClust package:
- Please allow up to 24 hours (and sometimes 48 hours) for your latest push to git@git.bioconductor.org:packages/CountClust.git to
reflect on this report. See How and When does the builder pull? When will my changes propagate? here for more information.
- Make sure to use the following settings in order to reproduce any error or warning you see on this page.

raw results

Package 408/2083HostnameOS / ArchINSTALLBUILDCHECKBUILD BIN
CountClust 1.22.0  (landing page)
Kushal Dey
Snapshot Date: 2022-01-13 01:55:04 -0500 (Thu, 13 Jan 2022)
git_url: https://git.bioconductor.org/packages/CountClust
git_branch: RELEASE_3_14
git_last_commit: a40f173
git_last_commit_date: 2021-10-26 12:26:27 -0500 (Tue, 26 Oct 2021)
nebbiolo2Linux (Ubuntu 20.04.4 LTS) / x86_64  OK    ERROR  skipped
tokay2Windows Server 2012 R2 Standard / x64  OK    ERROR  skippedskipped
machv2macOS 10.14.6 Mojave / x86_64  OK    ERROR  skippedskipped

Summary

Package: CountClust
Version: 1.22.0
Command: C:\cygwin\bin\curl.exe -O http://155.52.207.166/BBS/3.14/bioc/src/contrib/CountClust_1.22.0.tar.gz && rm -rf CountClust.buildbin-libdir && mkdir CountClust.buildbin-libdir && C:\Users\biocbuild\bbs-3.14-bioc\R\bin\R.exe CMD INSTALL --merge-multiarch --build --library=CountClust.buildbin-libdir CountClust_1.22.0.tar.gz && C:\Users\biocbuild\bbs-3.14-bioc\R\bin\R.exe CMD INSTALL CountClust_1.22.0.zip && rm CountClust_1.22.0.tar.gz CountClust_1.22.0.zip
StartedAt: 2022-01-13 04:54:57 -0500 (Thu, 13 Jan 2022)
EndedAt: 2022-01-13 04:56:26 -0500 (Thu, 13 Jan 2022)
EllapsedTime: 89.1 seconds
RetCode: 0
Status:   OK  

Command output

##############################################################################
##############################################################################
###
### Running command:
###
###   C:\cygwin\bin\curl.exe -O http://155.52.207.166/BBS/3.14/bioc/src/contrib/CountClust_1.22.0.tar.gz && rm -rf CountClust.buildbin-libdir && mkdir CountClust.buildbin-libdir && C:\Users\biocbuild\bbs-3.14-bioc\R\bin\R.exe CMD INSTALL --merge-multiarch --build --library=CountClust.buildbin-libdir CountClust_1.22.0.tar.gz && C:\Users\biocbuild\bbs-3.14-bioc\R\bin\R.exe CMD INSTALL CountClust_1.22.0.zip && rm CountClust_1.22.0.tar.gz CountClust_1.22.0.zip
###
##############################################################################
##############################################################################


  % Total    % Received % Xferd  Average Speed   Time    Time     Time  Current
                                 Dload  Upload   Total   Spent    Left  Speed

  0     0    0     0    0     0      0      0 --:--:-- --:--:-- --:--:--     0
 22 6245k   22 1397k    0     0  3654k      0  0:00:01 --:--:--  0:00:01 3658k
100 6245k  100 6245k    0     0  4621k      0  0:00:01  0:00:01 --:--:-- 4623k

install for i386

* installing *source* package 'CountClust' ...
** using staged installation
** R
** data
*** moving datasets to lazyload DB
** inst
** byte-compile and prepare package for lazy loading
** help
*** installing help indices
  converting help for package 'CountClust'
    finding HTML links ... done
    AbundanceGoM                            html  
    BatchCorrectedCounts                    html  
    ExtractHighCorFeatures                  html  
    ExtractTopFeatures                      html  
    FitGoM                                  html  
    GTExV6Brain.FitGoM                      html  
    MouseDeng2014.FitGoM                    html  
    MouseJaitinSpleen.FitGoM                html  
    RemoveSparseFeatures                    html  
    StructureGGplot                         html  
    compGoM                                 html  
    compare_omega                           html  
    ex.counts                               html  
    handleNA                                html  
    nullmodel_GoM                           html  
** building package indices
** installing vignettes
** testing if installed package can be loaded from temporary location
** testing if installed package can be loaded from final location
** testing if installed package keeps a record of temporary installation path

install for x64

* installing *source* package 'CountClust' ...
** testing if installed package can be loaded
* MD5 sums
packaged installation of 'CountClust' as CountClust_1.22.0.zip
* DONE (CountClust)
* installing to library 'C:/Users/biocbuild/bbs-3.14-bioc/R/library'
package 'CountClust' successfully unpacked and MD5 sums checked