Index of /checkResults/3.14/bioc-LATEST/CAGEr/raw-results

[ICO]NameLast modifiedSizeDescription

[DIR]Parent Directory  -  
[DIR]tokay2/02-Dec-2021 07:17 -  
[DIR]nebbiolo2/02-Dec-2021 07:17 -  
[DIR]machv2/02-Dec-2021 07:18 -  
[   ]info.dcf02-Dec-2021 07:18 270