Index of /checkResults/3.14/bioc-LATEST/CAGEr/raw-results/nebbiolo2

[ICO]NameLast modifiedSizeDescription

[DIR]Parent Directory  -  
[TXT]buildsrc-out.txt02-Dec-2021 07:17 797  
[   ]buildsrc-summary.dcf02-Dec-2021 07:17 410  
[TXT]checksrc-out.txt02-Dec-2021 07:17 3.4K 
[   ]checksrc-summary.dcf02-Dec-2021 07:17 414  
[TXT]install-out.txt02-Dec-2021 07:17 1.0K 
[   ]install-summary.dcf02-Dec-2021 07:17 254