Back to Multiple platform build/check report for BioC 3.14
A[B]CDEFGHIJKLMNOPQRSTUVWXYZ

This page was generated on 2022-01-24 13:07:19 -0500 (Mon, 24 Jan 2022).

HostnameOSArch (*)R versionInstalled pkgs
nebbiolo2Linux (Ubuntu 20.04.4 LTS)x86_644.1.2 (2021-11-01) -- "Bird Hippie" 4329
tokay2Windows Server 2012 R2 Standardx644.1.2 (2021-11-01) -- "Bird Hippie" 4080
machv2macOS 10.14.6 Mojavex86_644.1.2 (2021-11-01) -- "Bird Hippie" 4141
Click on any hostname to see more info about the system (e.g. compilers)      (*) as reported by 'uname -p', except on Windows and Mac OS X

BUILD BIN results for Biobase on machv2


To the developers/maintainers of the Biobase package:
- Please allow up to 24 hours (and sometimes 48 hours) for your latest push to git@git.bioconductor.org:packages/Biobase.git to
reflect on this report. See How and When does the builder pull? When will my changes propagate? here for more information.
- Make sure to use the following settings in order to reproduce any error or warning you see on this page.

raw results

Package 152/2083HostnameOS / ArchINSTALLBUILDCHECKBUILD BIN
Biobase 2.54.0  (landing page)
Bioconductor Package Maintainer
Snapshot Date: 2022-01-23 01:55:04 -0500 (Sun, 23 Jan 2022)
git_url: https://git.bioconductor.org/packages/Biobase
git_branch: RELEASE_3_14
git_last_commit: 8215d76
git_last_commit_date: 2021-10-26 11:45:25 -0500 (Tue, 26 Oct 2021)
nebbiolo2Linux (Ubuntu 20.04.4 LTS) / x86_64  OK    OK    OK  UNNEEDED, same version is already published
tokay2Windows Server 2012 R2 Standard / x64  OK    OK    OK    OK  UNNEEDED, same version is already published
machv2macOS 10.14.6 Mojave / x86_64  OK    OK    OK    OK  UNNEEDED, same version is already published

Summary

Package: Biobase
Version: 2.54.0
Command: rm -rf Biobase.buildbin-libdir && mkdir Biobase.buildbin-libdir && /Users/biocbuild/BBS/utils/build-universal.sh Biobase_2.54.0.tar.gz /Library/Frameworks/R.framework/Resources/bin/R Biobase.buildbin-libdir
StartedAt: 2022-01-23 20:01:05 -0500 (Sun, 23 Jan 2022)
EndedAt: 2022-01-23 20:01:27 -0500 (Sun, 23 Jan 2022)
EllapsedTime: 21.8 seconds
RetCode: 0
Status:   OK  
PackageFile: Biobase_2.54.0.tgz
PackageFileSize: 2.237 MiB

Command output

##############################################################################
##############################################################################
###
### Running command:
###
###   rm -rf Biobase.buildbin-libdir && mkdir Biobase.buildbin-libdir && /Users/biocbuild/BBS/utils/build-universal.sh Biobase_2.54.0.tar.gz /Library/Frameworks/R.framework/Resources/bin/R Biobase.buildbin-libdir
###
##############################################################################
##############################################################################


>>>>>>> 
>>>>>>> INSTALLATION WITH 'R CMD INSTALL --preclean --no-multiarch --library=Biobase.buildbin-libdir Biobase_2.54.0.tar.gz'
>>>>>>> 

* installing *source* package ‘Biobase’ ...
** using staged installation
** libs
clang -mmacosx-version-min=10.13 -I"/Library/Frameworks/R.framework/Resources/include" -DNDEBUG   -I/usr/local/include   -fPIC  -Wall -g -O2  -c Rinit.c -o Rinit.o
clang -mmacosx-version-min=10.13 -I"/Library/Frameworks/R.framework/Resources/include" -DNDEBUG   -I/usr/local/include   -fPIC  -Wall -g -O2  -c anyMissing.c -o anyMissing.o
clang -mmacosx-version-min=10.13 -I"/Library/Frameworks/R.framework/Resources/include" -DNDEBUG   -I/usr/local/include   -fPIC  -Wall -g -O2  -c envir.c -o envir.o
clang -mmacosx-version-min=10.13 -I"/Library/Frameworks/R.framework/Resources/include" -DNDEBUG   -I/usr/local/include   -fPIC  -Wall -g -O2  -c matchpt.c -o matchpt.o
clang -mmacosx-version-min=10.13 -I"/Library/Frameworks/R.framework/Resources/include" -DNDEBUG   -I/usr/local/include   -fPIC  -Wall -g -O2  -c rowMedians.c -o rowMedians.o
clang -mmacosx-version-min=10.13 -I"/Library/Frameworks/R.framework/Resources/include" -DNDEBUG   -I/usr/local/include   -fPIC  -Wall -g -O2  -c sublist_extract.c -o sublist_extract.o
clang -mmacosx-version-min=10.13 -dynamiclib -Wl,-headerpad_max_install_names -undefined dynamic_lookup -single_module -multiply_defined suppress -L/Library/Frameworks/R.framework/Resources/lib -L/usr/local/lib -o Biobase.so Rinit.o anyMissing.o envir.o matchpt.o rowMedians.o sublist_extract.o -F/Library/Frameworks/R.framework/.. -framework R -Wl,-framework -Wl,CoreFoundation
installing to /Users/biocbuild/bbs-3.14-bioc/meat/Biobase.buildbin-libdir/00LOCK-Biobase/00new/Biobase/libs
** R
** data
** inst
** byte-compile and prepare package for lazy loading
** help
*** installing help indices
** building package indices
** installing vignettes
** testing if installed package can be loaded from temporary location
** checking absolute paths in shared objects and dynamic libraries
** testing if installed package can be loaded from final location
** testing if installed package keeps a record of temporary installation path
* DONE (Biobase)


>>>>>>> 
>>>>>>> FIXING LINKS FOR Biobase.buildbin-libdir/Biobase/libs/Biobase.so
>>>>>>> 

install_name_tool -change "/usr/local/lib/libgcc_s.1.dylib" "/Library/Frameworks/R.framework/Versions/4.1/Resources/lib/libgcc_s.1.dylib" "Biobase.buildbin-libdir/Biobase/libs/Biobase.so"
install_name_tool -change "/usr/local/lib/libgfortran.5.dylib" "/Library/Frameworks/R.framework/Versions/4.1/Resources/lib/libgfortran.5.dylib" "Biobase.buildbin-libdir/Biobase/libs/Biobase.so"
install_name_tool -change "/usr/local/lib/libquadmath.0.dylib" "/Library/Frameworks/R.framework/Versions/4.1/Resources/lib/libquadmath.0.dylib" "Biobase.buildbin-libdir/Biobase/libs/Biobase.so"