Back to Multiple platform build/check report for BioC 3.14
A[B]CDEFGHIJKLMNOPQRSTUVWXYZ

This page was generated on 2022-01-21 13:04:05 -0500 (Fri, 21 Jan 2022).

HostnameOSArch (*)R versionInstalled pkgs
nebbiolo2Linux (Ubuntu 20.04.4 LTS)x86_644.1.2 (2021-11-01) -- "Bird Hippie" 4329
tokay2Windows Server 2012 R2 Standardx644.1.2 (2021-11-01) -- "Bird Hippie" 4079
machv2macOS 10.14.6 Mojavex86_644.1.2 (2021-11-01) -- "Bird Hippie" 4140
Click on any hostname to see more info about the system (e.g. compilers)      (*) as reported by 'uname -p', except on Windows and Mac OS X

All results for package Biobase


To the developers/maintainers of the Biobase package:
- Please allow up to 24 hours (and sometimes 48 hours) for your latest push to git@git.bioconductor.org:packages/Biobase.git to
reflect on this report. See How and When does the builder pull? When will my changes propagate? here for more information.
- Make sure to use the following settings in order to reproduce any error or warning you see on this page.

raw results

Package 152/2083HostnameOS / ArchINSTALLBUILDCHECKBUILD BIN
Biobase 2.54.0  (landing page)
Bioconductor Package Maintainer
Snapshot Date: 2022-01-20 01:55:04 -0500 (Thu, 20 Jan 2022)
git_url: https://git.bioconductor.org/packages/Biobase
git_branch: RELEASE_3_14
git_last_commit: 8215d76
git_last_commit_date: 2021-10-26 11:45:25 -0500 (Tue, 26 Oct 2021)
nebbiolo2Linux (Ubuntu 20.04.4 LTS) / x86_64  OK    OK    OK  UNNEEDED, same version is already published
tokay2Windows Server 2012 R2 Standard / x64  OK    OK    OK    OK  UNNEEDED, same version is already published
machv2macOS 10.14.6 Mojave / x86_64  OK    OK    OK    OK  UNNEEDED, same version is already published

Results for Bioconductor software packages that depend directly on package Biobase

QUICK STATSOS / ArchINSTALLBUILDCHECKBUILD BIN
nebbiolo2Linux (Ubuntu 20.04.4 LTS) / x86_64
03458
011450
1392354
tokay2Windows Server 2012 R2 Standard / x64
03453
011444
0787351
00445
machv2macOS 10.14.6 Mojave / x86_64
03457
08452
1389359
00452
Package 1/461HostnameOS / ArchINSTALLBUILDCHECKBUILD BIN
a4Base 1.42.0  (landing page)
Laure Cougnaud
git_last_commit: d7296e2
git_last_commit_date: 2021-10-26 11:58:47 -0500
nebbiolo2Linux (Ubuntu 20.04.4 LTS) / x86_64  OK    OK    OK  UNNEEDED, same version is already published
tokay2Windows Server 2012 R2 Standard / x64  OK    OK    OK    OK  UNNEEDED, same version is already published
machv2macOS 10.14.6 Mojave / x86_64  OK    OK    OK    OK  UNNEEDED, same version is already published
Package 2/461HostnameOS / ArchINSTALLBUILDCHECKBUILD BIN
a4Classif 1.42.0  (landing page)
Laure Cougnaud
git_last_commit: 820854a
git_last_commit_date: 2021-10-26 11:58:52 -0500
nebbiolo2Linux (Ubuntu 20.04.4 LTS) / x86_64  OK    OK    OK  UNNEEDED, same version is already published
tokay2Windows Server 2012 R2 Standard / x64  OK    OK    OK    OK  UNNEEDED, same version is already published
machv2macOS 10.14.6 Mojave / x86_64  OK    OK    OK    OK  UNNEEDED, same version is already published
Package 3/461HostnameOS / ArchINSTALLBUILDCHECKBUILD BIN
a4Core 1.42.0  (landing page)
Laure Cougnaud
git_last_commit: 6985950
git_last_commit_date: 2021-10-26 11:58:54 -0500
nebbiolo2Linux (Ubuntu 20.04.4 LTS) / x86_64  OK    OK    OK  UNNEEDED, same version is already published
tokay2Windows Server 2012 R2 Standard / x64  OK    OK    OK    OK  UNNEEDED, same version is already published
machv2macOS 10.14.6 Mojave / x86_64  OK    OK    OK    OK  UNNEEDED, same version is already published
Package 4/461HostnameOS / ArchINSTALLBUILDCHECKBUILD BIN
a4Preproc 1.42.0  (landing page)
Laure Cougnaud
git_last_commit: 773a91e
git_last_commit_date: 2021-10-26 11:58:50 -0500
nebbiolo2Linux (Ubuntu 20.04.4 LTS) / x86_64  OK    OK    OK  UNNEEDED, same version is already published
tokay2Windows Server 2012 R2 Standard / x64  OK    OK    OK    OK  UNNEEDED, same version is already published
machv2macOS 10.14.6 Mojave / x86_64  OK    OK    OK    OK  UNNEEDED, same version is already published
Package 5/461HostnameOS / ArchINSTALLBUILDCHECKBUILD BIN
ABarray 1.62.0  (landing page)
Yongming Andrew Sun
git_last_commit: b46ddfc
git_last_commit_date: 2021-10-26 11:49:58 -0500
nebbiolo2Linux (Ubuntu 20.04.4 LTS) / x86_64  OK    OK    OK  UNNEEDED, same version is already published
tokay2Windows Server 2012 R2 Standard / x64  OK    OK    OK    OK  UNNEEDED, same version is already published
machv2macOS 10.14.6 Mojave / x86_64  OK    OK    OK    OK  UNNEEDED, same version is already published
Package 6/461HostnameOS / ArchINSTALLBUILDCHECKBUILD BIN
ACE 1.12.0  (landing page)
Jos B Poell
git_last_commit: 543b422
git_last_commit_date: 2021-10-26 12:45:46 -0500
nebbiolo2Linux (Ubuntu 20.04.4 LTS) / x86_64  OK    OK    OK  UNNEEDED, same version is already published
tokay2Windows Server 2012 R2 Standard / x64  OK    OK    OK    OK  UNNEEDED, same version is already published
machv2macOS 10.14.6 Mojave / x86_64  OK    OK    OK    OK  UNNEEDED, same version is already published
Package 7/461HostnameOS / ArchINSTALLBUILDCHECKBUILD BIN
aCGH 1.72.0  (landing page)
Peter Dimitrov
git_last_commit: b5d4022
git_last_commit_date: 2021-10-26 11:47:03 -0500
nebbiolo2Linux (Ubuntu 20.04.4 LTS) / x86_64  OK    OK    OK  UNNEEDED, same version is already published
tokay2Windows Server 2012 R2 Standard / x64  OK    OK    OK    OK  UNNEEDED, same version is already published
machv2macOS 10.14.6 Mojave / x86_64  OK    OK    OK    OK  UNNEEDED, same version is already published
Package 8/461HostnameOS / ArchINSTALLBUILDCHECKBUILD BIN
ACME 2.50.0  (landing page)
Sean Davis
git_last_commit: d55a19a
git_last_commit_date: 2021-10-26 11:51:02 -0500
nebbiolo2Linux (Ubuntu 20.04.4 LTS) / x86_64  OK    OK    WARNINGS  UNNEEDED, same version is already published
tokay2Windows Server 2012 R2 Standard / x64  OK    OK    WARNINGS    OK  UNNEEDED, same version is already published
machv2macOS 10.14.6 Mojave / x86_64  OK    OK    OK    OK  UNNEEDED, same version is already published
Package 9/461HostnameOS / ArchINSTALLBUILDCHECKBUILD BIN
adSplit 1.64.0  (landing page)
Claudio Lottaz
git_last_commit: 32f150e
git_last_commit_date: 2021-10-26 11:49:19 -0500
nebbiolo2Linux (Ubuntu 20.04.4 LTS) / x86_64  OK    OK    OK  UNNEEDED, same version is already published
tokay2Windows Server 2012 R2 Standard / x64  OK    OK    OK    OK  UNNEEDED, same version is already published
machv2macOS 10.14.6 Mojave / x86_64  OK    OK    OK    OK  UNNEEDED, same version is already published
Package 10/461HostnameOS / ArchINSTALLBUILDCHECKBUILD BIN
affy 1.72.0  (landing page)
Rafael A. Irizarry
git_last_commit: 3750b4e
git_last_commit_date: 2021-10-26 11:45:47 -0500
nebbiolo2Linux (Ubuntu 20.04.4 LTS) / x86_64  OK    OK    WARNINGS  UNNEEDED, same version is already published
tokay2Windows Server 2012 R2 Standard / x64  OK    OK    WARNINGS    OK  UNNEEDED, same version is already published
machv2macOS 10.14.6 Mojave / x86_64  OK    OK    WARNINGS    OK  UNNEEDED, same version is already published
Package 11/461HostnameOS / ArchINSTALLBUILDCHECKBUILD BIN
affycomp 1.70.0  (landing page)
Rafael A. Irizarry
git_last_commit: 487f677
git_last_commit_date: 2021-10-26 11:46:00 -0500
nebbiolo2Linux (Ubuntu 20.04.4 LTS) / x86_64  OK    OK    OK  UNNEEDED, same version is already published
tokay2Windows Server 2012 R2 Standard / x64  OK    OK    OK    OK  UNNEEDED, same version is already published
machv2macOS 10.14.6 Mojave / x86_64  OK    OK    OK    OK  UNNEEDED, same version is already published
Package 12/461HostnameOS / ArchINSTALLBUILDCHECKBUILD BIN
affyContam 1.52.0  (landing page)
V. Carey
git_last_commit: 47c1d86
git_last_commit_date: 2021-10-26 11:53:10 -0500
nebbiolo2Linux (Ubuntu 20.04.4 LTS) / x86_64  OK    OK    OK  UNNEEDED, same version is already published
tokay2Windows Server 2012 R2 Standard / x64  OK    OK    OK    OK  UNNEEDED, same version is already published
machv2macOS 10.14.6 Mojave / x86_64  OK    OK    OK    OK  UNNEEDED, same version is already published
Package 13/461HostnameOS / ArchINSTALLBUILDCHECKBUILD BIN
affycoretools 1.66.0  (landing page)
James W. MacDonald
git_last_commit: 6bf769d
git_last_commit_date: 2021-10-26 11:48:47 -0500
nebbiolo2Linux (Ubuntu 20.04.4 LTS) / x86_64  OK    OK    WARNINGS  UNNEEDED, same version is already published
tokay2Windows Server 2012 R2 Standard / x64  OK    OK    WARNINGS    OK  UNNEEDED, same version is already published
machv2macOS 10.14.6 Mojave / x86_64  OK    OK    WARNINGS    OK  UNNEEDED, same version is already published
Package 14/461HostnameOS / ArchINSTALLBUILDCHECKBUILD BIN
affyILM 1.46.0  (landing page)
Myriam Kroll and Fabrice Berger
git_last_commit: 67ffbfa
git_last_commit_date: 2021-10-26 11:56:15 -0500
nebbiolo2Linux (Ubuntu 20.04.4 LTS) / x86_64  OK    OK    OK  UNNEEDED, same version is already published
tokay2Windows Server 2012 R2 Standard / x64  OK    OK    OK    OK  UNNEEDED, same version is already published
machv2macOS 10.14.6 Mojave / x86_64  OK    OK    OK    OK  UNNEEDED, same version is already published
Package 15/461HostnameOS / ArchINSTALLBUILDCHECKBUILD BIN
affyPLM 1.70.0  (landing page)
Ben Bolstad
git_last_commit: 64abfec
git_last_commit_date: 2021-10-26 11:46:18 -0500
nebbiolo2Linux (Ubuntu 20.04.4 LTS) / x86_64  OK    OK    WARNINGS  UNNEEDED, same version is already published
tokay2Windows Server 2012 R2 Standard / x64  OK    OK    OK    OK  UNNEEDED, same version is already published
machv2macOS 10.14.6 Mojave / x86_64  OK    OK    OK    OK  UNNEEDED, same version is already published
Package 16/461HostnameOS / ArchINSTALLBUILDCHECKBUILD BIN
AGDEX 1.42.0  (landing page)
Cuilan lani Gao
git_last_commit: 175cf1b
git_last_commit_date: 2021-10-26 12:00:32 -0500
nebbiolo2Linux (Ubuntu 20.04.4 LTS) / x86_64  OK    OK    OK  UNNEEDED, same version is already published
tokay2Windows Server 2012 R2 Standard / x64  OK    OK    OK    OK  UNNEEDED, same version is already published
machv2macOS 10.14.6 Mojave / x86_64  OK    OK    OK    OK  UNNEEDED, same version is already published
Package 17/461HostnameOS / ArchINSTALLBUILDCHECKBUILD BIN
AgiMicroRna 2.44.0  (landing page)
Pedro Lopez-Romero
git_last_commit: 8b308ba
git_last_commit_date: 2021-10-26 11:54:33 -0500
nebbiolo2Linux (Ubuntu 20.04.4 LTS) / x86_64  OK    OK    OK  UNNEEDED, same version is already published
tokay2Windows Server 2012 R2 Standard / x64  OK    OK    OK    OK  UNNEEDED, same version is already published
machv2macOS 10.14.6 Mojave / x86_64  OK    OK    OK    OK  UNNEEDED, same version is already published
Package 18/461HostnameOS / ArchINSTALLBUILDCHECKBUILD BIN
AIMS 1.26.0  (landing page)
Eric R Paquet
git_last_commit: 5dcf60e
git_last_commit_date: 2021-10-26 12:17:51 -0500
nebbiolo2Linux (Ubuntu 20.04.4 LTS) / x86_64  OK    OK    OK  UNNEEDED, same version is already published
tokay2Windows Server 2012 R2 Standard / x64  OK    OK    OK    OK  UNNEEDED, same version is already published
machv2macOS 10.14.6 Mojave / x86_64  OK    OK    OK    OK  UNNEEDED, same version is already published
Package 19/461HostnameOS / ArchINSTALLBUILDCHECKBUILD BIN
altcdfenvs 2.56.0  (landing page)
Laurent Gautier
git_last_commit: 941e00b
git_last_commit_date: 2021-10-26 11:46:44 -0500
nebbiolo2Linux (Ubuntu 20.04.4 LTS) / x86_64  OK    OK    OK  UNNEEDED, same version is already published
tokay2Windows Server 2012 R2 Standard / x64  OK    OK    OK    OK  UNNEEDED, same version is already published
machv2macOS 10.14.6 Mojave / x86_64  OK    OK    OK    OK  UNNEEDED, same version is already published
Package 20/461HostnameOS / ArchINSTALLBUILDCHECKBUILD BIN
ANF 1.16.0  (landing page)
Tianle Ma
git_last_commit: 746a193
git_last_commit_date: 2021-10-26 12:38:49 -0500
nebbiolo2Linux (Ubuntu 20.04.4 LTS) / x86_64  OK    OK    OK  UNNEEDED, same version is already published
tokay2Windows Server 2012 R2 Standard / x64  OK    OK    OK    OK  UNNEEDED, same version is already published
machv2macOS 10.14.6 Mojave / x86_64  OK    OK    OK    OK  UNNEEDED, same version is already published
Package 21/461HostnameOS / ArchINSTALLBUILDCHECKBUILD BIN
annaffy 1.66.0  (landing page)
Colin A. Smith
git_last_commit: aa1afa1
git_last_commit_date: 2021-10-26 11:46:08 -0500
nebbiolo2Linux (Ubuntu 20.04.4 LTS) / x86_64  OK    OK    WARNINGS  UNNEEDED, same version is already published
tokay2Windows Server 2012 R2 Standard / x64  OK    OK    WARNINGS    OK  UNNEEDED, same version is already published
machv2macOS 10.14.6 Mojave / x86_64  OK    OK    WARNINGS    OK  UNNEEDED, same version is already published
Package 22/461HostnameOS / ArchINSTALLBUILDCHECKBUILD BIN
annmap 1.36.99  (landing page)
Chris Wirth
git_last_commit: 959b765
git_last_commit_date: 2022-01-07 07:25:06 -0500
nebbiolo2Linux (Ubuntu 20.04.4 LTS) / x86_64  OK    OK    WARNINGS  UNNEEDED, same version is already published
tokay2Windows Server 2012 R2 Standard / x64... NOT SUPPORTED ...
machv2macOS 10.14.6 Mojave / x86_64  OK    OK    WARNINGS    OK  UNNEEDED, same version is already published
Package 23/461HostnameOS / ArchINSTALLBUILDCHECKBUILD BIN
annotate 1.72.0  (landing page)
Bioconductor Package Maintainer
git_last_commit: 67ac76a
git_last_commit_date: 2021-10-26 11:45:29 -0500
nebbiolo2Linux (Ubuntu 20.04.4 LTS) / x86_64  OK    OK    OK  UNNEEDED, same version is already published
tokay2Windows Server 2012 R2 Standard / x64  OK    OK    ERROR    OK  
machv2macOS 10.14.6 Mojave / x86_64  OK    OK    OK    OK  UNNEEDED, same version is already published
Package 24/461HostnameOS / ArchINSTALLBUILDCHECKBUILD BIN
AnnotationDbi 1.56.2  (landing page)
Bioconductor Package Maintainer
git_last_commit: 13fdc4a
git_last_commit_date: 2021-11-09 12:05:33 -0500
nebbiolo2Linux (Ubuntu 20.04.4 LTS) / x86_64  OK    OK    OK  UNNEEDED, same version is already published
tokay2Windows Server 2012 R2 Standard / x64  OK    OK    OK    OK  UNNEEDED, same version is already published
machv2macOS 10.14.6 Mojave / x86_64  OK    OK    OK    OK  UNNEEDED, same version is already published
Package 25/461HostnameOS / ArchINSTALLBUILDCHECKBUILD BIN
AnnotationForge 1.36.0  (landing page)
Bioconductor Package Maintainer
git_last_commit: 523b5f0
git_last_commit_date: 2021-10-26 12:03:32 -0500
nebbiolo2Linux (Ubuntu 20.04.4 LTS) / x86_64  OK    OK    OK  UNNEEDED, same version is already published
tokay2Windows Server 2012 R2 Standard / x64  OK    OK    OK    OK  UNNEEDED, same version is already published
machv2macOS 10.14.6 Mojave / x86_64  OK    OK    OK    OK  UNNEEDED, same version is already published
Package 26/461HostnameOS / ArchINSTALLBUILDCHECKBUILD BIN
AnnotationHubData 1.24.2  (landing page)
Bioconductor Package Maintainer
git_last_commit: fe8b582
git_last_commit_date: 2022-01-18 08:35:19 -0500
nebbiolo2Linux (Ubuntu 20.04.4 LTS) / x86_64  OK    OK    WARNINGS  YES
tokay2Windows Server 2012 R2 Standard / x64  OK    OK    WARNINGS    OK  YES
machv2macOS 10.14.6 Mojave / x86_64  OK    OK    ERROR    OK  
Package 27/461HostnameOS / ArchINSTALLBUILDCHECKBUILD BIN
annotationTools 1.68.0  (landing page)
Alexandre Kuhn
git_last_commit: 387174f
git_last_commit_date: 2021-10-26 11:50:55 -0500
nebbiolo2Linux (Ubuntu 20.04.4 LTS) / x86_64  OK    OK    OK  UNNEEDED, same version is already published
tokay2Windows Server 2012 R2 Standard / x64  OK    OK    OK    OK  UNNEEDED, same version is already published
machv2macOS 10.14.6 Mojave / x86_64  OK    OK    OK    OK  UNNEEDED, same version is already published
Package 28/461HostnameOS / ArchINSTALLBUILDCHECKBUILD BIN
ArrayExpress 1.54.0  (landing page)
Suhaib Mohammed
git_last_commit: 9a09ffb
git_last_commit_date: 2021-10-26 11:52:59 -0500
nebbiolo2Linux (Ubuntu 20.04.4 LTS) / x86_64  OK    OK    OK  UNNEEDED, same version is already published
tokay2Windows Server 2012 R2 Standard / x64  OK    ERROR  skippedskipped
machv2macOS 10.14.6 Mojave / x86_64  OK    OK    OK    OK  UNNEEDED, same version is already published
Package 29/461HostnameOS / ArchINSTALLBUILDCHECKBUILD BIN
ArrayExpressHTS 1.44.0  (landing page)
Angela Goncalves , Andrew Tikhonov
git_last_commit: bb650ce
git_last_commit_date: 2021-10-26 11:59:09 -0500
nebbiolo2Linux (Ubuntu 20.04.4 LTS) / x86_64  OK    OK    WARNINGS  UNNEEDED, same version is already published
tokay2Windows Server 2012 R2 Standard / x64... NOT SUPPORTED ...
machv2macOS 10.14.6 Mojave / x86_64  OK    OK    OK    OK  UNNEEDED, same version is already published
Package 30/461HostnameOS / ArchINSTALLBUILDCHECKBUILD BIN
arrayMvout 1.52.0  (landing page)
V. Carey
git_last_commit: 963b432
git_last_commit_date: 2021-10-26 11:53:12 -0500
nebbiolo2Linux (Ubuntu 20.04.4 LTS) / x86_64  OK    OK    OK  UNNEEDED, same version is already published
tokay2Windows Server 2012 R2 Standard / x64  OK    OK    OK    OK  UNNEEDED, same version is already published
machv2macOS 10.14.6 Mojave / x86_64  OK    OK    OK    OK  UNNEEDED, same version is already published
Package 31/461HostnameOS / ArchINSTALLBUILDCHECKBUILD BIN
arrayQualityMetrics 3.50.0  (landing page)
Mike Smith
git_last_commit: 784f433
git_last_commit_date: 2021-10-26 11:51:28 -0500
nebbiolo2Linux (Ubuntu 20.04.4 LTS) / x86_64  OK    OK    OK  UNNEEDED, same version is already published
tokay2Windows Server 2012 R2 Standard / x64  OK    OK    OK    OK  UNNEEDED, same version is already published
machv2macOS 10.14.6 Mojave / x86_64  OK    OK    OK    OK  UNNEEDED, same version is already published
Package 32/461HostnameOS / ArchINSTALLBUILDCHECKBUILD BIN
attract 1.46.0  (landing page)
Samuel Zimmerman
git_last_commit: 8500b7d
git_last_commit_date: 2021-10-26 11:56:18 -0500
nebbiolo2Linux (Ubuntu 20.04.4 LTS) / x86_64  OK    OK    OK  UNNEEDED, same version is already published
tokay2Windows Server 2012 R2 Standard / x64  OK    OK    OK    OK  UNNEEDED, same version is already published
machv2macOS 10.14.6 Mojave / x86_64  OK    OK    OK    OK  UNNEEDED, same version is already published
Package 33/461HostnameOS / ArchINSTALLBUILDCHECKBUILD BIN
Autotuner 1.8.0  (landing page)
Craig McLean
git_last_commit: 64c9943
git_last_commit_date: 2021-10-26 12:53:11 -0500
nebbiolo2Linux (Ubuntu 20.04.4 LTS) / x86_64  OK    ERROR  skipped
tokay2Windows Server 2012 R2 Standard / x64  OK    ERROR  skippedskipped
machv2macOS 10.14.6 Mojave / x86_64  OK    ERROR  skippedskipped
Package 34/461HostnameOS / ArchINSTALLBUILDCHECKBUILD BIN
BAGS 2.34.0  (landing page)
Alejandro Quiroz-Zarate
git_last_commit: 4d95037
git_last_commit_date: 2021-10-26 12:01:47 -0500
nebbiolo2Linux (Ubuntu 20.04.4 LTS) / x86_64  OK    OK    OK  UNNEEDED, same version is already published
tokay2Windows Server 2012 R2 Standard / x64  OK    OK    OK    OK  UNNEEDED, same version is already published
machv2macOS 10.14.6 Mojave / x86_64  OK    OK    OK    OK  UNNEEDED, same version is already published
Package 35/461HostnameOS / ArchINSTALLBUILDCHECKBUILD BIN
ballgown 2.26.0  (landing page)
Jack Fu
git_last_commit: 4f1dda8
git_last_commit_date: 2021-10-26 12:14:54 -0500
nebbiolo2Linux (Ubuntu 20.04.4 LTS) / x86_64  OK    OK    OK  UNNEEDED, same version is already published
tokay2Windows Server 2012 R2 Standard / x64  OK    OK    OK    OK  UNNEEDED, same version is already published
machv2macOS 10.14.6 Mojave / x86_64  OK    OK    OK    OK  UNNEEDED, same version is already published
Package 36/461HostnameOS / ArchINSTALLBUILDCHECKBUILD BIN
BASiCS 2.6.0  (landing page)
Alan O'Callaghan
git_last_commit: 4c9d804
git_last_commit_date: 2021-10-26 12:38:26 -0500
nebbiolo2Linux (Ubuntu 20.04.4 LTS) / x86_64  OK    OK    OK  UNNEEDED, same version is already published
tokay2Windows Server 2012 R2 Standard / x64  OK    OK    OK    OK  UNNEEDED, same version is already published
machv2macOS 10.14.6 Mojave / x86_64  OK    OK    OK    OK  UNNEEDED, same version is already published
Package 37/461HostnameOS / ArchINSTALLBUILDCHECKBUILD BIN
BayesKnockdown 1.20.0  (landing page)
William Chad Young
git_last_commit: a0dc6b6
git_last_commit_date: 2021-10-26 12:29:23 -0500
nebbiolo2Linux (Ubuntu 20.04.4 LTS) / x86_64  OK    OK    OK  UNNEEDED, same version is already published
tokay2Windows Server 2012 R2 Standard / x64  OK    OK    OK    OK  UNNEEDED, same version is already published
machv2macOS 10.14.6 Mojave / x86_64  OK    OK    OK    OK  UNNEEDED, same version is already published
Package 38/461HostnameOS / ArchINSTALLBUILDCHECKBUILD BIN
beadarray 2.44.0  (landing page)
Mark Dunning
git_last_commit: c35a5ce
git_last_commit_date: 2021-10-26 11:49:14 -0500
nebbiolo2Linux (Ubuntu 20.04.4 LTS) / x86_64  OK    OK    OK  UNNEEDED, same version is already published
tokay2Windows Server 2012 R2 Standard / x64  OK    OK    OK    OK  UNNEEDED, same version is already published
machv2macOS 10.14.6 Mojave / x86_64  OK    OK    OK    OK  UNNEEDED, same version is already published
Package 39/461HostnameOS / ArchINSTALLBUILDCHECKBUILD BIN
beadarraySNP 1.60.0  (landing page)
Jan Oosting
git_last_commit: baf3162
git_last_commit_date: 2021-10-26 11:50:17 -0500
nebbiolo2Linux (Ubuntu 20.04.4 LTS) / x86_64  OK    OK    OK  UNNEEDED, same version is already published
tokay2Windows Server 2012 R2 Standard / x64  OK    OK    OK    OK  UNNEEDED, same version is already published
machv2macOS 10.14.6 Mojave / x86_64  OK    OK    OK    OK  UNNEEDED, same version is already published
Package 40/461HostnameOS / ArchINSTALLBUILDCHECKBUILD BIN
BgeeDB 2.20.0  (landing page)
Julien Wollbrett , Julien Roux , Andrea Komljenovic , Frederic Bastian
git_last_commit: 48e6e25
git_last_commit_date: 2021-10-26 12:27:16 -0500
nebbiolo2Linux (Ubuntu 20.04.4 LTS) / x86_64  OK    OK    OK  UNNEEDED, same version is already published
tokay2Windows Server 2012 R2 Standard / x64  OK    OK    OK    OK  UNNEEDED, same version is already published
machv2macOS 10.14.6 Mojave / x86_64  OK    OK    OK    OK  UNNEEDED, same version is already published
Package 41/461HostnameOS / ArchINSTALLBUILDCHECKBUILD BIN
bgx 1.60.0  (landing page)
Ernest Turro
git_last_commit: d7392b7
git_last_commit_date: 2021-10-26 11:51:11 -0500
nebbiolo2Linux (Ubuntu 20.04.4 LTS) / x86_64  OK    OK    OK  UNNEEDED, same version is already published
tokay2Windows Server 2012 R2 Standard / x64  OK    OK    OK    OK  UNNEEDED, same version is already published
machv2macOS 10.14.6 Mojave / x86_64  OK    OK    WARNINGS    OK  UNNEEDED, same version is already published
Package 42/461HostnameOS / ArchINSTALLBUILDCHECKBUILD BIN
BicARE 1.52.0  (landing page)
Pierre Gestraud
git_last_commit: 1c04ed8
git_last_commit_date: 2021-10-26 11:53:14 -0500
nebbiolo2Linux (Ubuntu 20.04.4 LTS) / x86_64  OK    OK    OK  UNNEEDED, same version is already published
tokay2Windows Server 2012 R2 Standard / x64  OK    OK    OK    OK  UNNEEDED, same version is already published
machv2macOS 10.14.6 Mojave / x86_64  OK    OK    OK    OK  UNNEEDED, same version is already published
Package 43/461HostnameOS / ArchINSTALLBUILDCHECKBUILD BIN
bigmelon 1.20.0  (landing page)
Tyler J. Gorrie-Stone
git_last_commit: 4fee9cc
git_last_commit_date: 2021-10-26 12:30:04 -0500
nebbiolo2Linux (Ubuntu 20.04.4 LTS) / x86_64  OK    OK    WARNINGS  UNNEEDED, same version is already published
tokay2Windows Server 2012 R2 Standard / x64  OK    OK    WARNINGS    OK  UNNEEDED, same version is already published
machv2macOS 10.14.6 Mojave / x86_64  OK    OK    WARNINGS    OK  UNNEEDED, same version is already published
Package 44/461HostnameOS / ArchINSTALLBUILDCHECKBUILD BIN
biobroom 1.26.0  (landing page)
John D. Storey and Andrew J. Bass
git_last_commit: ca6f1c4
git_last_commit_date: 2021-10-26 12:23:36 -0500
nebbiolo2Linux (Ubuntu 20.04.4 LTS) / x86_64  OK    OK    WARNINGS  UNNEEDED, same version is already published
tokay2Windows Server 2012 R2 Standard / x64  OK    OK    WARNINGS    OK  UNNEEDED, same version is already published
machv2macOS 10.14.6 Mojave / x86_64  OK    OK    WARNINGS    OK  UNNEEDED, same version is already published
Package 45/461HostnameOS / ArchINSTALLBUILDCHECKBUILD BIN
bioCancer 1.22.0  (landing page)
Karim Mezhoud
git_last_commit: bd61aa9
git_last_commit_date: 2021-10-26 12:28:03 -0500
nebbiolo2Linux (Ubuntu 20.04.4 LTS) / x86_64  OK    OK    OK  UNNEEDED, same version is already published
tokay2Windows Server 2012 R2 Standard / x64  OK    OK    OK    OK  UNNEEDED, same version is already published
machv2macOS 10.14.6 Mojave / x86_64  OK    OK    OK    OK  UNNEEDED, same version is already published
Package 46/461HostnameOS / ArchINSTALLBUILDCHECKBUILD BIN
biocViews 1.62.1  (landing page)
Bioconductor Package Maintainer
git_last_commit: b4b6834
git_last_commit_date: 2021-11-01 13:52:36 -0500
nebbiolo2Linux (Ubuntu 20.04.4 LTS) / x86_64  OK    OK    OK  UNNEEDED, same version is already published
tokay2Windows Server 2012 R2 Standard / x64  OK    OK    OK    OK  UNNEEDED, same version is already published
machv2macOS 10.14.6 Mojave / x86_64  OK    OK    OK    OK  UNNEEDED, same version is already published
Package 47/461HostnameOS / ArchINSTALLBUILDCHECKBUILD BIN
bioDist 1.66.0  (landing page)
Bioconductor Package Maintainer
git_last_commit: a81b002
git_last_commit_date: 2021-10-26 11:47:35 -0500
nebbiolo2Linux (Ubuntu 20.04.4 LTS) / x86_64  OK    OK    OK  UNNEEDED, same version is already published
tokay2Windows Server 2012 R2 Standard / x64  OK    OK    OK    OK  UNNEEDED, same version is already published
machv2macOS 10.14.6 Mojave / x86_64  OK    OK    OK    OK  UNNEEDED, same version is already published
Package 48/461HostnameOS / ArchINSTALLBUILDCHECKBUILD BIN
BioMVCClass 1.62.0  (landing page)
Elizabeth Whalen
git_last_commit: 346bc9e
git_last_commit_date: 2021-10-26 11:50:10 -0500
nebbiolo2Linux (Ubuntu 20.04.4 LTS) / x86_64  OK    OK    OK  UNNEEDED, same version is already published
tokay2Windows Server 2012 R2 Standard / x64  OK    OK    OK    OK  UNNEEDED, same version is already published
machv2macOS 10.14.6 Mojave / x86_64  OK    OK    OK    OK  UNNEEDED, same version is already published
Package 49/461HostnameOS / ArchINSTALLBUILDCHECKBUILD BIN
BioNet 1.54.0  (landing page)
Marcus Dittrich
git_last_commit: 09b4d2f
git_last_commit_date: 2021-10-26 11:56:40 -0500
nebbiolo2Linux (Ubuntu 20.04.4 LTS) / x86_64  OK    OK    OK  UNNEEDED, same version is already published
tokay2Windows Server 2012 R2 Standard / x64  OK    OK    OK    OK  UNNEEDED, same version is already published
machv2macOS 10.14.6 Mojave / x86_64  OK    OK    OK    OK  UNNEEDED, same version is already published
Package 50/461HostnameOS / ArchINSTALLBUILDCHECKBUILD BIN
BioQC 1.22.0  (landing page)
Jitao David Zhang
git_last_commit: ed54d1a
git_last_commit_date: 2021-10-26 12:24:03 -0500
nebbiolo2Linux (Ubuntu 20.04.4 LTS) / x86_64  OK    OK    OK  UNNEEDED, same version is already published
tokay2Windows Server 2012 R2 Standard / x64  OK    OK    OK    OK  UNNEEDED, same version is already published
machv2macOS 10.14.6 Mojave / x86_64  OK    OK    OK    OK  UNNEEDED, same version is already published
Package 51/461HostnameOS / ArchINSTALLBUILDCHECKBUILD BIN
biosigner 1.22.0  (landing page)
Philippe Rinaudo , Etienne Thevenot
git_last_commit: 72d39bd
git_last_commit_date: 2021-10-26 12:25:59 -0500
nebbiolo2Linux (Ubuntu 20.04.4 LTS) / x86_64  OK    OK    OK  UNNEEDED, same version is already published
tokay2Windows Server 2012 R2 Standard / x64  OK    OK    OK    OK  UNNEEDED, same version is already published
machv2macOS 10.14.6 Mojave / x86_64  OK    OK    OK    OK  UNNEEDED, same version is already published
Package 52/461HostnameOS / ArchINSTALLBUILDCHECKBUILD BIN
biscuiteer 1.8.0  (landing page)
"Jacob Morrison"
git_last_commit: 2a5989a
git_last_commit_date: 2021-10-26 12:55:31 -0500
nebbiolo2Linux (Ubuntu 20.04.4 LTS) / x86_64  OK    OK    WARNINGS  UNNEEDED, same version is already published
tokay2Windows Server 2012 R2 Standard / x64  OK    OK    WARNINGS    OK  UNNEEDED, same version is already published
machv2macOS 10.14.6 Mojave / x86_64  OK    OK    WARNINGS    OK  UNNEEDED, same version is already published
Package 53/461HostnameOS / ArchINSTALLBUILDCHECKBUILD BIN
BiSeq 1.34.0  (landing page)
Katja Hebestreit
git_last_commit: 5d4449a
git_last_commit_date: 2021-10-26 12:07:58 -0500
nebbiolo2Linux (Ubuntu 20.04.4 LTS) / x86_64  OK    OK    OK  UNNEEDED, same version is already published
tokay2Windows Server 2012 R2 Standard / x64  OK    OK    OK    OK  UNNEEDED, same version is already published
machv2macOS 10.14.6 Mojave / x86_64  OK    OK    OK    OK  UNNEEDED, same version is already published
Package 54/461HostnameOS / ArchINSTALLBUILDCHECKBUILD BIN
blima 1.28.0  (landing page)
Vojtěch Kulvait
git_last_commit: 2a638a4
git_last_commit_date: 2021-10-26 12:13:43 -0500
nebbiolo2Linux (Ubuntu 20.04.4 LTS) / x86_64  OK    OK    WARNINGS  UNNEEDED, same version is already published
tokay2Windows Server 2012 R2 Standard / x64  OK    OK    WARNINGS    OK  UNNEEDED, same version is already published
machv2macOS 10.14.6 Mojave / x86_64  OK    OK    WARNINGS    OK  UNNEEDED, same version is already published
Package 55/461HostnameOS / ArchINSTALLBUILDCHECKBUILD BIN
BLMA 1.18.0  (landing page)
Hung Nguyen
git_last_commit: f5e4a71
git_last_commit_date: 2021-10-26 12:34:52 -0500
nebbiolo2Linux (Ubuntu 20.04.4 LTS) / x86_64  OK    OK    OK  UNNEEDED, same version is already published
tokay2Windows Server 2012 R2 Standard / x64  OK    OK    OK    OK  UNNEEDED, same version is already published
machv2macOS 10.14.6 Mojave / x86_64  OK    OK    OK    OK  UNNEEDED, same version is already published
Package 56/461HostnameOS / ArchINSTALLBUILDCHECKBUILD BIN
bnem 1.2.0  (landing page)
Martin Pirkl
git_last_commit: 7189a51
git_last_commit_date: 2021-10-26 13:05:36 -0500
nebbiolo2Linux (Ubuntu 20.04.4 LTS) / x86_64  OK    OK    OK  UNNEEDED, same version is already published
tokay2Windows Server 2012 R2 Standard / x64  OK    OK    OK    OK  UNNEEDED, same version is already published
machv2macOS 10.14.6 Mojave / x86_64  OK    OK    OK    OK  UNNEEDED, same version is already published
Package 57/461HostnameOS / ArchINSTALLBUILDCHECKBUILD BIN
BrainStars 1.38.0  (landing page)
Itoshi NIKAIDO
git_last_commit: 58371f0
git_last_commit_date: 2021-10-26 12:02:29 -0500
nebbiolo2Linux (Ubuntu 20.04.4 LTS) / x86_64  OK    ERROR  skipped
tokay2Windows Server 2012 R2 Standard / x64  OK    ERROR  skippedskipped
machv2macOS 10.14.6 Mojave / x86_64  OK    ERROR  skippedskipped
Package 58/461HostnameOS / ArchINSTALLBUILDCHECKBUILD BIN
bsseq 1.30.0  (landing page)
Kasper Daniel Hansen
git_last_commit: 7eb5223
git_last_commit_date: 2021-10-26 12:03:49 -0500
nebbiolo2Linux (Ubuntu 20.04.4 LTS) / x86_64  OK    OK    OK  UNNEEDED, same version is already published
tokay2Windows Server 2012 R2 Standard / x64  OK    OK    OK    OK  UNNEEDED, same version is already published
machv2macOS 10.14.6 Mojave / x86_64  OK    OK    OK    OK  UNNEEDED, same version is already published
Package 59/461HostnameOS / ArchINSTALLBUILDCHECKBUILD BIN
BubbleTree 2.24.0  (landing page)
Todd Creasy , Wei Zhu
git_last_commit: c74ad0d
git_last_commit_date: 2021-10-26 12:18:49 -0500
nebbiolo2Linux (Ubuntu 20.04.4 LTS) / x86_64  OK    OK    OK  UNNEEDED, same version is already published
tokay2Windows Server 2012 R2 Standard / x64  OK    OK    OK    OK  UNNEEDED, same version is already published
machv2macOS 10.14.6 Mojave / x86_64  OK    OK    OK    OK  UNNEEDED, same version is already published
Package 60/461HostnameOS / ArchINSTALLBUILDCHECKBUILD BIN
CAFE 1.30.0  (landing page)
Sander Bollen
git_last_commit: 95b0e67
git_last_commit_date: 2021-10-26 12:12:15 -0500
nebbiolo2Linux (Ubuntu 20.04.4 LTS) / x86_64  OK    OK    WARNINGS  UNNEEDED, same version is already published
tokay2Windows Server 2012 R2 Standard / x64  OK    NA    WARNINGS    OK  
machv2macOS 10.14.6 Mojave / x86_64  OK    OK    WARNINGS    OK  UNNEEDED, same version is already published
Package 61/461HostnameOS / ArchINSTALLBUILDCHECKBUILD BIN
CAMERA 1.50.0  (landing page)
Steffen Neumann
git_last_commit: 1b7c510
git_last_commit_date: 2021-10-26 11:53:37 -0500
nebbiolo2Linux (Ubuntu 20.04.4 LTS) / x86_64  OK    OK    OK  UNNEEDED, same version is already published
tokay2Windows Server 2012 R2 Standard / x64  OK    OK    OK    OK  UNNEEDED, same version is already published
machv2macOS 10.14.6 Mojave / x86_64  OK    OK    OK    OK  UNNEEDED, same version is already published
Package 62/461HostnameOS / ArchINSTALLBUILDCHECKBUILD BIN
canceR 1.28.0  (landing page)
Karim Mezhoud
git_last_commit: 2fbf44c
git_last_commit_date: 2021-10-26 12:19:05 -0500
nebbiolo2Linux (Ubuntu 20.04.4 LTS) / x86_64  OK    OK    OK  UNNEEDED, same version is already published
tokay2Windows Server 2012 R2 Standard / x64  OK    OK    OK    OK  UNNEEDED, same version is already published
machv2macOS 10.14.6 Mojave / x86_64  OK    OK    OK    OK  UNNEEDED, same version is already published
Package 63/461HostnameOS / ArchINSTALLBUILDCHECKBUILD BIN
cancerclass 1.38.0  (landing page)
Daniel Kosztyla
git_last_commit: 21a3549
git_last_commit_date: 2021-10-26 12:03:10 -0500
nebbiolo2Linux (Ubuntu 20.04.4 LTS) / x86_64  OK    OK    OK  UNNEEDED, same version is already published
tokay2Windows Server 2012 R2 Standard / x64  OK    OK    OK    OK  UNNEEDED, same version is already published
machv2macOS 10.14.6 Mojave / x86_64  OK    OK    WARNINGS    OK  UNNEEDED, same version is already published
Package 64/461HostnameOS / ArchINSTALLBUILDCHECKBUILD BIN
Cardinal 2.12.0  (landing page)
Kylie A. Bemis
git_last_commit: a9cad46
git_last_commit_date: 2021-10-26 12:18:42 -0500
nebbiolo2Linux (Ubuntu 20.04.4 LTS) / x86_64  OK    OK    OK  UNNEEDED, same version is already published
tokay2Windows Server 2012 R2 Standard / x64  OK    OK    OK    OK  UNNEEDED, same version is already published
machv2macOS 10.14.6 Mojave / x86_64  OK    OK    OK    OK  UNNEEDED, same version is already published
Package 65/461HostnameOS / ArchINSTALLBUILDCHECKBUILD BIN
casper 2.28.0  (landing page)
David Rossell
git_last_commit: 479cb8d
git_last_commit_date: 2021-10-26 12:06:23 -0500
nebbiolo2Linux (Ubuntu 20.04.4 LTS) / x86_64  OK    OK    WARNINGS  UNNEEDED, same version is already published
tokay2Windows Server 2012 R2 Standard / x64  OK    OK    WARNINGS    OK  UNNEEDED, same version is already published
machv2macOS 10.14.6 Mojave / x86_64  OK    OK    WARNINGS    OK  UNNEEDED, same version is already published
Package 66/461HostnameOS / ArchINSTALLBUILDCHECKBUILD BIN
Category 2.60.0  (landing page)
Bioconductor Package Maintainer
git_last_commit: 55210d8
git_last_commit_date: 2021-10-26 11:48:11 -0500
nebbiolo2Linux (Ubuntu 20.04.4 LTS) / x86_64  OK    OK    OK  UNNEEDED, same version is already published
tokay2Windows Server 2012 R2 Standard / x64  OK    OK    OK    OK  UNNEEDED, same version is already published
machv2macOS 10.14.6 Mojave / x86_64  OK    OK    OK    OK  UNNEEDED, same version is already published
Package 67/461HostnameOS / ArchINSTALLBUILDCHECKBUILD BIN
categoryCompare 1.38.0  (landing page)
Robert M. Flight
git_last_commit: 13d544a
git_last_commit_date: 2021-10-26 12:03:05 -0500
nebbiolo2Linux (Ubuntu 20.04.4 LTS) / x86_64  OK    OK    OK  UNNEEDED, same version is already published
tokay2Windows Server 2012 R2 Standard / x64  OK    OK    OK    OK  UNNEEDED, same version is already published
machv2macOS 10.14.6 Mojave / x86_64  OK    OK    OK    OK  UNNEEDED, same version is already published
Package 68/461HostnameOS / ArchINSTALLBUILDCHECKBUILD BIN
CCPROMISE 1.20.0  (landing page)
Xueyuan Cao
git_last_commit: 2271cab
git_last_commit_date: 2021-10-26 12:31:20 -0500
nebbiolo2Linux (Ubuntu 20.04.4 LTS) / x86_64  OK    OK    WARNINGS  UNNEEDED, same version is already published
tokay2Windows Server 2012 R2 Standard / x64  OK    OK    WARNINGS    OK  UNNEEDED, same version is already published
machv2macOS 10.14.6 Mojave / x86_64  OK    OK    WARNINGS    OK  UNNEEDED, same version is already published
Package 69/461HostnameOS / ArchINSTALLBUILDCHECKBUILD BIN
cellHTS2 2.58.0  (landing page)
Joseph Barry
git_last_commit: 5e1ff80
git_last_commit_date: 2021-10-26 11:51:17 -0500
nebbiolo2Linux (Ubuntu 20.04.4 LTS) / x86_64  OK    OK    OK  UNNEEDED, same version is already published
tokay2Windows Server 2012 R2 Standard / x64  OK    OK    OK    OK  UNNEEDED, same version is already published
machv2macOS 10.14.6 Mojave / x86_64  OK    OK    OK    OK  UNNEEDED, same version is already published
Package 70/461HostnameOS / ArchINSTALLBUILDCHECKBUILD BIN
CellScore 1.14.0  (landing page)
Nancy Mah
git_last_commit: f1b13c0
git_last_commit_date: 2021-10-26 12:41:51 -0500
nebbiolo2Linux (Ubuntu 20.04.4 LTS) / x86_64  OK    OK    OK  UNNEEDED, same version is already published
tokay2Windows Server 2012 R2 Standard / x64  OK    OK    OK    OK  UNNEEDED, same version is already published
machv2macOS 10.14.6 Mojave / x86_64  OK    OK    OK    OK  UNNEEDED, same version is already published
Package 71/461HostnameOS / ArchINSTALLBUILDCHECKBUILD BIN
CellTrails 1.12.0  (landing page)
Daniel Ellwanger
git_last_commit: c5f714a
git_last_commit_date: 2021-10-26 12:45:24 -0500
nebbiolo2Linux (Ubuntu 20.04.4 LTS) / x86_64  OK    OK    OK  UNNEEDED, same version is already published
tokay2Windows Server 2012 R2 Standard / x64  OK    OK    OK    OK  UNNEEDED, same version is already published
machv2macOS 10.14.6 Mojave / x86_64  OK    OK    OK    OK  UNNEEDED, same version is already published
Package 72/461HostnameOS / ArchINSTALLBUILDCHECKBUILD BIN
CGHbase 1.54.0  (landing page)
Mark van de Wiel
git_last_commit: 88afa50
git_last_commit_date: 2021-10-26 11:52:24 -0500
nebbiolo2Linux (Ubuntu 20.04.4 LTS) / x86_64  OK    OK    OK  UNNEEDED, same version is already published
tokay2Windows Server 2012 R2 Standard / x64  OK    OK    OK    OK  UNNEEDED, same version is already published
machv2macOS 10.14.6 Mojave / x86_64  OK    OK    OK    OK  UNNEEDED, same version is already published
Package 73/461HostnameOS / ArchINSTALLBUILDCHECKBUILD BIN
CGHcall 2.56.0  (landing page)
Mark van de Wiel
git_last_commit: 9d6ed61
git_last_commit_date: 2021-10-26 11:51:30 -0500
nebbiolo2Linux (Ubuntu 20.04.4 LTS) / x86_64  OK    OK    WARNINGS  UNNEEDED, same version is already published
tokay2Windows Server 2012 R2 Standard / x64  OK    OK    WARNINGS    OK  UNNEEDED, same version is already published
machv2macOS 10.14.6 Mojave / x86_64  OK    OK    WARNINGS    OK  UNNEEDED, same version is already published
Package 74/461HostnameOS / ArchINSTALLBUILDCHECKBUILD BIN
CGHnormaliter 1.48.0  (landing page)
Bart P.P. van Houte
git_last_commit: 1d2812a
git_last_commit_date: 2021-10-26 11:54:41 -0500
nebbiolo2Linux (Ubuntu 20.04.4 LTS) / x86_64  OK    OK    OK  UNNEEDED, same version is already published
tokay2Windows Server 2012 R2 Standard / x64  OK    OK    OK    OK  UNNEEDED, same version is already published
machv2macOS 10.14.6 Mojave / x86_64  OK    OK    OK    OK  UNNEEDED, same version is already published
Package 75/461HostnameOS / ArchINSTALLBUILDCHECKBUILD BIN
CGHregions 1.52.0  (landing page)
Sjoerd Vosse
git_last_commit: 1582418
git_last_commit_date: 2021-10-26 11:52:26 -0500
nebbiolo2Linux (Ubuntu 20.04.4 LTS) / x86_64  OK    OK    OK  UNNEEDED, same version is already published
tokay2Windows Server 2012 R2 Standard / x64  OK    OK    OK    OK  UNNEEDED, same version is already published
machv2macOS 10.14.6 Mojave / x86_64  OK    OK    OK    OK  UNNEEDED, same version is already published
Package 76/461HostnameOS / ArchINSTALLBUILDCHECKBUILD BIN
ChIPQC 1.30.0  (landing page)
Tom Carroll , Rory Stark
git_last_commit: 566bb1a
git_last_commit_date: 2021-10-26 12:12:48 -0500
nebbiolo2Linux (Ubuntu 20.04.4 LTS) / x86_64  OK    OK    WARNINGS  UNNEEDED, same version is already published
tokay2Windows Server 2012 R2 Standard / x64  OK    OK    WARNINGS    OK  UNNEEDED, same version is already published
machv2macOS 10.14.6 Mojave / x86_64  OK    OK    WARNINGS    OK  UNNEEDED, same version is already published
Package 77/461HostnameOS / ArchINSTALLBUILDCHECKBUILD BIN
ChIPXpress 1.38.0  (landing page)
George Wu
git_last_commit: 22f647d
git_last_commit_date: 2021-10-26 12:04:09 -0500
nebbiolo2Linux (Ubuntu 20.04.4 LTS) / x86_64  OK    OK    OK  UNNEEDED, same version is already published
tokay2Windows Server 2012 R2 Standard / x64... NOT SUPPORTED ...
machv2macOS 10.14.6 Mojave / x86_64  OK    OK    OK    OK  UNNEEDED, same version is already published
Package 78/461HostnameOS / ArchINSTALLBUILDCHECKBUILD BIN
ChromHeatMap 1.48.0  (landing page)
Tim F. Rayner
git_last_commit: 488d509
git_last_commit_date: 2021-10-26 11:54:52 -0500
nebbiolo2Linux (Ubuntu 20.04.4 LTS) / x86_64  OK    OK    OK  UNNEEDED, same version is already published
tokay2Windows Server 2012 R2 Standard / x64  OK    OK    OK    OK  UNNEEDED, same version is already published
machv2macOS 10.14.6 Mojave / x86_64  OK    OK    OK    OK  UNNEEDED, same version is already published
Package 79/461HostnameOS / ArchINSTALLBUILDCHECKBUILD BIN
chromswitch 1.16.0  (landing page)
Selin Jessa
git_last_commit: 0d65abe
git_last_commit_date: 2021-10-26 12:39:46 -0500
nebbiolo2Linux (Ubuntu 20.04.4 LTS) / x86_64  OK    OK    OK  UNNEEDED, same version is already published
tokay2Windows Server 2012 R2 Standard / x64  OK    OK    OK    OK  UNNEEDED, same version is already published
machv2macOS 10.14.6 Mojave / x86_64  OK    OK    OK    OK  UNNEEDED, same version is already published
Package 80/461HostnameOS / ArchINSTALLBUILDCHECKBUILD BIN
cicero 1.12.0  (landing page)
Hannah Pliner
git_last_commit: 1991cbd
git_last_commit_date: 2021-10-26 12:47:09 -0500
nebbiolo2Linux (Ubuntu 20.04.4 LTS) / x86_64  OK    OK    OK  UNNEEDED, same version is already published
tokay2Windows Server 2012 R2 Standard / x64  OK    OK    OK    OK  UNNEEDED, same version is already published
machv2macOS 10.14.6 Mojave / x86_64  OK    OK    OK    OK  UNNEEDED, same version is already published
Package 81/461HostnameOS / ArchINSTALLBUILDCHECKBUILD BIN
clippda 1.44.0  (landing page)
Stephen Nyangoma
git_last_commit: 2d11172
git_last_commit_date: 2021-10-26 11:54:30 -0500
nebbiolo2Linux (Ubuntu 20.04.4 LTS) / x86_64  OK    OK    WARNINGS  UNNEEDED, same version is already published
tokay2Windows Server 2012 R2 Standard / x64  OK    OK    WARNINGS    OK  UNNEEDED, same version is already published
machv2macOS 10.14.6 Mojave / x86_64  OK    OK    WARNINGS    OK  UNNEEDED, same version is already published
Package 82/461HostnameOS / ArchINSTALLBUILDCHECKBUILD BIN
clipper 1.34.0  (landing page)
Paolo Martini
git_last_commit: 02cc60b
git_last_commit_date: 2021-10-26 12:06:27 -0500
nebbiolo2Linux (Ubuntu 20.04.4 LTS) / x86_64  OK    OK    OK  UNNEEDED, same version is already published
tokay2Windows Server 2012 R2 Standard / x64  OK    OK    OK    OK  UNNEEDED, same version is already published
machv2macOS 10.14.6 Mojave / x86_64  OK    OK    OK    OK  UNNEEDED, same version is already published
Package 83/461HostnameOS / ArchINSTALLBUILDCHECKBUILD BIN
CluMSID 1.10.0  (landing page)
Tobias Depke
git_last_commit: 75609ff
git_last_commit_date: 2021-10-26 12:48:48 -0500
nebbiolo2Linux (Ubuntu 20.04.4 LTS) / x86_64  OK    OK    OK  UNNEEDED, same version is already published
tokay2Windows Server 2012 R2 Standard / x64  OK    OK    OK    OK  UNNEEDED, same version is already published
machv2macOS 10.14.6 Mojave / x86_64  OK    OK    OK    OK  UNNEEDED, same version is already published
Package 84/461HostnameOS / ArchINSTALLBUILDCHECKBUILD BIN
clusterStab 1.66.0  (landing page)
James W. MacDonald
git_last_commit: 85aab97
git_last_commit_date: 2021-10-26 11:48:19 -0500
nebbiolo2Linux (Ubuntu 20.04.4 LTS) / x86_64  OK    OK    OK  UNNEEDED, same version is already published
tokay2Windows Server 2012 R2 Standard / x64  OK    OK    OK    OK  UNNEEDED, same version is already published
machv2macOS 10.14.6 Mojave / x86_64  OK    OK    OK    OK  UNNEEDED, same version is already published
Package 85/461HostnameOS / ArchINSTALLBUILDCHECKBUILD BIN
CMA 1.52.0  (landing page)
Roman Hornung
git_last_commit: db591c3
git_last_commit_date: 2021-10-26 11:52:28 -0500
nebbiolo2Linux (Ubuntu 20.04.4 LTS) / x86_64  OK    OK    OK  UNNEEDED, same version is already published
tokay2Windows Server 2012 R2 Standard / x64  OK    OK    OK    OK  UNNEEDED, same version is already published
machv2macOS 10.14.6 Mojave / x86_64  OK    OK    OK    OK  UNNEEDED, same version is already published
Package 86/461HostnameOS / ArchINSTALLBUILDCHECKBUILD BIN
cn.farms 1.42.0  (landing page)
Andreas Mitterecker
git_last_commit: e1a3008
git_last_commit_date: 2021-10-26 11:58:35 -0500
nebbiolo2Linux (Ubuntu 20.04.4 LTS) / x86_64  OK    OK    OK  UNNEEDED, same version is already published
tokay2Windows Server 2012 R2 Standard / x64  OK    OK    OK    OK  UNNEEDED, same version is already published
machv2macOS 10.14.6 Mojave / x86_64  OK    OK    OK    OK  UNNEEDED, same version is already published
Package 87/461HostnameOS / ArchINSTALLBUILDCHECKBUILD BIN
cn.mops 1.40.0  (landing page)
Gundula Povysil
git_last_commit: 498dbf7
git_last_commit_date: 2021-10-26 12:01:20 -0500
nebbiolo2Linux (Ubuntu 20.04.4 LTS) / x86_64  OK    OK    OK  UNNEEDED, same version is already published
tokay2Windows Server 2012 R2 Standard / x64  OK    OK    OK    OK  UNNEEDED, same version is already published
machv2macOS 10.14.6 Mojave / x86_64  OK    OK    OK    OK  UNNEEDED, same version is already published
Package 88/461HostnameOS / ArchINSTALLBUILDCHECKBUILD BIN
COCOA 2.8.0  (landing page)
John Lawson
git_last_commit: 30a31c3
git_last_commit_date: 2021-10-26 12:47:47 -0500
nebbiolo2Linux (Ubuntu 20.04.4 LTS) / x86_64  OK    OK    OK  UNNEEDED, same version is already published
tokay2Windows Server 2012 R2 Standard / x64  OK    OK    OK    OK  UNNEEDED, same version is already published
machv2macOS 10.14.6 Mojave / x86_64  OK    OK    OK    OK  UNNEEDED, same version is already published
Package 89/461HostnameOS / ArchINSTALLBUILDCHECKBUILD BIN
codelink 1.62.0  (landing page)
Diego Diez
git_last_commit: c6116c2
git_last_commit_date: 2021-10-26 11:49:04 -0500
nebbiolo2Linux (Ubuntu 20.04.4 LTS) / x86_64  OK    OK    OK  UNNEEDED, same version is already published
tokay2Windows Server 2012 R2 Standard / x64  OK    OK    OK    OK  UNNEEDED, same version is already published
machv2macOS 10.14.6 Mojave / x86_64  OK    OK    OK    OK  UNNEEDED, same version is already published
Package 90/461HostnameOS / ArchINSTALLBUILDCHECKBUILD BIN
coexnet 1.16.0  (landing page)
Juan David Henao
git_last_commit: 8ddee4f
git_last_commit_date: 2021-10-26 12:35:58 -0500
nebbiolo2Linux (Ubuntu 20.04.4 LTS) / x86_64  OK    OK    ERROR  
tokay2Windows Server 2012 R2 Standard / x64  OK    OK    ERROR    OK  
machv2macOS 10.14.6 Mojave / x86_64  OK    OK    ERROR    OK  
Package 91/461HostnameOS / ArchINSTALLBUILDCHECKBUILD BIN
cogena 1.28.0  (landing page)
Zhilong Jia
git_last_commit: 639d8fb
git_last_commit_date: 2021-10-26 12:19:56 -0500
nebbiolo2Linux (Ubuntu 20.04.4 LTS) / x86_64  OK    OK    WARNINGS  UNNEEDED, same version is already published
tokay2Windows Server 2012 R2 Standard / x64  OK    OK    WARNINGS    OK  UNNEEDED, same version is already published
machv2macOS 10.14.6 Mojave / x86_64  OK    OK    WARNINGS    OK  UNNEEDED, same version is already published
Package 92/461HostnameOS / ArchINSTALLBUILDCHECKBUILD BIN
combi 1.6.0  (landing page)
Joris Meys
git_last_commit: dcf1756
git_last_commit_date: 2021-10-26 12:58:09 -0500
nebbiolo2Linux (Ubuntu 20.04.4 LTS) / x86_64  OK    OK    OK  UNNEEDED, same version is already published
tokay2Windows Server 2012 R2 Standard / x64  OK    OK    OK    OK  UNNEEDED, same version is already published
machv2macOS 10.14.6 Mojave / x86_64  OK    OK    OK    OK  UNNEEDED, same version is already published
Package 93/461HostnameOS / ArchINSTALLBUILDCHECKBUILD BIN
conclus 1.2.0  (landing page)
Ilyess Rachedi
git_last_commit: 6bc832f
git_last_commit_date: 2021-10-26 13:08:31 -0500
nebbiolo2Linux (Ubuntu 20.04.4 LTS) / x86_64  OK    OK    OK  UNNEEDED, same version is already published
tokay2Windows Server 2012 R2 Standard / x64  OK    OK    OK    OK  UNNEEDED, same version is already published
machv2macOS 10.14.6 Mojave / x86_64  OK    OK    OK    OK  UNNEEDED, same version is already published
Package 94/461HostnameOS / ArchINSTALLBUILDCHECKBUILD BIN
ConsensusClusterPlus 1.58.0  (landing page)
Matt Wilkerson
git_last_commit: d8131dd
git_last_commit_date: 2021-10-26 11:55:20 -0500
nebbiolo2Linux (Ubuntu 20.04.4 LTS) / x86_64  OK    OK    OK  UNNEEDED, same version is already published
tokay2Windows Server 2012 R2 Standard / x64  OK    OK    OK    OK  UNNEEDED, same version is already published
machv2macOS 10.14.6 Mojave / x86_64  OK    OK    OK    OK  UNNEEDED, same version is already published
Package 95/461HostnameOS / ArchINSTALLBUILDCHECKBUILD BIN
consensusDE 1.12.0  (landing page)
Ashley J. Waardenberg
git_last_commit: 935d9e9
git_last_commit_date: 2021-10-26 12:47:51 -0500
nebbiolo2Linux (Ubuntu 20.04.4 LTS) / x86_64  OK    OK    OK  UNNEEDED, same version is already published
tokay2Windows Server 2012 R2 Standard / x64  OK    OK    OK    OK  UNNEEDED, same version is already published
machv2macOS 10.14.6 Mojave / x86_64  OK    OK    OK    OK  UNNEEDED, same version is already published
Package 96/461HostnameOS / ArchINSTALLBUILDCHECKBUILD BIN
consensusOV 1.16.0  (landing page)
Benjamin Haibe-Kains
git_last_commit: 23c1ec0
git_last_commit_date: 2021-10-26 12:36:29 -0500
nebbiolo2Linux (Ubuntu 20.04.4 LTS) / x86_64  OK    OK    OK  UNNEEDED, same version is already published
tokay2Windows Server 2012 R2 Standard / x64  OK    OK    OK    OK  UNNEEDED, same version is already published
machv2macOS 10.14.6 Mojave / x86_64  OK    OK    OK    OK  UNNEEDED, same version is already published
Package 97/461HostnameOS / ArchINSTALLBUILDCHECKBUILD BIN
convert 1.70.0  (landing page)
Yee Hwa (Jean) Yang
git_last_commit: 42fef35
git_last_commit_date: 2021-10-26 11:46:57 -0500
nebbiolo2Linux (Ubuntu 20.04.4 LTS) / x86_64  OK    OK    OK  UNNEEDED, same version is already published
tokay2Windows Server 2012 R2 Standard / x64  OK    OK    OK    OK  UNNEEDED, same version is already published
machv2macOS 10.14.6 Mojave / x86_64  OK    OK    OK    OK  UNNEEDED, same version is already published
Package 98/461HostnameOS / ArchINSTALLBUILDCHECKBUILD BIN
copa 1.62.0  (landing page)
James W. MacDonald
git_last_commit: f6926db
git_last_commit_date: 2021-10-26 11:49:22 -0500
nebbiolo2Linux (Ubuntu 20.04.4 LTS) / x86_64  OK    OK    OK  UNNEEDED, same version is already published
tokay2Windows Server 2012 R2 Standard / x64  OK    OK    OK    OK  UNNEEDED, same version is already published
machv2macOS 10.14.6 Mojave / x86_64  OK    OK    OK    OK  UNNEEDED, same version is already published
Package 99/461HostnameOS / ArchINSTALLBUILDCHECKBUILD BIN
coRdon 1.12.0  (landing page)
Anamaria Elek
git_last_commit: ba08f6b
git_last_commit_date: 2021-10-26 12:45:57 -0500
nebbiolo2Linux (Ubuntu 20.04.4 LTS) / x86_64  OK    OK    OK  UNNEEDED, same version is already published
tokay2Windows Server 2012 R2 Standard / x64  OK    OK    OK    OK  UNNEEDED, same version is already published
machv2macOS 10.14.6 Mojave / x86_64  OK    OK    OK    OK  UNNEEDED, same version is already published
Package 100/461HostnameOS / ArchINSTALLBUILDCHECKBUILD BIN
CoreGx 1.6.0  (landing page)
Benjamin Haibe-Kains
git_last_commit: 33bef81
git_last_commit_date: 2021-10-26 12:59:39 -0500
nebbiolo2Linux (Ubuntu 20.04.4 LTS) / x86_64  OK    OK    OK  UNNEEDED, same version is already published
tokay2Windows Server 2012 R2 Standard / x64  OK    OK    OK    OK  UNNEEDED, same version is already published
machv2macOS 10.14.6 Mojave / x86_64  OK    OK    OK    OK  UNNEEDED, same version is already published
Package 101/461HostnameOS / ArchINSTALLBUILDCHECKBUILD BIN
covEB 1.20.0  (landing page)
C. Pacini
git_last_commit: 9e6d604
git_last_commit_date: 2021-10-26 12:28:22 -0500
nebbiolo2Linux (Ubuntu 20.04.4 LTS) / x86_64  OK    OK    OK  UNNEEDED, same version is already published
tokay2Windows Server 2012 R2 Standard / x64  OK    OK    OK    OK  UNNEEDED, same version is already published
machv2macOS 10.14.6 Mojave / x86_64  OK    OK    OK    OK  UNNEEDED, same version is already published
Package 102/461HostnameOS / ArchINSTALLBUILDCHECKBUILD BIN
covRNA 1.20.0  (landing page)
Lara Urban
git_last_commit: 6e2cebd
git_last_commit_date: 2021-10-26 12:27:58 -0500
nebbiolo2Linux (Ubuntu 20.04.4 LTS) / x86_64  OK    OK    OK  UNNEEDED, same version is already published
tokay2Windows Server 2012 R2 Standard / x64  OK    OK    OK    OK  UNNEEDED, same version is already published
machv2macOS 10.14.6 Mojave / x86_64  OK    OK    OK    OK  UNNEEDED, same version is already published
Package 103/461HostnameOS / ArchINSTALLBUILDCHECKBUILD BIN
crlmm 1.52.0  (landing page)
Benilton S Carvalho
git_last_commit: 9ecc85f
git_last_commit_date: 2021-10-26 11:53:43 -0500
nebbiolo2Linux (Ubuntu 20.04.4 LTS) / x86_64  OK    OK    OK  UNNEEDED, same version is already published
tokay2Windows Server 2012 R2 Standard / x64  OK    OK    OK    OK  UNNEEDED, same version is already published
machv2macOS 10.14.6 Mojave / x86_64  OK    OK    OK    OK  UNNEEDED, same version is already published
Package 104/461HostnameOS / ArchINSTALLBUILDCHECKBUILD BIN
crossmeta 1.20.0  (landing page)
Alex Pickering
git_last_commit: 4ebad78
git_last_commit_date: 2021-10-26 12:28:29 -0500
nebbiolo2Linux (Ubuntu 20.04.4 LTS) / x86_64  OK    OK    WARNINGS  UNNEEDED, same version is already published
tokay2Windows Server 2012 R2 Standard / x64  OK    OK    WARNINGS    OK  UNNEEDED, same version is already published
machv2macOS 10.14.6 Mojave / x86_64  OK    OK    WARNINGS    OK  UNNEEDED, same version is already published
Package 105/461HostnameOS / ArchINSTALLBUILDCHECKBUILD BIN
ctgGEM 1.6.0  (landing page)
USD Biomedical Engineering
git_last_commit: 619fedc
git_last_commit_date: 2021-10-26 12:57:27 -0500
nebbiolo2Linux (Ubuntu 20.04.4 LTS) / x86_64  OK    OK    OK  UNNEEDED, same version is already published
tokay2Windows Server 2012 R2 Standard / x64  OK    OK    OK    OK  UNNEEDED, same version is already published
machv2macOS 10.14.6 Mojave / x86_64  OK    OK    OK    OK  UNNEEDED, same version is already published
Package 106/461HostnameOS / ArchINSTALLBUILDCHECKBUILD BIN
cummeRbund 2.36.0  (landing page)
Loyal A. Goff
git_last_commit: 36d62b1
git_last_commit_date: 2021-10-26 12:00:39 -0500
nebbiolo2Linux (Ubuntu 20.04.4 LTS) / x86_64  OK    OK    WARNINGS  UNNEEDED, same version is already published
tokay2Windows Server 2012 R2 Standard / x64  OK    OK    WARNINGS    OK  UNNEEDED, same version is already published
machv2macOS 10.14.6 Mojave / x86_64  OK    OK    WARNINGS    OK  UNNEEDED, same version is already published
Package 107/461HostnameOS / ArchINSTALLBUILDCHECKBUILD BIN
cyanoFilter 1.2.0  (landing page)
Oluwafemi Olusoji
git_last_commit: f126547
git_last_commit_date: 2021-10-26 13:08:29 -0500
nebbiolo2Linux (Ubuntu 20.04.4 LTS) / x86_64  OK    OK    OK  UNNEEDED, same version is already published
tokay2Windows Server 2012 R2 Standard / x64  OK    OK    OK    OK  UNNEEDED, same version is already published
machv2macOS 10.14.6 Mojave / x86_64  OK    OK    OK    OK  UNNEEDED, same version is already published
Package 108/461HostnameOS / ArchINSTALLBUILDCHECKBUILD BIN
cycle 1.48.0  (landing page)
Matthias Futschik
git_last_commit: 4d654cf
git_last_commit_date: 2021-10-26 11:54:44 -0500
nebbiolo2Linux (Ubuntu 20.04.4 LTS) / x86_64  OK    OK    OK  UNNEEDED, same version is already published
tokay2Windows Server 2012 R2 Standard / x64  OK    OK    OK    OK  UNNEEDED, same version is already published
machv2macOS 10.14.6 Mojave / x86_64  OK    OK    OK    OK  UNNEEDED, same version is already published
Package 109/461HostnameOS / ArchINSTALLBUILDCHECKBUILD BIN
cydar 1.18.0  (landing page)
Aaron Lun
git_last_commit: 8dd093c
git_last_commit_date: 2021-10-26 12:34:03 -0500
nebbiolo2Linux (Ubuntu 20.04.4 LTS) / x86_64  OK    OK    OK  UNNEEDED, same version is already published
tokay2Windows Server 2012 R2 Standard / x64  OK    OK    OK    OK  UNNEEDED, same version is already published
machv2macOS 10.14.6 Mojave / x86_64  OK    OK    OK    OK  UNNEEDED, same version is already published
Package 110/461HostnameOS / ArchINSTALLBUILDCHECKBUILD BIN
CytoML 2.6.0  (landing page)
Mike Jiang
git_last_commit: a3a698e
git_last_commit_date: 2021-10-26 12:28:49 -0500
nebbiolo2Linux (Ubuntu 20.04.4 LTS) / x86_64  OK    OK    WARNINGS  UNNEEDED, same version is already published
tokay2Windows Server 2012 R2 Standard / x64  OK    OK    WARNINGS    OK  UNNEEDED, same version is already published
machv2macOS 10.14.6 Mojave / x86_64  OK    OK    WARNINGS    OK  UNNEEDED, same version is already published
Package 111/461HostnameOS / ArchINSTALLBUILDCHECKBUILD BIN
CytoTree 1.4.0  (landing page)
Yuting Dai
git_last_commit: c190c92
git_last_commit_date: 2021-10-26 13:00:49 -0500
nebbiolo2Linux (Ubuntu 20.04.4 LTS) / x86_64  OK    OK    OK  UNNEEDED, same version is already published
tokay2Windows Server 2012 R2 Standard / x64  OK    OK    OK    OK  UNNEEDED, same version is already published
machv2macOS 10.14.6 Mojave / x86_64  OK    OK    OK    OK  UNNEEDED, same version is already published
Package 112/461HostnameOS / ArchINSTALLBUILDCHECKBUILD BIN
DAPAR 1.26.1  (landing page)
Samuel Wieczorek
git_last_commit: 9232810
git_last_commit_date: 2021-11-22 00:55:42 -0500
nebbiolo2Linux (Ubuntu 20.04.4 LTS) / x86_64  OK    OK    OK  UNNEEDED, same version is already published
tokay2Windows Server 2012 R2 Standard / x64  OK    OK    OK    OK  UNNEEDED, same version is already published
machv2macOS 10.14.6 Mojave / x86_64  OK    OK    OK    OK  UNNEEDED, same version is already published
Package 113/461HostnameOS / ArchINSTALLBUILDCHECKBUILD BIN
ddCt 1.50.0  (landing page)
Jitao David Zhang
git_last_commit: 5bd9712
git_last_commit_date: 2021-10-26 11:54:15 -0500
nebbiolo2Linux (Ubuntu 20.04.4 LTS) / x86_64  OK    OK    OK  UNNEEDED, same version is already published
tokay2Windows Server 2012 R2 Standard / x64  OK    OK    OK    OK  UNNEEDED, same version is already published
machv2macOS 10.14.6 Mojave / x86_64  OK    OK    OK    OK  UNNEEDED, same version is already published
Package 114/461HostnameOS / ArchINSTALLBUILDCHECKBUILD BIN
debCAM 1.12.0  (landing page)
Lulu Chen
git_last_commit: 66667aa
git_last_commit_date: 2021-10-26 12:54:13 -0500
nebbiolo2Linux (Ubuntu 20.04.4 LTS) / x86_64  OK    OK    OK  UNNEEDED, same version is already published
tokay2Windows Server 2012 R2 Standard / x64  OK    OK    OK    OK  UNNEEDED, same version is already published
machv2macOS 10.14.6 Mojave / x86_64  OK    OK    OK    OK  UNNEEDED, same version is already published
Package 115/461HostnameOS / ArchINSTALLBUILDCHECKBUILD BIN
deco 1.10.0  (landing page)
Francisco Jose Campos Laborie
git_last_commit: d18f24e
git_last_commit_date: 2021-10-26 12:48:44 -0500
nebbiolo2Linux (Ubuntu 20.04.4 LTS) / x86_64  OK    OK    OK  UNNEEDED, same version is already published
tokay2Windows Server 2012 R2 Standard / x64  OK    OK    OK    OK  UNNEEDED, same version is already published
machv2macOS 10.14.6 Mojave / x86_64  OK    OK    OK    OK  UNNEEDED, same version is already published
Package 116/461HostnameOS / ArchINSTALLBUILDCHECKBUILD BIN
DEGreport 1.30.0  (landing page)
Lorena Pantano
git_last_commit: a318960
git_last_commit_date: 2021-10-26 12:14:10 -0500
nebbiolo2Linux (Ubuntu 20.04.4 LTS) / x86_64  OK    OK    OK  UNNEEDED, same version is already published
tokay2Windows Server 2012 R2 Standard / x64  OK    OK    OK    OK  UNNEEDED, same version is already published
machv2macOS 10.14.6 Mojave / x86_64  OK    OK    OK    OK  UNNEEDED, same version is already published
Package 117/461HostnameOS / ArchINSTALLBUILDCHECKBUILD BIN
DESeq2 1.34.0  (landing page)
Michael Love
git_last_commit: 25d4f74
git_last_commit_date: 2021-10-26 12:06:54 -0500
nebbiolo2Linux (Ubuntu 20.04.4 LTS) / x86_64  OK    OK    OK  UNNEEDED, same version is already published
tokay2Windows Server 2012 R2 Standard / x64  OK    OK    OK    OK  UNNEEDED, same version is already published
machv2macOS 10.14.6 Mojave / x86_64  OK    OK    OK    OK  UNNEEDED, same version is already published
Package 118/461HostnameOS / ArchINSTALLBUILDCHECKBUILD BIN
destiny 3.8.0  (landing page)
Philipp Angerer
git_last_commit: 372c3bf
git_last_commit_date: 2021-12-12 08:03:40 -0500
nebbiolo2Linux (Ubuntu 20.04.4 LTS) / x86_64  OK    OK    OK  UNNEEDED, same version is already published
tokay2Windows Server 2012 R2 Standard / x64  OK    OK    OK    OK  UNNEEDED, same version is already published
machv2macOS 10.14.6 Mojave / x86_64  OK    OK    OK    OK  UNNEEDED, same version is already published
Package 119/461HostnameOS / ArchINSTALLBUILDCHECKBUILD BIN
DExMA 1.2.1  (landing page)
Juan Antonio Villatoro-García
git_last_commit: 275215f
git_last_commit_date: 2021-11-30 06:39:35 -0500
nebbiolo2Linux (Ubuntu 20.04.4 LTS) / x86_64  OK    OK    OK  UNNEEDED, same version is already published
tokay2Windows Server 2012 R2 Standard / x64  OK    OK    OK    OK  UNNEEDED, same version is already published
machv2macOS 10.14.6 Mojave / x86_64  OK    OK    OK    OK  UNNEEDED, same version is already published
Package 120/461HostnameOS / ArchINSTALLBUILDCHECKBUILD BIN
DEXSeq 1.40.0  (landing page)
Alejandro Reyes
git_last_commit: 7d2d639
git_last_commit_date: 2021-10-26 11:59:26 -0500
nebbiolo2Linux (Ubuntu 20.04.4 LTS) / x86_64  OK    OK    OK  UNNEEDED, same version is already published
tokay2Windows Server 2012 R2 Standard / x64  OK    OK    OK    OK  UNNEEDED, same version is already published
machv2macOS 10.14.6 Mojave / x86_64  OK    OK    OK    OK  UNNEEDED, same version is already published
Package 121/461HostnameOS / ArchINSTALLBUILDCHECKBUILD BIN
DFP 1.52.0  (landing page)
Rodrigo Alvarez-Glez
git_last_commit: 7cc849a
git_last_commit_date: 2021-10-26 11:52:46 -0500
nebbiolo2Linux (Ubuntu 20.04.4 LTS) / x86_64  OK    OK    OK  UNNEEDED, same version is already published
tokay2Windows Server 2012 R2 Standard / x64  OK    OK    OK    OK  UNNEEDED, same version is already published
machv2macOS 10.14.6 Mojave / x86_64  OK    OK    OK    OK  UNNEEDED, same version is already published
Package 122/461HostnameOS / ArchINSTALLBUILDCHECKBUILD BIN
diffloop 1.22.0  (landing page)
Caleb Lareau
git_last_commit: 684b6b0
git_last_commit_date: 2021-10-26 12:27:40 -0500
nebbiolo2Linux (Ubuntu 20.04.4 LTS) / x86_64  OK    OK    OK  UNNEEDED, same version is already published
tokay2Windows Server 2012 R2 Standard / x64  OK    OK    WARNINGS    OK  UNNEEDED, same version is already published
machv2macOS 10.14.6 Mojave / x86_64  OK    OK    OK    OK  UNNEEDED, same version is already published
Package 123/461HostnameOS / ArchINSTALLBUILDCHECKBUILD BIN
diggit 1.26.0  (landing page)
Mariano J Alvarez
git_last_commit: 73cd356
git_last_commit_date: 2021-10-26 12:19:08 -0500
nebbiolo2Linux (Ubuntu 20.04.4 LTS) / x86_64  OK    OK    WARNINGS  UNNEEDED, same version is already published
tokay2Windows Server 2012 R2 Standard / x64  OK    OK    WARNINGS    OK  UNNEEDED, same version is already published
machv2macOS 10.14.6 Mojave / x86_64  OK    OK    WARNINGS    OK  UNNEEDED, same version is already published
Package 124/461HostnameOS / ArchINSTALLBUILDCHECKBUILD BIN
discordant 1.18.0  (landing page)
Charlotte Siska
git_last_commit: 7872d84
git_last_commit_date: 2021-10-26 12:32:49 -0500
nebbiolo2Linux (Ubuntu 20.04.4 LTS) / x86_64  OK    OK    WARNINGS  UNNEEDED, same version is already published
tokay2Windows Server 2012 R2 Standard / x64  OK    OK    WARNINGS    OK  UNNEEDED, same version is already published
machv2macOS 10.14.6 Mojave / x86_64  OK    OK    OK    OK  UNNEEDED, same version is already published
Package 125/461HostnameOS / ArchINSTALLBUILDCHECKBUILD BIN
doppelgangR 1.22.0  (landing page)
Levi Waldron
git_last_commit: 595a642
git_last_commit_date: 2021-10-26 12:26:10 -0500
nebbiolo2Linux (Ubuntu 20.04.4 LTS) / x86_64  OK    OK    OK  UNNEEDED, same version is already published
tokay2Windows Server 2012 R2 Standard / x64  OK    OK    OK    OK  UNNEEDED, same version is already published
machv2macOS 10.14.6 Mojave / x86_64  OK    OK    OK    OK  UNNEEDED, same version is already published
Package 126/461HostnameOS / ArchINSTALLBUILDCHECKBUILD BIN
DSS 2.42.0  (landing page)
Hao Wu , Hao Feng
git_last_commit: 33e8745
git_last_commit_date: 2021-10-26 12:03:27 -0500
nebbiolo2Linux (Ubuntu 20.04.4 LTS) / x86_64  OK    OK    WARNINGS  UNNEEDED, same version is already published
tokay2Windows Server 2012 R2 Standard / x64  OK    OK    WARNINGS    OK  UNNEEDED, same version is already published
machv2macOS 10.14.6 Mojave / x86_64  OK    OK    WARNINGS    OK  UNNEEDED, same version is already published
Package 127/461HostnameOS / ArchINSTALLBUILDCHECKBUILD BIN
dualKS 1.54.0  (landing page)
Eric J. Kort
git_last_commit: a78fb68
git_last_commit_date: 2021-10-26 12:12:06 -0500
nebbiolo2Linux (Ubuntu 20.04.4 LTS) / x86_64  OK    ERROR  skipped
tokay2Windows Server 2012 R2 Standard / x64  OK    ERROR  skippedskipped
machv2macOS 10.14.6 Mojave / x86_64  OK    ERROR  skippedskipped
Package 128/461HostnameOS / ArchINSTALLBUILDCHECKBUILD BIN
dyebias 1.54.0  (landing page)
Philip Lijnzaad
git_last_commit: 4b9e833
git_last_commit_date: 2021-10-26 11:53:45 -0500
nebbiolo2Linux (Ubuntu 20.04.4 LTS) / x86_64  OK    OK    OK  UNNEEDED, same version is already published
tokay2Windows Server 2012 R2 Standard / x64  OK    OK    OK    OK  UNNEEDED, same version is already published
machv2macOS 10.14.6 Mojave / x86_64  OK    OK    OK    OK  UNNEEDED, same version is already published
Package 129/461HostnameOS / ArchINSTALLBUILDCHECKBUILD BIN
easyRNASeq 2.30.0  (landing page)
Nicolas Delhomme
git_last_commit: deeb59e
git_last_commit_date: 2021-10-26 12:01:41 -0500
nebbiolo2Linux (Ubuntu 20.04.4 LTS) / x86_64  OK    OK    OK  UNNEEDED, same version is already published
tokay2Windows Server 2012 R2 Standard / x64  OK    OK    OK    OK  UNNEEDED, same version is already published
machv2macOS 10.14.6 Mojave / x86_64  OK    OK    OK    OK  UNNEEDED, same version is already published
Package 130/461HostnameOS / ArchINSTALLBUILDCHECKBUILD BIN
EBarrays 2.58.0  (landing page)
Ming Yuan
git_last_commit: d574475
git_last_commit_date: 2021-10-26 11:46:40 -0500
nebbiolo2Linux (Ubuntu 20.04.4 LTS) / x86_64  OK    OK    OK  UNNEEDED, same version is already published
tokay2Windows Server 2012 R2 Standard / x64  OK    OK    OK    OK  UNNEEDED, same version is already published
machv2macOS 10.14.6 Mojave / x86_64  OK    OK    OK    OK  UNNEEDED, same version is already published
Package 131/461HostnameOS / ArchINSTALLBUILDCHECKBUILD BIN
ecolitk 1.66.0  (landing page)
Laurent Gautier
git_last_commit: 7494e6f
git_last_commit_date: 2021-10-26 11:46:23 -0500
nebbiolo2Linux (Ubuntu 20.04.4 LTS) / x86_64  OK    OK    WARNINGS  UNNEEDED, same version is already published
tokay2Windows Server 2012 R2 Standard / x64  OK    OK    WARNINGS    OK  UNNEEDED, same version is already published
machv2macOS 10.14.6 Mojave / x86_64  OK    OK    WARNINGS    OK  UNNEEDED, same version is already published
Package 132/461HostnameOS / ArchINSTALLBUILDCHECKBUILD BIN
EDASeq 2.28.0  (landing page)
Davide Risso
git_last_commit: 358891b
git_last_commit_date: 2021-10-26 12:00:24 -0500
nebbiolo2Linux (Ubuntu 20.04.4 LTS) / x86_64  OK    OK    OK  UNNEEDED, same version is already published
tokay2Windows Server 2012 R2 Standard / x64  OK    OK    OK    OK  UNNEEDED, same version is already published
machv2macOS 10.14.6 Mojave / x86_64  OK    OK    OK    OK  UNNEEDED, same version is already published
Package 133/461HostnameOS / ArchINSTALLBUILDCHECKBUILD BIN
edge 2.26.0  (landing page)
John D. Storey , Andrew J. Bass
git_last_commit: 6eaa176
git_last_commit_date: 2021-10-26 12:20:40 -0500
nebbiolo2Linux (Ubuntu 20.04.4 LTS) / x86_64  OK    OK    WARNINGS  UNNEEDED, same version is already published
tokay2Windows Server 2012 R2 Standard / x64  OK    OK    WARNINGS    OK  UNNEEDED, same version is already published
machv2macOS 10.14.6 Mojave / x86_64  OK    OK    WARNINGS    OK  UNNEEDED, same version is already published
Package 134/461HostnameOS / ArchINSTALLBUILDCHECKBUILD BIN
EGAD 1.22.0  (landing page)
Sara Ballouz
git_last_commit: dc2b9cc
git_last_commit_date: 2021-10-26 12:27:52 -0500
nebbiolo2Linux (Ubuntu 20.04.4 LTS) / x86_64  OK    OK    WARNINGS  UNNEEDED, same version is already published
tokay2Windows Server 2012 R2 Standard / x64  OK    OK    WARNINGS    OK  UNNEEDED, same version is already published
machv2macOS 10.14.6 Mojave / x86_64  OK    OK    WARNINGS    OK  UNNEEDED, same version is already published
Package 135/461HostnameOS / ArchINSTALLBUILDCHECKBUILD BIN
EGSEA 1.22.0  (landing page)
Monther Alhamdoosh
git_last_commit: 5a14266
git_last_commit_date: 2021-10-26 12:27:44 -0500
nebbiolo2Linux (Ubuntu 20.04.4 LTS) / x86_64  OK    OK    WARNINGS  UNNEEDED, same version is already published
tokay2Windows Server 2012 R2 Standard / x64  OK    OK    WARNINGS    OK  UNNEEDED, same version is already published
machv2macOS 10.14.6 Mojave / x86_64  OK    OK    WARNINGS    OK  UNNEEDED, same version is already published
Package 136/461HostnameOS / ArchINSTALLBUILDCHECKBUILD BIN
ENmix 1.30.01  (landing page)
Zongli Xu
git_last_commit: 11211bf
git_last_commit_date: 2021-12-07 15:59:39 -0500
nebbiolo2Linux (Ubuntu 20.04.4 LTS) / x86_64  OK    OK    OK  UNNEEDED, same version is already published
tokay2Windows Server 2012 R2 Standard / x64  OK    OK    OK    OK  UNNEEDED, same version is already published
machv2macOS 10.14.6 Mojave / x86_64  OK    OK    OK    OK  UNNEEDED, same version is already published
Package 137/461HostnameOS / ArchINSTALLBUILDCHECKBUILD BIN
ensembldb 2.18.3  (landing page)
Johannes Rainer
git_last_commit: e2fcfc0
git_last_commit_date: 2022-01-12 05:42:31 -0500
nebbiolo2Linux (Ubuntu 20.04.4 LTS) / x86_64  OK    OK    OK  UNNEEDED, same version is already published
tokay2Windows Server 2012 R2 Standard / x64  OK    OK    OK    OK  UNNEEDED, same version is already published
machv2macOS 10.14.6 Mojave / x86_64  OK    OK    OK    OK  UNNEEDED, same version is already published
Package 138/461HostnameOS / ArchINSTALLBUILDCHECKBUILD BIN
epigenomix 1.34.0  (landing page)
Hans-Ulrich Klein
git_last_commit: 11b683e
git_last_commit_date: 2021-10-26 12:07:06 -0500
nebbiolo2Linux (Ubuntu 20.04.4 LTS) / x86_64  OK    OK    OK  UNNEEDED, same version is already published
tokay2Windows Server 2012 R2 Standard / x64  OK    OK    OK    OK  UNNEEDED, same version is already published
machv2macOS 10.14.6 Mojave / x86_64  OK    OK    OK    OK  UNNEEDED, same version is already published
Package 139/461HostnameOS / ArchINSTALLBUILDCHECKBUILD BIN
epivizrData 1.22.0  (landing page)
Hector Corrada Bravo
git_last_commit: 2f00af5
git_last_commit_date: 2021-10-26 12:27:38 -0500
nebbiolo2Linux (Ubuntu 20.04.4 LTS) / x86_64  OK    OK    OK  UNNEEDED, same version is already published
tokay2Windows Server 2012 R2 Standard / x64  OK    OK    OK    OK  UNNEEDED, same version is already published
machv2macOS 10.14.6 Mojave / x86_64  OK    OK    OK    OK  UNNEEDED, same version is already published
Package 140/461HostnameOS / ArchINSTALLBUILDCHECKBUILD BIN
erma 1.10.0  (landing page)
VJ Carey
git_last_commit: 8ff4f3c
git_last_commit_date: 2021-10-26 12:21:07 -0500
nebbiolo2Linux (Ubuntu 20.04.4 LTS) / x86_64  OK    OK    OK  UNNEEDED, same version is already published
tokay2Windows Server 2012 R2 Standard / x64  OK    OK    OK    OK  UNNEEDED, same version is already published
machv2macOS 10.14.6 Mojave / x86_64  OK    OK    OK    OK  UNNEEDED, same version is already published
Package 141/461HostnameOS / ArchINSTALLBUILDCHECKBUILD BIN
esetVis 1.20.0  (landing page)
Laure Cougnaud
git_last_commit: 25993b9
git_last_commit_date: 2021-10-26 12:28:34 -0500
nebbiolo2Linux (Ubuntu 20.04.4 LTS) / x86_64  OK    OK    OK  UNNEEDED, same version is already published
tokay2Windows Server 2012 R2 Standard / x64  OK    OK    OK    OK  UNNEEDED, same version is already published
machv2macOS 10.14.6 Mojave / x86_64  OK    OK    OK    OK  UNNEEDED, same version is already published
Package 142/461HostnameOS / ArchINSTALLBUILDCHECKBUILD BIN
ExiMiR 2.36.0  (landing page)
Sylvain Gubian
git_last_commit: 0b40a1f
git_last_commit_date: 2021-10-26 11:58:00 -0500
nebbiolo2Linux (Ubuntu 20.04.4 LTS) / x86_64  OK    OK    OK  UNNEEDED, same version is already published
tokay2Windows Server 2012 R2 Standard / x64  OK    OK    OK    OK  UNNEEDED, same version is already published
machv2macOS 10.14.6 Mojave / x86_64  OK    OK    OK    OK  UNNEEDED, same version is already published
Package 143/461HostnameOS / ArchINSTALLBUILDCHECKBUILD BIN
exomePeak2 1.6.1  (landing page)
Zhen Wei
git_last_commit: 6269c12
git_last_commit_date: 2021-12-10 02:57:09 -0500
nebbiolo2Linux (Ubuntu 20.04.4 LTS) / x86_64  OK    OK    WARNINGS  UNNEEDED, same version is already published
tokay2Windows Server 2012 R2 Standard / x64  OK    OK    WARNINGS    OK  UNNEEDED, same version is already published
machv2macOS 10.14.6 Mojave / x86_64  OK    OK    WARNINGS    OK  UNNEEDED, same version is already published
Package 144/461HostnameOS / ArchINSTALLBUILDCHECKBUILD BIN
ExpressionAtlas 1.22.0  (landing page)
Pedro Madrigal
git_last_commit: 074eebd
git_last_commit_date: 2021-10-26 12:25:33 -0500
nebbiolo2Linux (Ubuntu 20.04.4 LTS) / x86_64  OK    OK    OK  UNNEEDED, same version is already published
tokay2Windows Server 2012 R2 Standard / x64  OK    OK    OK    OK  UNNEEDED, same version is already published
machv2macOS 10.14.6 Mojave / x86_64  OK    OK    OK    OK  UNNEEDED, same version is already published
Package 145/461HostnameOS / ArchINSTALLBUILDCHECKBUILD BIN
fabia 2.40.0  (landing page)
Andreas Mitterecker
git_last_commit: e5cd3a4
git_last_commit_date: 2021-10-26 11:56:21 -0500
nebbiolo2Linux (Ubuntu 20.04.4 LTS) / x86_64  OK    OK    OK  UNNEEDED, same version is already published
tokay2Windows Server 2012 R2 Standard / x64  OK    OK    OK    OK  UNNEEDED, same version is already published
machv2macOS 10.14.6 Mojave / x86_64  OK    OK    OK    OK  UNNEEDED, same version is already published
Package 146/461HostnameOS / ArchINSTALLBUILDCHECKBUILD BIN
factDesign 1.70.0  (landing page)
Denise Scholtens
git_last_commit: 66faf14
git_last_commit_date: 2021-10-26 11:46:15 -0500
nebbiolo2Linux (Ubuntu 20.04.4 LTS) / x86_64  OK    OK    OK  UNNEEDED, same version is already published
tokay2Windows Server 2012 R2 Standard / x64  OK    OK    OK    OK  UNNEEDED, same version is already published
machv2macOS 10.14.6 Mojave / x86_64  OK    OK    OK    OK  UNNEEDED, same version is already published
Package 147/461HostnameOS / ArchINSTALLBUILDCHECKBUILD BIN
farms 1.46.0  (landing page)
Djork-Arne Clevert
git_last_commit: a3cde8d
git_last_commit_date: 2021-10-26 11:56:52 -0500
nebbiolo2Linux (Ubuntu 20.04.4 LTS) / x86_64  OK    OK    OK  UNNEEDED, same version is already published
tokay2Windows Server 2012 R2 Standard / x64  OK    OK    OK    OK  UNNEEDED, same version is already published
machv2macOS 10.14.6 Mojave / x86_64  OK    OK    OK    OK  UNNEEDED, same version is already published
Package 148/461HostnameOS / ArchINSTALLBUILDCHECKBUILD BIN
fastseg 1.40.0  (landing page)
Guenter Klambauer
git_last_commit: e78ee7a
git_last_commit_date: 2021-10-26 12:01:23 -0500
nebbiolo2Linux (Ubuntu 20.04.4 LTS) / x86_64  OK    OK    WARNINGS  UNNEEDED, same version is already published
tokay2Windows Server 2012 R2 Standard / x64  OK    OK    WARNINGS    OK  UNNEEDED, same version is already published
machv2macOS 10.14.6 Mojave / x86_64  OK    OK    WARNINGS    OK  UNNEEDED, same version is already published
Package 149/461HostnameOS / ArchINSTALLBUILDCHECKBUILD BIN
ffpe 1.38.0  (landing page)
Levi Waldron
git_last_commit: 8c9afae
git_last_commit_date: 2021-10-26 12:02:18 -0500
nebbiolo2Linux (Ubuntu 20.04.4 LTS) / x86_64  OK    OK    OK  UNNEEDED, same version is already published
tokay2Windows Server 2012 R2 Standard / x64  OK    OK    OK    OK  UNNEEDED, same version is already published
machv2macOS 10.14.6 Mojave / x86_64  OK    OK    OK    OK  UNNEEDED, same version is already published
Package 150/461HostnameOS / ArchINSTALLBUILDCHECKBUILD BIN
FindMyFriends 1.24.0  (landing page)
Thomas Lin Pedersen
git_last_commit: 5660a60
git_last_commit_date: 2021-10-26 12:22:45 -0500
nebbiolo2Linux (Ubuntu 20.04.4 LTS) / x86_64  ERROR    ERROR  skipped
tokay2Windows Server 2012 R2 Standard / x64  ERROR    ERROR  skippedskipped
machv2macOS 10.14.6 Mojave / x86_64  ERROR    ERROR  skippedskipped
Package 151/461HostnameOS / ArchINSTALLBUILDCHECKBUILD BIN
flowBeads 1.32.0  (landing page)
Nikolas Pontikos
git_last_commit: bfcebe6
git_last_commit_date: 2021-10-26 12:08:21 -0500
nebbiolo2Linux (Ubuntu 20.04.4 LTS) / x86_64  OK    OK    WARNINGS  UNNEEDED, same version is already published
tokay2Windows Server 2012 R2 Standard / x64  OK    OK    WARNINGS    OK  UNNEEDED, same version is already published
machv2macOS 10.14.6 Mojave / x86_64  OK    OK    WARNINGS    OK  UNNEEDED, same version is already published
Package 152/461HostnameOS / ArchINSTALLBUILDCHECKBUILD BIN
flowClust 3.32.0  (landing page)
Greg Finak , Mike Jiang
git_last_commit: 2978117
git_last_commit_date: 2021-10-26 11:52:08 -0500
nebbiolo2Linux (Ubuntu 20.04.4 LTS) / x86_64  OK    OK    OK  UNNEEDED, same version is already published
tokay2Windows Server 2012 R2 Standard / x64  OK    OK    OK    OK  UNNEEDED, same version is already published
machv2macOS 10.14.6 Mojave / x86_64  OK    OK    WARNINGS    OK  UNNEEDED, same version is already published
Package 153/461HostnameOS / ArchINSTALLBUILDCHECKBUILD BIN
flowCore 2.6.0  (landing page)
Mike Jiang
git_last_commit: 947b975
git_last_commit_date: 2021-10-26 11:50:30 -0500
nebbiolo2Linux (Ubuntu 20.04.4 LTS) / x86_64  OK    OK    OK  UNNEEDED, same version is already published
tokay2Windows Server 2012 R2 Standard / x64  OK    OK    OK    OK  UNNEEDED, same version is already published
machv2macOS 10.14.6 Mojave / x86_64  OK    OK    OK    OK  UNNEEDED, same version is already published
Package 154/461HostnameOS / ArchINSTALLBUILDCHECKBUILD BIN
flowFP 1.52.0  (landing page)
Herb Holyst
git_last_commit: 5e0174a
git_last_commit_date: 2021-10-26 11:54:08 -0500
nebbiolo2Linux (Ubuntu 20.04.4 LTS) / x86_64  OK    OK    OK  UNNEEDED, same version is already published
tokay2Windows Server 2012 R2 Standard / x64  OK    OK    OK    OK  UNNEEDED, same version is already published
machv2macOS 10.14.6 Mojave / x86_64  OK    OK    OK    OK  UNNEEDED, same version is already published
Package 155/461HostnameOS / ArchINSTALLBUILDCHECKBUILD BIN
flowMatch 1.30.0  (landing page)
Ariful Azad
git_last_commit: 87a457c
git_last_commit_date: 2021-10-26 12:11:07 -0500
nebbiolo2Linux (Ubuntu 20.04.4 LTS) / x86_64  OK    OK    OK  UNNEEDED, same version is already published
tokay2Windows Server 2012 R2 Standard / x64  OK    OK    OK    OK  UNNEEDED, same version is already published
machv2macOS 10.14.6 Mojave / x86_64  OK    OK    OK    OK  UNNEEDED, same version is already published
Package 156/461HostnameOS / ArchINSTALLBUILDCHECKBUILD BIN
flowMeans 1.54.0  (landing page)
Nima Aghaeepour
git_last_commit: 7cdf615
git_last_commit_date: 2021-10-26 11:55:58 -0500
nebbiolo2Linux (Ubuntu 20.04.4 LTS) / x86_64  OK    OK    OK  UNNEEDED, same version is already published
tokay2Windows Server 2012 R2 Standard / x64  OK    OK    OK    OK  UNNEEDED, same version is already published
machv2macOS 10.14.6 Mojave / x86_64  OK    OK    OK    OK  UNNEEDED, same version is already published
Package 157/461HostnameOS / ArchINSTALLBUILDCHECKBUILD BIN
flowSpecs 1.8.0  (landing page)
Jakob Theorell
git_last_commit: bdf4b32
git_last_commit_date: 2021-10-26 12:54:23 -0500
nebbiolo2Linux (Ubuntu 20.04.4 LTS) / x86_64  OK    OK    OK  UNNEEDED, same version is already published
tokay2Windows Server 2012 R2 Standard / x64  OK    OK    OK    OK  UNNEEDED, same version is already published
machv2macOS 10.14.6 Mojave / x86_64  OK    OK    OK    OK  UNNEEDED, same version is already published
Package 158/461HostnameOS / ArchINSTALLBUILDCHECKBUILD BIN
flowStats 4.6.0  (landing page)
Greg Finak , Mike Jiang , Jake Wagner
git_last_commit: afc7826
git_last_commit_date: 2021-10-26 11:53:51 -0500
nebbiolo2Linux (Ubuntu 20.04.4 LTS) / x86_64  OK    OK    OK  UNNEEDED, same version is already published
tokay2Windows Server 2012 R2 Standard / x64  OK    OK    OK    OK  UNNEEDED, same version is already published
machv2macOS 10.14.6 Mojave / x86_64  OK    OK    OK    OK  UNNEEDED, same version is already published
Package 159/461HostnameOS / ArchINSTALLBUILDCHECKBUILD BIN
flowUtils 1.58.0  (landing page)
Josef Spidlen
git_last_commit: 87aa66e
git_last_commit_date: 2021-10-26 11:50:32 -0500
nebbiolo2Linux (Ubuntu 20.04.4 LTS) / x86_64  OK    OK    WARNINGS  UNNEEDED, same version is already published
tokay2Windows Server 2012 R2 Standard / x64  OK    OK    WARNINGS    OK  UNNEEDED, same version is already published
machv2macOS 10.14.6 Mojave / x86_64  OK    OK    WARNINGS    OK  UNNEEDED, same version is already published
Package 160/461HostnameOS / ArchINSTALLBUILDCHECKBUILD BIN
flowViz 1.58.0  (landing page)
Mike Jiang , Jake Wagner
git_last_commit: c9fba2a
git_last_commit_date: 2021-10-26 11:50:34 -0500
nebbiolo2Linux (Ubuntu 20.04.4 LTS) / x86_64  OK    OK    OK  UNNEEDED, same version is already published
tokay2Windows Server 2012 R2 Standard / x64  OK    OK    OK    OK  UNNEEDED, same version is already published
machv2macOS 10.14.6 Mojave / x86_64  OK    OK    OK    OK  UNNEEDED, same version is already published
Package 161/461HostnameOS / ArchINSTALLBUILDCHECKBUILD BIN
flowWorkspace 4.6.0  (landing page)
Greg Finak , Mike Jiang
git_last_commit: 60bc06d
git_last_commit_date: 2021-10-26 11:59:12 -0500
nebbiolo2Linux (Ubuntu 20.04.4 LTS) / x86_64  OK    OK    WARNINGS  UNNEEDED, same version is already published
tokay2Windows Server 2012 R2 Standard / x64  OK    OK    WARNINGS    OK  UNNEEDED, same version is already published
machv2macOS 10.14.6 Mojave / x86_64  OK    OK    WARNINGS    OK  UNNEEDED, same version is already published
Package 162/461HostnameOS / ArchINSTALLBUILDCHECKBUILD BIN
FRASER 1.6.0  (landing page)
Christian Mertes
git_last_commit: fa070e3
git_last_commit_date: 2021-10-26 12:59:14 -0500
nebbiolo2Linux (Ubuntu 20.04.4 LTS) / x86_64  OK    OK    OK  UNNEEDED, same version is already published
tokay2Windows Server 2012 R2 Standard / x64  OK    OK    OK    OK  UNNEEDED, same version is already published
machv2macOS 10.14.6 Mojave / x86_64  OK    OK    OK    OK  UNNEEDED, same version is already published
Package 163/461HostnameOS / ArchINSTALLBUILDCHECKBUILD BIN
frma 1.46.0  (landing page)
Matthew N. McCall
git_last_commit: c00c4df
git_last_commit_date: 2021-10-26 11:55:11 -0500
nebbiolo2Linux (Ubuntu 20.04.4 LTS) / x86_64  OK    OK    OK  UNNEEDED, same version is already published
tokay2Windows Server 2012 R2 Standard / x64  OK    OK    OK    OK  UNNEEDED, same version is already published
machv2macOS 10.14.6 Mojave / x86_64  OK    OK    OK    OK  UNNEEDED, same version is already published
Package 164/461HostnameOS / ArchINSTALLBUILDCHECKBUILD BIN
frmaTools 1.46.0  (landing page)
Matthew N. McCall
git_last_commit: a4a868c
git_last_commit_date: 2021-10-26 11:55:14 -0500
nebbiolo2Linux (Ubuntu 20.04.4 LTS) / x86_64  OK    OK    OK  UNNEEDED, same version is already published
tokay2Windows Server 2012 R2 Standard / x64  OK    OK    OK    OK  UNNEEDED, same version is already published
machv2macOS 10.14.6 Mojave / x86_64  OK    OK    OK    OK  UNNEEDED, same version is already published
Package 165/461HostnameOS / ArchINSTALLBUILDCHECKBUILD BIN
gaga 2.40.0  (landing page)
David Rossell
git_last_commit: 8821347
git_last_commit_date: 2021-10-26 11:51:47 -0500
nebbiolo2Linux (Ubuntu 20.04.4 LTS) / x86_64  OK    OK    OK  UNNEEDED, same version is already published
tokay2Windows Server 2012 R2 Standard / x64  OK    OK    OK    OK  UNNEEDED, same version is already published
machv2macOS 10.14.6 Mojave / x86_64  OK    OK    WARNINGS    OK  UNNEEDED, same version is already published
Package 166/461HostnameOS / ArchINSTALLBUILDCHECKBUILD BIN
GAPGOM 1.10.0  (landing page)
Rezvan Ehsani
git_last_commit: f096758
git_last_commit_date: 2021-10-26 12:49:12 -0500
nebbiolo2Linux (Ubuntu 20.04.4 LTS) / x86_64  OK    OK    OK  UNNEEDED, same version is already published
tokay2Windows Server 2012 R2 Standard / x64  OK    OK    OK    OK  UNNEEDED, same version is already published
machv2macOS 10.14.6 Mojave / x86_64  OK    OK    OK    OK  UNNEEDED, same version is already published
Package 167/461HostnameOS / ArchINSTALLBUILDCHECKBUILD BIN
gCrisprTools 2.0.0  (landing page)
Russell Bainer
git_last_commit: 4783d8f
git_last_commit_date: 2021-10-26 12:29:53 -0500
nebbiolo2Linux (Ubuntu 20.04.4 LTS) / x86_64  OK    ERROR  skipped
tokay2Windows Server 2012 R2 Standard / x64  OK    ERROR  skippedskipped
machv2macOS 10.14.6 Mojave / x86_64  OK    ERROR  skippedskipped
Package 168/461HostnameOS / ArchINSTALLBUILDCHECKBUILD BIN
gcrma 2.66.0  (landing page)
Z. Wu
git_last_commit: ba134b3
git_last_commit_date: 2021-10-26 11:46:04 -0500
nebbiolo2Linux (Ubuntu 20.04.4 LTS) / x86_64  OK    OK    OK  UNNEEDED, same version is already published
tokay2Windows Server 2012 R2 Standard / x64  OK    OK    OK    OK  UNNEEDED, same version is already published
machv2macOS 10.14.6 Mojave / x86_64  OK    OK    OK    OK  UNNEEDED, same version is already published
Package 169/461HostnameOS / ArchINSTALLBUILDCHECKBUILD BIN
GCSscore 1.8.0  (landing page)
Guy M. Harris
git_last_commit: d7f279c
git_last_commit_date: 2021-10-26 12:55:52 -0500
nebbiolo2Linux (Ubuntu 20.04.4 LTS) / x86_64  OK    OK    OK  UNNEEDED, same version is already published
tokay2Windows Server 2012 R2 Standard / x64  OK    OK    OK    OK  UNNEEDED, same version is already published
machv2macOS 10.14.6 Mojave / x86_64  OK    OK    OK    OK  UNNEEDED, same version is already published
Package 170/461HostnameOS / ArchINSTALLBUILDCHECKBUILD BIN
genbankr 1.22.0  (landing page)
Gabriel Becker
git_last_commit: be3c635
git_last_commit_date: 2021-10-26 12:27:18 -0500
nebbiolo2Linux (Ubuntu 20.04.4 LTS) / x86_64  OK    OK    OK  UNNEEDED, same version is already published
tokay2Windows Server 2012 R2 Standard / x64  OK    OK    OK    OK  UNNEEDED, same version is already published
machv2macOS 10.14.6 Mojave / x86_64  OK    OK    OK    OK  UNNEEDED, same version is already published
Package 171/461HostnameOS / ArchINSTALLBUILDCHECKBUILD BIN
GeneAnswers 2.36.0  (landing page)
Lei Huang and Gang Feng
git_last_commit: ada47cb
git_last_commit_date: 2021-10-26 11:54:49 -0500
nebbiolo2Linux (Ubuntu 20.04.4 LTS) / x86_64  OK    OK    TIMEOUT  
tokay2Windows Server 2012 R2 Standard / x64  OK    OK    WARNINGS    OK  UNNEEDED, same version is already published
machv2macOS 10.14.6 Mojave / x86_64  OK    OK    TIMEOUT    OK  
Package 172/461HostnameOS / ArchINSTALLBUILDCHECKBUILD BIN
geneClassifiers 1.18.0  (landing page)
R Kuiper
git_last_commit: 72211ac
git_last_commit_date: 2021-10-26 12:32:55 -0500
nebbiolo2Linux (Ubuntu 20.04.4 LTS) / x86_64  OK    OK    OK  UNNEEDED, same version is already published
tokay2Windows Server 2012 R2 Standard / x64  OK    OK    OK    OK  UNNEEDED, same version is already published
machv2macOS 10.14.6 Mojave / x86_64  OK    OK    OK    OK  UNNEEDED, same version is already published
Package 173/461HostnameOS / ArchINSTALLBUILDCHECKBUILD BIN
GeneExpressionSignature 1.40.0  (landing page)
Yang Cao
git_last_commit: bde0ce1
git_last_commit_date: 2021-10-26 12:00:02 -0500
nebbiolo2Linux (Ubuntu 20.04.4 LTS) / x86_64  OK    OK    OK  UNNEEDED, same version is already published
tokay2Windows Server 2012 R2 Standard / x64  OK    OK    OK    OK  UNNEEDED, same version is already published
machv2macOS 10.14.6 Mojave / x86_64  OK    OK    OK    OK  UNNEEDED, same version is already published
Package 174/461HostnameOS / ArchINSTALLBUILDCHECKBUILD BIN
genefilter 1.76.0  (landing page)
Bioconductor Package Maintainer
git_last_commit: 8d630fd
git_last_commit_date: 2021-10-26 11:45:31 -0500
nebbiolo2Linux (Ubuntu 20.04.4 LTS) / x86_64  OK    OK    WARNINGS  UNNEEDED, same version is already published
tokay2Windows Server 2012 R2 Standard / x64  OK    OK    WARNINGS    OK  UNNEEDED, same version is already published
machv2macOS 10.14.6 Mojave / x86_64  OK    OK    OK    OK  UNNEEDED, same version is already published
Package 175/461HostnameOS / ArchINSTALLBUILDCHECKBUILD BIN
GeneMeta 1.66.0  (landing page)
Bioconductor Package Maintainer
git_last_commit: c16eb09
git_last_commit_date: 2021-10-26 11:48:14 -0500
nebbiolo2Linux (Ubuntu 20.04.4 LTS) / x86_64  OK    OK    OK  UNNEEDED, same version is already published
tokay2Windows Server 2012 R2 Standard / x64  OK    OK    OK    OK  UNNEEDED, same version is already published
machv2macOS 10.14.6 Mojave / x86_64  OK    OK    OK    OK  UNNEEDED, same version is already published
Package 176/461HostnameOS / ArchINSTALLBUILDCHECKBUILD BIN
geneplotter 1.72.0  (landing page)
Bioconductor Package Maintainer
git_last_commit: 57a1d83
git_last_commit_date: 2021-10-26 11:45:33 -0500
nebbiolo2Linux (Ubuntu 20.04.4 LTS) / x86_64  OK    OK    OK  UNNEEDED, same version is already published
tokay2Windows Server 2012 R2 Standard / x64  OK    OK    OK    OK  UNNEEDED, same version is already published
machv2macOS 10.14.6 Mojave / x86_64  OK    OK    OK    OK  UNNEEDED, same version is already published
Package 177/461HostnameOS / ArchINSTALLBUILDCHECKBUILD BIN
geneRecommender 1.66.0  (landing page)
Greg Hather
git_last_commit: 9547de6
git_last_commit_date: 2021-10-26 11:48:01 -0500
nebbiolo2Linux (Ubuntu 20.04.4 LTS) / x86_64  OK    OK    OK  UNNEEDED, same version is already published
tokay2Windows Server 2012 R2 Standard / x64  OK    OK    OK    OK  UNNEEDED, same version is already published
machv2macOS 10.14.6 Mojave / x86_64  OK    OK    OK    OK  UNNEEDED, same version is already published
Package 178/461HostnameOS / ArchINSTALLBUILDCHECKBUILD BIN
GeneRegionScan 1.50.0  (landing page)
Lasse Folkersen
git_last_commit: 15c71ee
git_last_commit_date: 2021-10-26 11:53:49 -0500
nebbiolo2Linux (Ubuntu 20.04.4 LTS) / x86_64  OK    OK    OK  UNNEEDED, same version is already published
tokay2Windows Server 2012 R2 Standard / x64  OK    OK    OK    OK  UNNEEDED, same version is already published
machv2macOS 10.14.6 Mojave / x86_64  OK    OK    OK    OK  UNNEEDED, same version is already published
Package 179/461HostnameOS / ArchINSTALLBUILDCHECKBUILD BIN
GeneSelectMMD 2.38.0  (landing page)
Weiliang Qiu
git_last_commit: d43e828
git_last_commit_date: 2021-10-26 11:53:41 -0500
nebbiolo2Linux (Ubuntu 20.04.4 LTS) / x86_64  OK    OK    WARNINGS  UNNEEDED, same version is already published
tokay2Windows Server 2012 R2 Standard / x64  OK    OK    OK    OK  UNNEEDED, same version is already published
machv2macOS 10.14.6 Mojave / x86_64  OK    OK    WARNINGS    OK  UNNEEDED, same version is already published
Package 180/461HostnameOS / ArchINSTALLBUILDCHECKBUILD BIN
GENESIS 2.24.0  (landing page)
Stephanie M. Gogarten
git_last_commit: aeeb5d0
git_last_commit_date: 2021-10-26 12:19:20 -0500
nebbiolo2Linux (Ubuntu 20.04.4 LTS) / x86_64  OK    OK    OK  UNNEEDED, same version is already published
tokay2Windows Server 2012 R2 Standard / x64  OK    OK    OK    OK  UNNEEDED, same version is already published
machv2macOS 10.14.6 Mojave / x86_64  OK    OK    OK    OK  UNNEEDED, same version is already published
Package 181/461HostnameOS / ArchINSTALLBUILDCHECKBUILD BIN
geNetClassifier 1.34.0  (landing page)
Sara Aibar
git_last_commit: 2aec9d0
git_last_commit_date: 2021-10-26 12:07:41 -0500
nebbiolo2Linux (Ubuntu 20.04.4 LTS) / x86_64  OK    OK    OK  UNNEEDED, same version is already published
tokay2Windows Server 2012 R2 Standard / x64  OK    OK    OK    OK  UNNEEDED, same version is already published
machv2macOS 10.14.6 Mojave / x86_64  OK    OK    OK    OK  UNNEEDED, same version is already published
Package 182/461HostnameOS / ArchINSTALLBUILDCHECKBUILD BIN
GenomicFeatures 1.46.4  (landing page)
Bioconductor Package Maintainer
git_last_commit: d3ab6fd
git_last_commit_date: 2022-01-19 12:03:06 -0500
nebbiolo2Linux (Ubuntu 20.04.4 LTS) / x86_64  OK    OK    WARNINGS  YES
tokay2Windows Server 2012 R2 Standard / x64  OK    OK    WARNINGS    OK  YES
machv2macOS 10.14.6 Mojave / x86_64  OK    OK    WARNINGS    OK  YES
Package 183/461HostnameOS / ArchINSTALLBUILDCHECKBUILD BIN
GenomicInteractions 1.28.0  (landing page)
Liz Ing-Simmons
git_last_commit: a4e55c9
git_last_commit_date: 2021-10-26 12:16:08 -0500
nebbiolo2Linux (Ubuntu 20.04.4 LTS) / x86_64  OK    OK    OK  UNNEEDED, same version is already published
tokay2Windows Server 2012 R2 Standard / x64  OK    OK    OK    OK  UNNEEDED, same version is already published
machv2macOS 10.14.6 Mojave / x86_64  OK    OK    OK    OK  UNNEEDED, same version is already published
Package 184/461HostnameOS / ArchINSTALLBUILDCHECKBUILD BIN
GenomicScores 2.6.0  (landing page)
Robert Castelo
git_last_commit: e76213e
git_last_commit_date: 2021-10-26 12:34:39 -0500
nebbiolo2Linux (Ubuntu 20.04.4 LTS) / x86_64  OK    OK    OK  UNNEEDED, same version is already published
tokay2Windows Server 2012 R2 Standard / x64  OK    OK    OK    OK  UNNEEDED, same version is already published
machv2macOS 10.14.6 Mojave / x86_64  OK    OK    OK    OK  UNNEEDED, same version is already published
Package 185/461HostnameOS / ArchINSTALLBUILDCHECKBUILD BIN
GenomicSuperSignature 1.2.1  (landing page)
Sehyun Oh
git_last_commit: e88625b
git_last_commit_date: 2021-12-15 23:43:22 -0500
nebbiolo2Linux (Ubuntu 20.04.4 LTS) / x86_64  OK    OK    OK  UNNEEDED, same version is already published
tokay2Windows Server 2012 R2 Standard / x64  OK    OK    OK    OK  UNNEEDED, same version is already published
machv2macOS 10.14.6 Mojave / x86_64  OK    OK    OK    OK  UNNEEDED, same version is already published
Package 186/461HostnameOS / ArchINSTALLBUILDCHECKBUILD BIN
GeoDiff 1.0.0  (landing page)
Zhi Yang
git_last_commit: cd343af
git_last_commit_date: 2021-10-26 13:13:54 -0500
nebbiolo2Linux (Ubuntu 20.04.4 LTS) / x86_64  OK    OK    OK  UNNEEDED, same version is already published
tokay2Windows Server 2012 R2 Standard / x64  OK    OK    OK    OK  UNNEEDED, same version is already published
machv2macOS 10.14.6 Mojave / x86_64  OK    OK    OK    OK  UNNEEDED, same version is already published
Package 187/461HostnameOS / ArchINSTALLBUILDCHECKBUILD BIN
GEOexplorer 1.0.0  (landing page)
Guy Hunt
git_last_commit: e22eaa4
git_last_commit_date: 2021-10-26 13:11:43 -0500
nebbiolo2Linux (Ubuntu 20.04.4 LTS) / x86_64  OK    OK    OK  UNNEEDED, same version is already published
tokay2Windows Server 2012 R2 Standard / x64  OK    OK    OK    OK  UNNEEDED, same version is already published
machv2macOS 10.14.6 Mojave / x86_64  OK    OK    OK    OK  UNNEEDED, same version is already published
Package 188/461HostnameOS / ArchINSTALLBUILDCHECKBUILD BIN
GeomxTools 2.0.0  (landing page)
Nicole Ortogero
git_last_commit: fee3ebb
git_last_commit_date: 2021-10-26 13:06:34 -0500
nebbiolo2Linux (Ubuntu 20.04.4 LTS) / x86_64  OK    OK    OK  UNNEEDED, same version is already published
tokay2Windows Server 2012 R2 Standard / x64  OK    OK    OK    OK  UNNEEDED, same version is already published
machv2macOS 10.14.6 Mojave / x86_64  OK    OK    OK    OK  UNNEEDED, same version is already published
Package 189/461HostnameOS / ArchINSTALLBUILDCHECKBUILD BIN
GEOquery 2.62.2  (landing page)
Sean Davis
git_last_commit: 1966c10
git_last_commit_date: 2022-01-10 15:20:28 -0500
nebbiolo2Linux (Ubuntu 20.04.4 LTS) / x86_64  OK    OK    WARNINGS  UNNEEDED, same version is already published
tokay2Windows Server 2012 R2 Standard / x64  OK    OK    ERROR    OK  
machv2macOS 10.14.6 Mojave / x86_64  OK    OK    WARNINGS    OK  UNNEEDED, same version is already published
Package 190/461HostnameOS / ArchINSTALLBUILDCHECKBUILD BIN
GEOsubmission 1.46.0  (landing page)
Alexandre Kuhn
git_last_commit: 6984223
git_last_commit_date: 2021-10-26 11:56:05 -0500
nebbiolo2Linux (Ubuntu 20.04.4 LTS) / x86_64  OK    OK    OK  UNNEEDED, same version is already published
tokay2Windows Server 2012 R2 Standard / x64  OK    OK    OK    OK  UNNEEDED, same version is already published
machv2macOS 10.14.6 Mojave / x86_64  OK    OK    OK    OK  UNNEEDED, same version is already published
Package 191/461HostnameOS / ArchINSTALLBUILDCHECKBUILD BIN
gep2pep 1.14.0  (landing page)
Francesco Napolitano
git_last_commit: f1a07c8
git_last_commit_date: 2021-10-26 12:40:07 -0500
nebbiolo2Linux (Ubuntu 20.04.4 LTS) / x86_64  OK    OK    OK  UNNEEDED, same version is already published
tokay2Windows Server 2012 R2 Standard / x64  OK    OK    OK    OK  UNNEEDED, same version is already published
machv2macOS 10.14.6 Mojave / x86_64  OK    OK    OK    OK  UNNEEDED, same version is already published
Package 192/461HostnameOS / ArchINSTALLBUILDCHECKBUILD BIN
gespeR 1.26.0  (landing page)
Fabian Schmich
git_last_commit: e9a08c0
git_last_commit_date: 2021-10-26 12:18:18 -0500
nebbiolo2Linux (Ubuntu 20.04.4 LTS) / x86_64  OK    OK    WARNINGS  UNNEEDED, same version is already published
tokay2Windows Server 2012 R2 Standard / x64  OK    OK    WARNINGS    OK  UNNEEDED, same version is already published
machv2macOS 10.14.6 Mojave / x86_64  OK    OK    WARNINGS    OK  UNNEEDED, same version is already published
Package 193/461HostnameOS / ArchINSTALLBUILDCHECKBUILD BIN
ggbio 1.42.0  (landing page)
Michael Lawrence
git_last_commit: 3540047
git_last_commit_date: 2021-10-27 10:07:29 -0500
nebbiolo2Linux (Ubuntu 20.04.4 LTS) / x86_64  OK    OK    WARNINGS  UNNEEDED, same version is already published
tokay2Windows Server 2012 R2 Standard / x64  OK    OK    WARNINGS    OK  UNNEEDED, same version is already published
machv2macOS 10.14.6 Mojave / x86_64  OK    OK    WARNINGS    OK  UNNEEDED, same version is already published
Package 194/461HostnameOS / ArchINSTALLBUILDCHECKBUILD BIN
girafe 1.46.0  (landing page)
J. Toedling
git_last_commit: 4803e9e
git_last_commit_date: 2021-10-26 11:55:45 -0500
nebbiolo2Linux (Ubuntu 20.04.4 LTS) / x86_64  OK    OK    OK  UNNEEDED, same version is already published
tokay2Windows Server 2012 R2 Standard / x64  OK    OK    OK    OK  UNNEEDED, same version is already published
machv2macOS 10.14.6 Mojave / x86_64  OK    OK    OK    OK  UNNEEDED, same version is already published
Package 195/461HostnameOS / ArchINSTALLBUILDCHECKBUILD BIN
GISPA 1.18.0  (landing page)
Bhakti Dwivedi
git_last_commit: 5182112
git_last_commit_date: 2021-10-26 12:33:37 -0500
nebbiolo2Linux (Ubuntu 20.04.4 LTS) / x86_64  OK    OK    OK  UNNEEDED, same version is already published
tokay2Windows Server 2012 R2 Standard / x64  OK    OK    OK    OK  UNNEEDED, same version is already published
machv2macOS 10.14.6 Mojave / x86_64  OK    OK    OK    OK  UNNEEDED, same version is already published
Package 196/461HostnameOS / ArchINSTALLBUILDCHECKBUILD BIN
GlobalAncova 4.12.0  (landing page)
Manuela Hummel
git_last_commit: 16a2b80
git_last_commit_date: 2021-10-26 11:48:41 -0500
nebbiolo2Linux (Ubuntu 20.04.4 LTS) / x86_64  OK    OK    OK  UNNEEDED, same version is already published
tokay2Windows Server 2012 R2 Standard / x64  OK    OK    OK    OK  UNNEEDED, same version is already published
machv2macOS 10.14.6 Mojave / x86_64  OK    OK    OK    OK  UNNEEDED, same version is already published
Package 197/461HostnameOS / ArchINSTALLBUILDCHECKBUILD BIN
globaltest 5.48.0  (landing page)
Jelle Goeman
git_last_commit: 86c2c8f
git_last_commit_date: 2021-10-26 11:47:08 -0500
nebbiolo2Linux (Ubuntu 20.04.4 LTS) / x86_64  OK    OK    OK  UNNEEDED, same version is already published
tokay2Windows Server 2012 R2 Standard / x64  OK    OK    OK    OK  UNNEEDED, same version is already published
machv2macOS 10.14.6 Mojave / x86_64  OK    OK    OK    OK  UNNEEDED, same version is already published
Package 198/461HostnameOS / ArchINSTALLBUILDCHECKBUILD BIN
gmapR 1.36.0  (landing page)
Michael Lawrence
git_last_commit: 1e9cf9a
git_last_commit_date: 2021-10-26 12:03:53 -0500
nebbiolo2Linux (Ubuntu 20.04.4 LTS) / x86_64  OK    OK    WARNINGS  UNNEEDED, same version is already published
tokay2Windows Server 2012 R2 Standard / x64... NOT SUPPORTED ...
machv2macOS 10.14.6 Mojave / x86_64  OK    OK    WARNINGS    OK  UNNEEDED, same version is already published
Package 199/461HostnameOS / ArchINSTALLBUILDCHECKBUILD BIN
GOexpress 1.28.0  (landing page)
Kevin Rue-Albrecht
git_last_commit: 2ffb103
git_last_commit_date: 2021-10-26 12:15:58 -0500
nebbiolo2Linux (Ubuntu 20.04.4 LTS) / x86_64  OK    OK    OK  UNNEEDED, same version is already published
tokay2Windows Server 2012 R2 Standard / x64  OK    OK    OK    OK  UNNEEDED, same version is already published
machv2macOS 10.14.6 Mojave / x86_64  OK    OK    OK    OK  UNNEEDED, same version is already published
Package 200/461HostnameOS / ArchINSTALLBUILDCHECKBUILD BIN
goProfiles 1.56.0  (landing page)
Alex Sanchez
git_last_commit: 8d389b2
git_last_commit_date: 2021-10-26 11:52:18 -0500
nebbiolo2Linux (Ubuntu 20.04.4 LTS) / x86_64  OK    OK    OK  UNNEEDED, same version is already published
tokay2Windows Server 2012 R2 Standard / x64  OK    OK    OK    OK  UNNEEDED, same version is already published
machv2macOS 10.14.6 Mojave / x86_64  OK    OK    OK    OK  UNNEEDED, same version is already published
Package 201/461HostnameOS / ArchINSTALLBUILDCHECKBUILD BIN
GOstats 2.60.0  (landing page)
Bioconductor Package Maintainer
git_last_commit: a20055c
git_last_commit_date: 2021-10-26 11:47:01 -0500
nebbiolo2Linux (Ubuntu 20.04.4 LTS) / x86_64  OK    OK    OK  UNNEEDED, same version is already published
tokay2Windows Server 2012 R2 Standard / x64  OK    OK    OK    OK  UNNEEDED, same version is already published
machv2macOS 10.14.6 Mojave / x86_64  OK    OK    OK    OK  UNNEEDED, same version is already published
Package 202/461HostnameOS / ArchINSTALLBUILDCHECKBUILD BIN
GSEABase 1.56.0  (landing page)
Bioconductor Package Maintainer
git_last_commit: ee7c3ca
git_last_commit_date: 2021-10-26 11:51:15 -0500
nebbiolo2Linux (Ubuntu 20.04.4 LTS) / x86_64  OK    OK    OK  UNNEEDED, same version is already published
tokay2Windows Server 2012 R2 Standard / x64  OK    OK    OK    OK  UNNEEDED, same version is already published
machv2macOS 10.14.6 Mojave / x86_64  OK    OK    OK    OK  UNNEEDED, same version is already published
Package 203/461HostnameOS / ArchINSTALLBUILDCHECKBUILD BIN
GSEABenchmarkeR 1.14.0  (landing page)
Ludwig Geistlinger
git_last_commit: e2d1e39
git_last_commit_date: 2021-10-26 12:43:02 -0500
nebbiolo2Linux (Ubuntu 20.04.4 LTS) / x86_64  OK    OK    OK  UNNEEDED, same version is already published
tokay2Windows Server 2012 R2 Standard / x64  OK    OK    OK    OK  UNNEEDED, same version is already published
machv2macOS 10.14.6 Mojave / x86_64  OK    OK    OK    OK  UNNEEDED, same version is already published
Package 204/461HostnameOS / ArchINSTALLBUILDCHECKBUILD BIN
GSEAlm 1.54.0  (landing page)
Assaf Oron
git_last_commit: f6012d8
git_last_commit_date: 2021-10-26 11:52:04 -0500
nebbiolo2Linux (Ubuntu 20.04.4 LTS) / x86_64  OK    OK    OK  UNNEEDED, same version is already published
tokay2Windows Server 2012 R2 Standard / x64  OK    OK    OK    OK  UNNEEDED, same version is already published
machv2macOS 10.14.6 Mojave / x86_64  OK    OK    OK    OK  UNNEEDED, same version is already published
Package 205/461HostnameOS / ArchINSTALLBUILDCHECKBUILD BIN
GSRI 2.42.0  (landing page)
Julian Gehring
git_last_commit: de1e393
git_last_commit_date: 2021-10-26 11:56:08 -0500
nebbiolo2Linux (Ubuntu 20.04.4 LTS) / x86_64  OK    OK    OK  UNNEEDED, same version is already published
tokay2Windows Server 2012 R2 Standard / x64  OK    OK    OK    OK  UNNEEDED, same version is already published
machv2macOS 10.14.6 Mojave / x86_64  OK    OK    OK    OK  UNNEEDED, same version is already published
Package 206/461HostnameOS / ArchINSTALLBUILDCHECKBUILD BIN
GSVA 1.42.0  (landing page)
Justin Guinney
git_last_commit: c99b10b
git_last_commit_date: 2021-10-26 11:59:07 -0500
nebbiolo2Linux (Ubuntu 20.04.4 LTS) / x86_64  OK    OK    OK  UNNEEDED, same version is already published
tokay2Windows Server 2012 R2 Standard / x64  OK    OK    OK    OK  UNNEEDED, same version is already published
machv2macOS 10.14.6 Mojave / x86_64  OK    OK    OK    OK  UNNEEDED, same version is already published
Package 207/461HostnameOS / ArchINSTALLBUILDCHECKBUILD BIN
Gviz 1.38.2  (landing page)
Robert Ivanek
git_last_commit: 0a6644a
git_last_commit_date: 2022-01-18 04:06:46 -0500
nebbiolo2Linux (Ubuntu 20.04.4 LTS) / x86_64  OK    OK    OK  YES
tokay2Windows Server 2012 R2 Standard / x64  OK    OK