Back to Multiple platform build/check report for BioC 3.14
A[B]CDEFGHIJKLMNOPQRSTUVWXYZ

This page was generated on 2022-01-17 13:05:58 -0500 (Mon, 17 Jan 2022).

HostnameOSArch (*)R versionInstalled pkgs
nebbiolo2Linux (Ubuntu 20.04.4 LTS)x86_644.1.2 (2021-11-01) -- "Bird Hippie" 4328
tokay2Windows Server 2012 R2 Standardx644.1.2 (2021-11-01) -- "Bird Hippie" 4077
machv2macOS 10.14.6 Mojavex86_644.1.2 (2021-11-01) -- "Bird Hippie" 4138
Click on any hostname to see more info about the system (e.g. compilers)      (*) as reported by 'uname -p', except on Windows and Mac OS X

BUILD BIN results for BioTIP on tokay2


To the developers/maintainers of the BioTIP package:
- Please allow up to 24 hours (and sometimes 48 hours) for your latest push to git@git.bioconductor.org:packages/BioTIP.git to
reflect on this report. See How and When does the builder pull? When will my changes propagate? here for more information.
- Make sure to use the following settings in order to reproduce any error or warning you see on this page.

raw results

Package 194/2083HostnameOS / ArchINSTALLBUILDCHECKBUILD BIN
BioTIP 1.8.0  (landing page)
Yuxi (Jennifer) Sun , Zhezhen Wang , and X Holly Yang
Snapshot Date: 2022-01-16 01:55:05 -0500 (Sun, 16 Jan 2022)
git_url: https://git.bioconductor.org/packages/BioTIP
git_branch: RELEASE_3_14
git_last_commit: b7c8488
git_last_commit_date: 2021-10-26 12:54:40 -0500 (Tue, 26 Oct 2021)
nebbiolo2Linux (Ubuntu 20.04.4 LTS) / x86_64  OK    OK    WARNINGS  UNNEEDED, same version is already published
tokay2Windows Server 2012 R2 Standard / x64  OK    OK    WARNINGS    OK  UNNEEDED, same version is already published
machv2macOS 10.14.6 Mojave / x86_64  OK    OK    WARNINGS    OK  UNNEEDED, same version is already published

Summary

Package: BioTIP
Version: 1.8.0
Command: rm -rf BioTIP.buildbin-libdir && mkdir BioTIP.buildbin-libdir && C:\Users\biocbuild\bbs-3.14-bioc\R\bin\R.exe CMD INSTALL --merge-multiarch --build --library=BioTIP.buildbin-libdir BioTIP_1.8.0.tar.gz
StartedAt: 2022-01-17 06:38:13 -0500 (Mon, 17 Jan 2022)
EndedAt: 2022-01-17 06:38:48 -0500 (Mon, 17 Jan 2022)
EllapsedTime: 34.9 seconds
RetCode: 0
Status:   OK  
PackageFile: BioTIP_1.8.0.zip
PackageFileSize: 6.068 MiB

Command output

##############################################################################
##############################################################################
###
### Running command:
###
###   rm -rf BioTIP.buildbin-libdir && mkdir BioTIP.buildbin-libdir && C:\Users\biocbuild\bbs-3.14-bioc\R\bin\R.exe CMD INSTALL --merge-multiarch --build --library=BioTIP.buildbin-libdir BioTIP_1.8.0.tar.gz
###
##############################################################################
##############################################################################



install for i386

* installing *source* package 'BioTIP' ...
** using staged installation
** R
** data
*** moving datasets to lazyload DB
** inst
** byte-compile and prepare package for lazy loading
** help
*** installing help indices
  converting help for package 'BioTIP'
    finding HTML links ... done
    BioTIP-package                          html  
    GSE6136_cli                             html  
    GSE6136_matrix                          html  
    ILEF                                    html  
    avg.cor.shrink                          html  
    cod                                     html  
    cor.shrink                              html  
    gencode                                 html  
    getBiotypes                             html  
    getCTS                                  html  
    getCluster_methods                      html  
    getIc                                   html  
    getIc.new                               html  
    getMCI                                  html  
    finding level-2 HTML links ... done

    getMCI_inner                            html  
    getMaxMCImember                         html  
    getMaxStats                             html  
    getNetwork                              html  
    getReadthrough                          html  
    intron                                  html  
    optimize.sd_selection                   html  
    plotBar_MCI                             html  
    plotIc                                  html  
    plotMaxMCI                              html  
    plot_Ic_Simulation                      html  
    plot_MCI_Simulation                     html  
    plot_SS_Simulation                      html  
    sd_selection                            html  
    simulationMCI                           html  
    simulation_Ic                           html  
    simulation_Ic_sample                    html  
** building package indices
** installing vignettes
** testing if installed package can be loaded from temporary location
** testing if installed package can be loaded from final location
** testing if installed package keeps a record of temporary installation path

install for x64

* installing *source* package 'BioTIP' ...
** testing if installed package can be loaded
* MD5 sums
packaged installation of 'BioTIP' as BioTIP_1.8.0.zip
* DONE (BioTIP)