Back to Multiple platform build/check report for BioC 3.14
A[B]CDEFGHIJKLMNOPQRSTUVWXYZ

This page was generated on 2022-01-19 13:05:09 -0500 (Wed, 19 Jan 2022).

HostnameOSArch (*)R versionInstalled pkgs
nebbiolo2Linux (Ubuntu 20.04.4 LTS)x86_644.1.2 (2021-11-01) -- "Bird Hippie" 4328
tokay2Windows Server 2012 R2 Standardx644.1.2 (2021-11-01) -- "Bird Hippie" 4077
machv2macOS 10.14.6 Mojavex86_644.1.2 (2021-11-01) -- "Bird Hippie" 4138
Click on any hostname to see more info about the system (e.g. compilers)      (*) as reported by 'uname -p', except on Windows and Mac OS X

BUILD results for BioTIP on nebbiolo2


To the developers/maintainers of the BioTIP package:
- Please allow up to 24 hours (and sometimes 48 hours) for your latest push to git@git.bioconductor.org:packages/BioTIP.git to
reflect on this report. See How and When does the builder pull? When will my changes propagate? here for more information.
- Make sure to use the following settings in order to reproduce any error or warning you see on this page.

raw results

Package 194/2083HostnameOS / ArchINSTALLBUILDCHECKBUILD BIN
BioTIP 1.8.0  (landing page)
Yuxi (Jennifer) Sun , Zhezhen Wang , and X Holly Yang
Snapshot Date: 2022-01-18 01:55:07 -0500 (Tue, 18 Jan 2022)
git_url: https://git.bioconductor.org/packages/BioTIP
git_branch: RELEASE_3_14
git_last_commit: b7c8488
git_last_commit_date: 2021-10-26 12:54:40 -0500 (Tue, 26 Oct 2021)
nebbiolo2Linux (Ubuntu 20.04.4 LTS) / x86_64  OK    OK    WARNINGS  UNNEEDED, same version is already published
tokay2Windows Server 2012 R2 Standard / x64  OK    OK    WARNINGS    OK  UNNEEDED, same version is already published
machv2macOS 10.14.6 Mojave / x86_64  OK    OK    WARNINGS    OK  UNNEEDED, same version is already published

Summary

Package: BioTIP
Version: 1.8.0
Command: /home/biocbuild/bbs-3.14-bioc/R/bin/R CMD build --keep-empty-dirs --no-resave-data BioTIP
StartedAt: 2022-01-18 03:50:59 -0500 (Tue, 18 Jan 2022)
EndedAt: 2022-01-18 03:52:34 -0500 (Tue, 18 Jan 2022)
EllapsedTime: 94.5 seconds
RetCode: 0
Status:   OK  
PackageFile: BioTIP_1.8.0.tar.gz
PackageFileSize: 8.778 MiB

Command output

##############################################################################
##############################################################################
###
### Running command:
###
###   /home/biocbuild/bbs-3.14-bioc/R/bin/R CMD build --keep-empty-dirs --no-resave-data BioTIP
###
##############################################################################
##############################################################################


* checking for file ‘BioTIP/DESCRIPTION’ ... OK
* preparing ‘BioTIP’:
* checking DESCRIPTION meta-information ... OK
* installing the package to build vignettes
* creating vignettes ... OK
* excluding invalid files
Subdirectory 'R' contains invalid file names:
  ‘.RData’
* checking for LF line-endings in source and make files and shell scripts
* checking for empty or unneeded directories
* building ‘BioTIP_1.8.0.tar.gz’