Back to Multiple platform build/check report for BioC 3.14
A[B]CDEFGHIJKLMNOPQRSTUVWXYZ

This page was generated on 2022-01-19 13:06:17 -0500 (Wed, 19 Jan 2022).

HostnameOSArch (*)R versionInstalled pkgs
nebbiolo2Linux (Ubuntu 20.04.4 LTS)x86_644.1.2 (2021-11-01) -- "Bird Hippie" 4328
tokay2Windows Server 2012 R2 Standardx644.1.2 (2021-11-01) -- "Bird Hippie" 4077
machv2macOS 10.14.6 Mojavex86_644.1.2 (2021-11-01) -- "Bird Hippie" 4138
Click on any hostname to see more info about the system (e.g. compilers)      (*) as reported by 'uname -p', except on Windows and Mac OS X

BUILD BIN results for BiRewire on tokay2


To the developers/maintainers of the BiRewire package:
- Please allow up to 24 hours (and sometimes 48 hours) for your latest push to git@git.bioconductor.org:packages/BiRewire.git to
reflect on this report. See How and When does the builder pull? When will my changes propagate? here for more information.
- Make sure to use the following settings in order to reproduce any error or warning you see on this page.

raw results

Package 197/2083HostnameOS / ArchINSTALLBUILDCHECKBUILD BIN
BiRewire 3.26.0  (landing page)
Andrea Gobbi
Snapshot Date: 2022-01-18 01:55:07 -0500 (Tue, 18 Jan 2022)
git_url: https://git.bioconductor.org/packages/BiRewire
git_branch: RELEASE_3_14
git_last_commit: 0c583a5
git_last_commit_date: 2021-10-26 12:09:53 -0500 (Tue, 26 Oct 2021)
nebbiolo2Linux (Ubuntu 20.04.4 LTS) / x86_64  OK    OK    WARNINGS  UNNEEDED, same version is already published
tokay2Windows Server 2012 R2 Standard / x64  OK    OK    WARNINGS    OK  UNNEEDED, same version is already published
machv2macOS 10.14.6 Mojave / x86_64  OK    OK    OK    OK  UNNEEDED, same version is already published

Summary

Package: BiRewire
Version: 3.26.0
Command: rm -rf BiRewire.buildbin-libdir && mkdir BiRewire.buildbin-libdir && C:\Users\biocbuild\bbs-3.14-bioc\R\bin\R.exe CMD INSTALL --merge-multiarch --build --library=BiRewire.buildbin-libdir BiRewire_3.26.0.tar.gz
StartedAt: 2022-01-19 05:23:33 -0500 (Wed, 19 Jan 2022)
EndedAt: 2022-01-19 05:23:56 -0500 (Wed, 19 Jan 2022)
EllapsedTime: 23.3 seconds
RetCode: 0
Status:   OK  
PackageFile: BiRewire_3.26.0.zip
PackageFileSize: 726.8 KiB

Command output

##############################################################################
##############################################################################
###
### Running command:
###
###   rm -rf BiRewire.buildbin-libdir && mkdir BiRewire.buildbin-libdir && C:\Users\biocbuild\bbs-3.14-bioc\R\bin\R.exe CMD INSTALL --merge-multiarch --build --library=BiRewire.buildbin-libdir BiRewire_3.26.0.tar.gz
###
##############################################################################
##############################################################################



install for i386

* installing *source* package 'BiRewire' ...
** using staged installation
** libs
"C:/rtools40/mingw32/bin/"gcc  -I"C:/Users/BIOCBU~1/BBS-3~1.14-/R/include" -DNDEBUG     -I"C:/extsoft/include"     -O2 -Wall  -std=gnu99 -mfpmath=sse -msse2 -mstackrealign  -c BiRewire.c -o BiRewire.o
BiRewire.c: In function 'rewire_sparse':
BiRewire.c:1066:16: warning: suggest parentheses around comparison in operand of '&' [-Wparentheses]
   if( a!=c && b!=d & a!=d && c!=b && (( ad==1 && cb==1 )|| (ac==1 && bd==1) )) {
               ~^~~
BiRewire.c: In function 'rewire_sparse_ex':
BiRewire.c:1149:16: warning: suggest parentheses around comparison in operand of '&' [-Wparentheses]
   if( a!=c && b!=d & a!=d && c!=b && (( ad==1 && cb==1 )|| (ac==1 && bd==1) )) {
               ~^~~
"C:/rtools40/mingw32/bin/"gcc  -I"C:/Users/BIOCBU~1/BBS-3~1.14-/R/include" -DNDEBUG     -I"C:/extsoft/include"     -O2 -Wall  -std=gnu99 -mfpmath=sse -msse2 -mstackrealign  -c interface.c -o interface.o
C:/rtools40/mingw32/bin/gcc -shared -s -static-libgcc -o BiRewire.dll tmp.def BiRewire.o interface.o -LC:/extsoft/lib/i386 -LC:/extsoft/lib -LC:/Users/BIOCBU~1/BBS-3~1.14-/R/bin/i386 -lR
installing to C:/Users/biocbuild/bbs-3.14-bioc/meat/BiRewire.buildbin-libdir/00LOCK-BiRewire/00new/BiRewire/libs/i386
** R
** data
** inst
** byte-compile and prepare package for lazy loading
** help
*** installing help indices
  converting help for package 'BiRewire'
    finding HTML links ... done
    BRCA_binary_matrix                      html  
    BiRewire-package                        html  
    birewire.analysis.bipartite             html  
    finding level-2 HTML links ... done

    birewire.analysis.dsg                   html  
    birewire.analysis.undirected            html  
    birewire.bipartite.from.incidence       html  
    birewire.build.dsg                      html  
    birewire.induced.bipartite              html  
    birewire.load.dsg                       html  
    birewire.rewire.bipartite               html  
    birewire.rewire.bipartite.and.projections
                                            html  
    birewire.rewire.dsg                     html  
    birewire.rewire.undirected              html  
    birewire.sampler.bipartite              html  
    birewire.sampler.dsg                    html  
    birewire.sampler.undirected             html  
    birewire.similarity                     html  
    birewire.similarity.dsg                 html  
    birewire.slum.to.sparseMatrix           html  
    birewire.visual.monitoring.bipartite    html  
    birewire.visual.monitoring.dsg          html  
    birewire.visual.monitoring.undirected   html  
    test_dsg                                html  
** building package indices
** installing vignettes
** testing if installed package can be loaded from temporary location
** testing if installed package can be loaded from final location
** testing if installed package keeps a record of temporary installation path

install for x64

* installing *source* package 'BiRewire' ...
** libs
"C:/rtools40/mingw64/bin/"gcc  -I"C:/Users/BIOCBU~1/BBS-3~1.14-/R/include" -DNDEBUG     -I"C:/extsoft/include"     -O2 -Wall  -std=gnu99 -mfpmath=sse -msse2 -mstackrealign  -c BiRewire.c -o BiRewire.o
BiRewire.c: In function 'rewire_sparse':
BiRewire.c:1066:16: warning: suggest parentheses around comparison in operand of '&' [-Wparentheses]
   if( a!=c && b!=d & a!=d && c!=b && (( ad==1 && cb==1 )|| (ac==1 && bd==1) )) {
               ~^~~
BiRewire.c: In function 'rewire_sparse_ex':
BiRewire.c:1149:16: warning: suggest parentheses around comparison in operand of '&' [-Wparentheses]
   if( a!=c && b!=d & a!=d && c!=b && (( ad==1 && cb==1 )|| (ac==1 && bd==1) )) {
               ~^~~
"C:/rtools40/mingw64/bin/"gcc  -I"C:/Users/BIOCBU~1/BBS-3~1.14-/R/include" -DNDEBUG     -I"C:/extsoft/include"     -O2 -Wall  -std=gnu99 -mfpmath=sse -msse2 -mstackrealign  -c interface.c -o interface.o
C:/rtools40/mingw64/bin/gcc -shared -s -static-libgcc -o BiRewire.dll tmp.def BiRewire.o interface.o -LC:/extsoft/lib/x64 -LC:/extsoft/lib -LC:/Users/BIOCBU~1/BBS-3~1.14-/R/bin/x64 -lR
installing to C:/Users/biocbuild/bbs-3.14-bioc/meat/BiRewire.buildbin-libdir/BiRewire/libs/x64
** testing if installed package can be loaded
* MD5 sums
packaged installation of 'BiRewire' as BiRewire_3.26.0.zip
* DONE (BiRewire)