Back to Multiple platform build/check report for BioC 3.14
A[B]CDEFGHIJKLMNOPQRSTUVWXYZ

This page was generated on 2022-01-26 13:07:42 -0500 (Wed, 26 Jan 2022).

HostnameOSArch (*)R versionInstalled pkgs
nebbiolo2Linux (Ubuntu 20.04.4 LTS)x86_644.1.2 (2021-11-01) -- "Bird Hippie" 4329
tokay2Windows Server 2012 R2 Standardx644.1.2 (2021-11-01) -- "Bird Hippie" 4080
machv2macOS 10.14.6 Mojavex86_644.1.2 (2021-11-01) -- "Bird Hippie" 4141
Click on any hostname to see more info about the system (e.g. compilers)      (*) as reported by 'uname -p', except on Windows and Mac OS X

BUILD BIN results for BiRewire on machv2


To the developers/maintainers of the BiRewire package:
- Please allow up to 24 hours (and sometimes 48 hours) for your latest push to git@git.bioconductor.org:packages/BiRewire.git to
reflect on this report. See How and When does the builder pull? When will my changes propagate? here for more information.
- Make sure to use the following settings in order to reproduce any error or warning you see on this page.

raw results

Package 197/2083HostnameOS / ArchINSTALLBUILDCHECKBUILD BIN
BiRewire 3.26.0  (landing page)
Andrea Gobbi
Snapshot Date: 2022-01-25 01:55:07 -0500 (Tue, 25 Jan 2022)
git_url: https://git.bioconductor.org/packages/BiRewire
git_branch: RELEASE_3_14
git_last_commit: 0c583a5
git_last_commit_date: 2021-10-26 12:09:53 -0500 (Tue, 26 Oct 2021)
nebbiolo2Linux (Ubuntu 20.04.4 LTS) / x86_64  OK    OK    WARNINGS  UNNEEDED, same version is already published
tokay2Windows Server 2012 R2 Standard / x64  OK    OK    WARNINGS    OK  UNNEEDED, same version is already published
machv2macOS 10.14.6 Mojave / x86_64  OK    OK    OK    OK  UNNEEDED, same version is already published

Summary

Package: BiRewire
Version: 3.26.0
Command: rm -rf BiRewire.buildbin-libdir && mkdir BiRewire.buildbin-libdir && /Users/biocbuild/BBS/utils/build-universal.sh BiRewire_3.26.0.tar.gz /Library/Frameworks/R.framework/Resources/bin/R BiRewire.buildbin-libdir
StartedAt: 2022-01-25 19:59:55 -0500 (Tue, 25 Jan 2022)
EndedAt: 2022-01-25 20:00:10 -0500 (Tue, 25 Jan 2022)
EllapsedTime: 14.9 seconds
RetCode: 0
Status:   OK  
PackageFile: BiRewire_3.26.0.tgz
PackageFileSize: 633.1 KiB

Command output

##############################################################################
##############################################################################
###
### Running command:
###
###   rm -rf BiRewire.buildbin-libdir && mkdir BiRewire.buildbin-libdir && /Users/biocbuild/BBS/utils/build-universal.sh BiRewire_3.26.0.tar.gz /Library/Frameworks/R.framework/Resources/bin/R BiRewire.buildbin-libdir
###
##############################################################################
##############################################################################


>>>>>>> 
>>>>>>> INSTALLATION WITH 'R CMD INSTALL --preclean --no-multiarch --library=BiRewire.buildbin-libdir BiRewire_3.26.0.tar.gz'
>>>>>>> 

* installing *source* package ‘BiRewire’ ...
** using staged installation
** libs
clang -mmacosx-version-min=10.13 -I"/Library/Frameworks/R.framework/Resources/include" -DNDEBUG   -I/usr/local/include   -fPIC  -Wall -g -O2  -c BiRewire.c -o BiRewire.o
clang -mmacosx-version-min=10.13 -I"/Library/Frameworks/R.framework/Resources/include" -DNDEBUG   -I/usr/local/include   -fPIC  -Wall -g -O2  -c interface.c -o interface.o
clang -mmacosx-version-min=10.13 -dynamiclib -Wl,-headerpad_max_install_names -undefined dynamic_lookup -single_module -multiply_defined suppress -L/Library/Frameworks/R.framework/Resources/lib -L/usr/local/lib -o BiRewire.so BiRewire.o interface.o -F/Library/Frameworks/R.framework/.. -framework R -Wl,-framework -Wl,CoreFoundation
installing to /Users/biocbuild/bbs-3.14-bioc/meat/BiRewire.buildbin-libdir/00LOCK-BiRewire/00new/BiRewire/libs
** R
** data
** inst
** byte-compile and prepare package for lazy loading
** help
*** installing help indices
** building package indices
** installing vignettes
** testing if installed package can be loaded from temporary location
** checking absolute paths in shared objects and dynamic libraries
** testing if installed package can be loaded from final location
** testing if installed package keeps a record of temporary installation path
* DONE (BiRewire)


>>>>>>> 
>>>>>>> FIXING LINKS FOR BiRewire.buildbin-libdir/BiRewire/libs/BiRewire.so
>>>>>>> 

install_name_tool -change "/usr/local/lib/libgcc_s.1.dylib" "/Library/Frameworks/R.framework/Versions/4.1/Resources/lib/libgcc_s.1.dylib" "BiRewire.buildbin-libdir/BiRewire/libs/BiRewire.so"
install_name_tool -change "/usr/local/lib/libgfortran.5.dylib" "/Library/Frameworks/R.framework/Versions/4.1/Resources/lib/libgfortran.5.dylib" "BiRewire.buildbin-libdir/BiRewire/libs/BiRewire.so"
install_name_tool -change "/usr/local/lib/libquadmath.0.dylib" "/Library/Frameworks/R.framework/Versions/4.1/Resources/lib/libquadmath.0.dylib" "BiRewire.buildbin-libdir/BiRewire/libs/BiRewire.so"