Back to Multiple platform build/check report for BioC 3.14
[A]BCDEFGHIJKLMNOPQRSTUVWXYZ

This page was generated on 2022-01-26 13:06:11 -0500 (Wed, 26 Jan 2022).

HostnameOSArch (*)R versionInstalled pkgs
nebbiolo2Linux (Ubuntu 20.04.4 LTS)x86_644.1.2 (2021-11-01) -- "Bird Hippie" 4329
tokay2Windows Server 2012 R2 Standardx644.1.2 (2021-11-01) -- "Bird Hippie" 4080
machv2macOS 10.14.6 Mojavex86_644.1.2 (2021-11-01) -- "Bird Hippie" 4141
Click on any hostname to see more info about the system (e.g. compilers)      (*) as reported by 'uname -p', except on Windows and Mac OS X

INSTALL results for AnVILBilling on tokay2


To the developers/maintainers of the AnVILBilling package:
- Please allow up to 24 hours (and sometimes 48 hours) for your latest push to git@git.bioconductor.org:packages/AnVILBilling.git to
reflect on this report. See How and When does the builder pull? When will my changes propagate? here for more information.
- Make sure to use the following settings in order to reproduce any error or warning you see on this page.

raw results

Package 71/2083HostnameOS / ArchINSTALLBUILDCHECKBUILD BIN
AnVILBilling 1.4.0  (landing page)
Vince Carey
Snapshot Date: 2022-01-25 01:55:07 -0500 (Tue, 25 Jan 2022)
git_url: https://git.bioconductor.org/packages/AnVILBilling
git_branch: RELEASE_3_14
git_last_commit: 54f05b3
git_last_commit_date: 2021-10-26 13:04:23 -0500 (Tue, 26 Oct 2021)
nebbiolo2Linux (Ubuntu 20.04.4 LTS) / x86_64  OK    OK    OK  UNNEEDED, same version is already published
tokay2Windows Server 2012 R2 Standard / x64  OK    OK    OK    OK  UNNEEDED, same version is already published
machv2macOS 10.14.6 Mojave / x86_64  OK    OK    OK    OK  UNNEEDED, same version is already published

Summary

Package: AnVILBilling
Version: 1.4.0
Command: C:\cygwin\bin\curl.exe -O http://155.52.207.166/BBS/3.14/bioc/src/contrib/AnVILBilling_1.4.0.tar.gz && rm -rf AnVILBilling.buildbin-libdir && mkdir AnVILBilling.buildbin-libdir && C:\Users\biocbuild\bbs-3.14-bioc\R\bin\R.exe CMD INSTALL --merge-multiarch --build --library=AnVILBilling.buildbin-libdir AnVILBilling_1.4.0.tar.gz && C:\Users\biocbuild\bbs-3.14-bioc\R\bin\R.exe CMD INSTALL AnVILBilling_1.4.0.zip && rm AnVILBilling_1.4.0.tar.gz AnVILBilling_1.4.0.zip
StartedAt: 2022-01-25 06:54:43 -0500 (Tue, 25 Jan 2022)
EndedAt: 2022-01-25 06:55:25 -0500 (Tue, 25 Jan 2022)
EllapsedTime: 41.8 seconds
RetCode: 0
Status:   OK  

Command output

##############################################################################
##############################################################################
###
### Running command:
###
###   C:\cygwin\bin\curl.exe -O http://155.52.207.166/BBS/3.14/bioc/src/contrib/AnVILBilling_1.4.0.tar.gz && rm -rf AnVILBilling.buildbin-libdir && mkdir AnVILBilling.buildbin-libdir && C:\Users\biocbuild\bbs-3.14-bioc\R\bin\R.exe CMD INSTALL --merge-multiarch --build --library=AnVILBilling.buildbin-libdir AnVILBilling_1.4.0.tar.gz && C:\Users\biocbuild\bbs-3.14-bioc\R\bin\R.exe CMD INSTALL AnVILBilling_1.4.0.zip && rm AnVILBilling_1.4.0.tar.gz AnVILBilling_1.4.0.zip
###
##############################################################################
##############################################################################


  % Total    % Received % Xferd  Average Speed   Time    Time     Time  Current
                                 Dload  Upload   Total   Spent    Left  Speed

  0     0    0     0    0     0      0      0 --:--:-- --:--:-- --:--:--     0
100  532k  100  532k    0     0  1418k      0 --:--:-- --:--:-- --:--:-- 1422k

install for i386

* installing *source* package 'AnVILBilling' ...
** using staged installation
** R
** data
*** moving datasets to lazyload DB
** inst
** byte-compile and prepare package for lazy loading
** help
*** installing help indices
  converting help for package 'AnVILBilling'
    finding HTML links ... done
    ab_reckoning                            html  
    browse_reck                             html  
    browse_reck2                            html  
    demo_rec                                html  
    getBilling                              html  
    getKeys                                 html  
    getSkus                                 html  
    getSubmissionCost                       html  
    getSubmissionRam                        html  
    getValues                               html  
    reckon                                  html  
    reckoning-avReckoning-method            html  
    reckoning                               html  
    setup_billing_request                   html  
    subsetByKeyValue                        html  
    subsetBySku                             html  
** building package indices
** installing vignettes
** testing if installed package can be loaded from temporary location
** testing if installed package can be loaded from final location
** testing if installed package keeps a record of temporary installation path

install for x64

* installing *source* package 'AnVILBilling' ...
** testing if installed package can be loaded
* MD5 sums
packaged installation of 'AnVILBilling' as AnVILBilling_1.4.0.zip
* DONE (AnVILBilling)
* installing to library 'C:/Users/biocbuild/bbs-3.14-bioc/R/library'
package 'AnVILBilling' successfully unpacked and MD5 sums checked