Index of /checkResults/release/workflows-LATEST/spicyWorkflow/raw-results

[ICO]NameLast modifiedSizeDescription

[DIR]Parent Directory  -  
[DIR]palomino4/27-Mar-2024 03:00 -  
[DIR]nebbiolo2/27-Mar-2024 03:00 -  
[DIR]merida1/27-Mar-2024 03:00 -  
[DIR]lconway/02-Mar-2024 04:00 -  
[   ]info.dcf27-Mar-2024 03:00 297