Index of /checkResults/release/workflows-LATEST/spicyWorkflow/raw-results/lconway

[ICO]NameLast modifiedSizeDescription

[DIR]Parent Directory  -  
[TXT]buildsrc-out.txt02-Mar-2024 04:00 1.1K 
[   ]buildsrc-summary.dcf02-Mar-2024 04:00 355  
[TXT]install-out.txt02-Mar-2024 04:00 1.0K 
[   ]install-summary.dcf02-Mar-2024 04:00 279