Index of /checkResults/release/workflows-LATEST/simpleSingleCell/raw-results
Name
Last modified
Size
Description
Parent Directory
-
info.dcf
27-Mar-2024 03:00
307
lconway/
02-Mar-2024 04:00
-
merida1/
27-Mar-2024 03:00
-
nebbiolo2/
27-Mar-2024 03:00
-