Index of /checkResults/release/workflows-LATEST/simpleSingleCell/raw-results/merida1
Name
Last modified
Size
Description
Parent Directory
-
buildsrc-out.txt
04-Oct-2023 03:00
892
buildsrc-summary.dcf
04-Oct-2023 03:00
454
install-out.txt
04-Oct-2023 03:00
1.0K
install-summary.dcf
04-Oct-2023 03:00
287