Index of /checkResults/release/workflows-LATEST/rnaseqDTU/raw-results/palomino7
Name
Last modified
Size
Description
Parent Directory
-
buildsrc-summary.dcf
10-Jul-2024 05:30
461
install-out.txt
10-Jul-2024 05:30
1.0K
install-summary.dcf
10-Jul-2024 05:30
272
buildsrc-out.txt
10-Jul-2024 05:30
849