Index of /checkResults/release/workflows-LATEST/rnaseqDTU/raw-results/merida1
Name
Last modified
Size
Description
Parent Directory
-
install-summary.dcf
10-Jul-2024 05:30
273
buildsrc-summary.dcf
10-Jul-2024 05:30
434
buildsrc-out.txt
10-Jul-2024 05:30
824
install-out.txt
10-Jul-2024 05:30
1.0K