Index of /checkResults/release/workflows-LATEST/rnaseqDTU/raw-results/lconway
Name
Last modified
Size
Description
Parent Directory
-
install-summary.dcf
12-Jun-2024 05:30
273
install-out.txt
12-Jun-2024 05:30
1.0K
buildsrc-summary.dcf
12-Jun-2024 05:30
434
buildsrc-out.txt
12-Jun-2024 05:30
824