Index of /checkResults/release/workflows-LATEST/methylationArrayAnalysis/raw-results/palomino7
Name
Last modified
Size
Description
Parent Directory
-
buildsrc-out.txt
10-Jul-2024 05:30
1.0K
buildsrc-summary.dcf
10-Jul-2024 05:30
521
install-out.txt
10-Jul-2024 05:30
1.0K
install-summary.dcf
10-Jul-2024 05:30
303