Index of /checkResults/release/workflows-LATEST/methylationArrayAnalysis/raw-results/palomino3
Name
Last modified
Size
Description
Parent Directory
-
buildsrc-summary.dcf
29-Jun-2024 05:30
522
install-out.txt
29-Jun-2024 05:30
1.1K
install-summary.dcf
29-Jun-2024 05:30
303
buildsrc-out.txt
29-Jun-2024 05:30
1.0K