Index of /checkResults/release/workflows-LATEST/methylationArrayAnalysis/raw-results/lconway
Name
Last modified
Size
Description
Parent Directory
-
buildsrc-out.txt
12-Jun-2024 05:30
958
buildsrc-summary.dcf
12-Jun-2024 05:30
479
install-out.txt
12-Jun-2024 05:30
1.0K
install-summary.dcf
12-Jun-2024 05:30
304