Index of /checkResults/release/workflows-LATEST/methylationArrayAnalysis/raw-results
Name
Last modified
Size
Description
Parent Directory
-
merida1/
10-Jul-2024 05:30
-
palomino7/
10-Jul-2024 05:30
-
nebbiolo1/
10-Jul-2024 05:30
-
info.dcf
10-Jul-2024 05:30
319
palomino3/
29-Jun-2024 05:30
-
lconway/
12-Jun-2024 05:30
-