Index of /checkResults/release/workflows-LATEST/highthroughputassays/raw-results
Name
Last modified
Size
Description
Parent Directory
-
info.dcf
26-Jun-2024 05:30
323
nebbiolo1/
26-Jun-2024 05:30
-