Index of /checkResults/release/workflows-LATEST/CAGEWorkflow/raw-results
Name
Last modified
Size
Description
Parent Directory
-
info.dcf
04-May-2024 03:00
286
lconway/
04-May-2024 03:00
-
merida1/
02-Mar-2024 04:00
-
nebbiolo1/
04-May-2024 03:00
-