Back to Build/check report for BioC 3.18 experimental data
ABCDEFGHIJKLMNOPQRSTUVWX[Y]Z

This page was generated on 2024-02-29 14:52:02 -0500 (Thu, 29 Feb 2024).

HostnameOSArch (*)R versionInstalled pkgs
nebbiolo2Linux (Ubuntu 22.04.3 LTS)x86_644.3.2 Patched (2023-11-13 r85521) -- "Eye Holes" 4692
Click on any hostname to see more info about the system (e.g. compilers)      (*) as reported by 'uname -p', except on Windows and Mac OS X

Package 427/429HostnameOS / ArchINSTALLBUILDCHECK
yeastNagalakshmi 1.38.0  (landing page)
Bioconductor Package Maintainer
Snapshot Date: 2024-02-29 07:30:02 -0500 (Thu, 29 Feb 2024)
git_url: https://git.bioconductor.org/packages/yeastNagalakshmi
git_branch: RELEASE_3_18
git_last_commit: 1687f8e
git_last_commit_date: 2023-10-24 08:57:26 -0500 (Tue, 24 Oct 2023)
nebbiolo2Linux (Ubuntu 22.04.3 LTS) / x86_64  OK    OK    OK  UNNEEDED, same version is already published

INSTALL results for yeastNagalakshmi on nebbiolo2


To the developers/maintainers of the yeastNagalakshmi package:
- Use the following Renviron settings to reproduce errors and warnings.
- If 'R CMD check' started to fail recently on the Linux builder(s) over a missing dependency, add the missing dependency to 'Suggests:' in your DESCRIPTION file. See Renviron.bioc for more information.

raw results


Summary

Package: yeastNagalakshmi
Version: 1.38.0
Command: /home/biocbuild/bbs-3.18-bioc/R/bin/R CMD INSTALL yeastNagalakshmi
StartedAt: 2024-02-29 10:00:43 -0500 (Thu, 29 Feb 2024)
EndedAt: 2024-02-29 10:00:44 -0500 (Thu, 29 Feb 2024)
EllapsedTime: 0.9 seconds
RetCode: 0
Status:   OK  

Command output

##############################################################################
##############################################################################
###
### Running command:
###
###   /home/biocbuild/bbs-3.18-bioc/R/bin/R CMD INSTALL yeastNagalakshmi
###
##############################################################################
##############################################################################


* installing to library ‘/home/biocbuild/bbs-3.18-bioc/R/site-library’
* installing *source* package ‘yeastNagalakshmi’ ...
** using staged installation
** inst
** help
*** installing help indices
** building package indices
** testing if installed package can be loaded from temporary location
** testing if installed package can be loaded from final location
** testing if installed package keeps a record of temporary installation path
* DONE (yeastNagalakshmi)