Index of /checkResults/release/data-experiment-LATEST/tinesath1probe/raw-results

[ICO]NameLast modifiedSizeDescription

[DIR]Parent Directory  -  
[DIR]nebbiolo1/22-May-2024 03:51 -  
[   ]info.dcf22-May-2024 03:51 279