Index of /checkResults/release/data-experiment-LATEST/tinesath1probe/raw-results/nebbiolo1

[ICO]NameLast modifiedSizeDescription

[DIR]Parent Directory  -  
[TXT]buildsrc-out.txt21-Jun-2024 03:51 825  
[   ]buildsrc-summary.dcf21-Jun-2024 03:51 437  
[TXT]checksrc-out.txt21-Jun-2024 03:51 2.9K 
[   ]checksrc-summary.dcf21-Jun-2024 03:51 447  
[TXT]install-out.txt21-Jun-2024 03:51 891  
[   ]install-summary.dcf21-Jun-2024 03:51 272