Back to Multiple platform build/check report for BioC 3.12 experimental data
ABCDEFGHIJKLMN[O]PQRSTUVWXYZ

Multiple platform build/check report for BioC 3.12 experimental data

Results for optimalFlowData

This page was generated on 2020-11-26 14:09:58 -0500 (Thu, 26 Nov 2020).

Package 261/398HostnameOS / ArchINSTALLBUILDCHECK
optimalFlowData 1.2.0
Hristo Inouzhe
Snapshot Date: 2020-11-26 09:00:18 -0500 (Thu, 26 Nov 2020)
URL: https://git.bioconductor.org/packages/optimalFlowData
Branch: RELEASE_3_12
Last Commit: 930e8b9
Last Changed Date: 2020-10-27 10:31:47 -0500 (Tue, 27 Oct 2020)
malbec1 Linux (Ubuntu 18.04.4 LTS) / x86_64  OK  OK  OK UNNEEDED, same version exists in internal repository
nebbiolo1 Linux (Ubuntu 20.04.1 LTS) / x86_64  OK  OK  OK