Back to Multiple platform build/check report for BioC 3.12 experimental data
ABCDEFGHIJKLMN[O]PQRSTUVWXYZ

BUILD report for optimalFlowData on nebbiolo1

This page was generated on 2021-01-14 14:10:34 -0500 (Thu, 14 Jan 2021).

TO THE DEVELOPERS/MAINTAINERS OF THE optimalFlowData PACKAGE: Please make sure to use the following settings in order to reproduce any error or warning you see on this page.
Package 261/398HostnameOS / ArchINSTALLBUILDCHECK
optimalFlowData 1.2.0
Hristo Inouzhe
Snapshot Date: 2021-01-14 09:00:17 -0500 (Thu, 14 Jan 2021)
URL: https://git.bioconductor.org/packages/optimalFlowData
Branch: RELEASE_3_12
Last Commit: 930e8b9
Last Changed Date: 2020-10-27 10:31:47 -0500 (Tue, 27 Oct 2020)
malbec1 Linux (Ubuntu 18.04.5 LTS) / x86_64  OK  OK  OK UNNEEDED, same version exists in internal repository
nebbiolo1 Linux (Ubuntu 20.04.1 LTS) / x86_64  OK [ OK ] OK 

Summary

Package: optimalFlowData
Version: 1.2.0
Command: /home/biocbuild/bbs-3.12-bioc/R/bin/R CMD build --keep-empty-dirs --no-resave-data optimalFlowData
StartedAt: 2021-01-14 10:32:49 -0500 (Thu, 14 Jan 2021)
EndedAt: 2021-01-14 10:33:59 -0500 (Thu, 14 Jan 2021)
EllapsedTime: 69.4 seconds
RetCode: 0
Status:  OK 
PackageFile: optimalFlowData_1.2.0.tar.gz
PackageFileSize: 75.85 MiB

Command output

##############################################################################
##############################################################################
###
### Running command:
###
###   /home/biocbuild/bbs-3.12-bioc/R/bin/R CMD build --keep-empty-dirs --no-resave-data optimalFlowData
###
##############################################################################
##############################################################################


* checking for file ‘optimalFlowData/DESCRIPTION’ ... OK
* preparing ‘optimalFlowData’:
* checking DESCRIPTION meta-information ... OK
* installing the package to build vignettes
* creating vignettes ... OK
* checking for LF line-endings in source and make files and shell scripts
* checking for empty or unneeded directories
* building ‘optimalFlowData_1.2.0.tar.gz’