Back to Build/check report for BioC 3.14 experimental data
ABCDEFGHIJKL[M]NOPQRSTUVWXYZ

This page was generated on 2021-10-26 15:52:18 -0400 (Tue, 26 Oct 2021).

All results for package mtbls2

To the developers/maintainers of the mtbls2 package:
Make sure to use the following settings in order to reproduce any error or warning you see on this page.

raw results

Package 248/408HostnameOS / ArchINSTALLBUILDCHECK
mtbls2 1.23.4  (landing page)
Steffen Neumann
Snapshot Date: 2021-10-26 09:30:02 -0400 (Tue, 26 Oct 2021)
git_url: https://git.bioconductor.org/packages/mtbls2
git_branch: master
git_last_commit: 53dd62d
git_last_commit_date: 2021-10-09 17:21:16 -0400 (Sat, 09 Oct 2021)
nebbiolo2Linux (Ubuntu 20.04.2 LTS) / x86_64  OK    OK    WARNINGS  UNNEEDED, same version is already published