Index of /checkResults/release/data-experiment-LATEST/mtbls2/raw-results

[ICO]NameLast modifiedSizeDescription

[DIR]Parent Directory  -  
[   ]info.dcf25-Nov-2021 08:35 273  
[DIR]nebbiolo2/25-Nov-2021 08:35 -