Index of /checkResults/release/data-experiment-LATEST/msd16s/raw-results/nebbiolo2

[ICO]NameLast modifiedSizeDescription

[DIR]Parent Directory  -  
[TXT]buildsrc-out.txt23-Feb-2024 04:52 802  
[   ]buildsrc-summary.dcf23-Feb-2024 04:52 414  
[TXT]checksrc-out.txt23-Feb-2024 04:52 2.9K 
[   ]checksrc-summary.dcf23-Feb-2024 04:52 409  
[TXT]install-out.txt23-Feb-2024 04:52 934  
[   ]install-summary.dcf23-Feb-2024 04:52 256