Index of /checkResults/release/data-experiment-LATEST/msd16s/raw-results
Name
Last modified
Size
Description
Parent Directory
-
info.dcf
27-Mar-2024 03:51
277
nebbiolo2/
27-Mar-2024 03:51
-