Index of /checkResults/release/data-experiment-LATEST/hapmap500knsp/raw-results/nebbiolo1

[ICO]NameLast modifiedSizeDescription

[DIR]Parent Directory  -  
[TXT]buildsrc-out.txt21-Jun-2024 03:51 758  
[   ]buildsrc-summary.dcf21-Jun-2024 03:51 436  
[TXT]checksrc-out.txt21-Jun-2024 03:51 3.1K 
[   ]checksrc-summary.dcf21-Jun-2024 03:51 437  
[TXT]install-out.txt21-Jun-2024 03:51 946  
[   ]install-summary.dcf21-Jun-2024 03:51 270