Index of /checkResults/release/data-experiment-LATEST/hapmap500knsp/raw-results/nebbiolo1

[ICO]NameLast modifiedSizeDescription

[DIR]Parent Directory  -  
[   ]install-summary.dcf24-Jul-2024 03:51 270  
[TXT]install-out.txt24-Jul-2024 03:51 946  
[   ]checksrc-summary.dcf24-Jul-2024 03:51 437  
[TXT]checksrc-out.txt24-Jul-2024 03:51 3.1K 
[   ]buildsrc-summary.dcf24-Jul-2024 03:51 436  
[TXT]buildsrc-out.txt24-Jul-2024 03:51 758